BEGIN:VCALENDAR
VERSION:2.0
PRODID:-//Il Trentino dei Bambini - ECPv6.13.2//NONSGML v1.0//EN
CALSCALE:GREGORIAN
METHOD:PUBLISH
X-WR-CALNAME:Il Trentino dei Bambini
X-ORIGINAL-URL:https://www.iltrentinodeibambini.it
X-WR-CALDESC:Eventi per Il Trentino dei Bambini
REFRESH-INTERVAL;VALUE=DURATION:PT1H
X-Robots-Tag:noindex
X-PUBLISHED-TTL:PT1H
BEGIN:VTIMEZONE
TZID:Europe/Rome
BEGIN:DAYLIGHT
TZOFFSETFROM:+0100
TZOFFSETTO:+0200
TZNAME:CEST
DTSTART:20250330T010000
END:DAYLIGHT
BEGIN:STANDARD
TZOFFSETFROM:+0200
TZOFFSETTO:+0100
TZNAME:CET
DTSTART:20251026T010000
END:STANDARD
END:VTIMEZONE
BEGIN:VEVENT
DTSTART;TZID=Europe/Rome:20250512T163000
DTEND;TZID=Europe/Rome:20250512T173000
DTSTAMP:20260425T012220
CREATED:20250331T082751Z
LAST-MODIFIED:20250331T082751Z
UID:10018088-1747067400-1747071000@www.iltrentinodeibambini.it
SUMMARY:Leggiamo una storia
DESCRIPTION:Lettura ad alta voce per bambini e bambine dai 3 anni a cura delle ragazze in Servizio Civile. \n\nQuando: 7 e 29 aprile | 12 e 27 maggio 2025 alle ore 16.30\nDove: biblioteca dell’argentario – Cognola\nCosto: partecipazione gratuita\nInfo: 0461.889797 | biblioteca.argentario@comune.trento.it\n\nScoprite tutti gli appuntamenti per bambini e ragazzi nelle biblioteche del comune di Trento QUI.
URL:https://www.iltrentinodeibambini.it/eventi/leggiamo-una-storia/2025-05-12/
LOCATION:biblioteca dell’Argentario\, Via Carlo e Valeria Julg\, 13\, Trento
CATEGORIES:In biblioteca
END:VEVENT
END:VCALENDAR