BEGIN:VCALENDAR
VERSION:2.0
PRODID:-//Il Trentino dei Bambini - ECPv6.13.2//NONSGML v1.0//EN
CALSCALE:GREGORIAN
METHOD:PUBLISH
X-ORIGINAL-URL:https://www.iltrentinodeibambini.it
X-WR-CALDESC:Eventi per Il Trentino dei Bambini
REFRESH-INTERVAL;VALUE=DURATION:PT1H
X-Robots-Tag:noindex
X-PUBLISHED-TTL:PT1H
BEGIN:VTIMEZONE
TZID:Europe/Rome
BEGIN:DAYLIGHT
TZOFFSETFROM:+0100
TZOFFSETTO:+0200
TZNAME:CEST
DTSTART:20250330T010000
END:DAYLIGHT
BEGIN:STANDARD
TZOFFSETFROM:+0200
TZOFFSETTO:+0100
TZNAME:CET
DTSTART:20251026T010000
END:STANDARD
END:VTIMEZONE
BEGIN:VEVENT
DTSTART;TZID=Europe/Rome:20250513T100000
DTEND;TZID=Europe/Rome:20250513T170000
DTSTAMP:20260425T023455
CREATED:20250412T213902Z
LAST-MODIFIED:20250412T213902Z
UID:10018261-1747130400-1747155600@www.iltrentinodeibambini.it
SUMMARY:A cavallo sulle orme dei Romani
DESCRIPTION:Una passeggiata a cavallo lungo il sentiero archeologico di Cavedine\, ideale per chi vuole avvicinarsi all’equitazione. Assieme a una guida esperta\, seguirai il Sentiero Archeologico di Cavedine\, tra boschi\, tracce dell’antica\nvia romana e viste aperte sulla valle. Prima di partire\, avrai modo di prendere confidenza con il cavallo in arena\, così da affrontare l’escursione in tutta serenità. \n\nQUANDO:  il martedì\, giovedì e sabato alle ore 10.00 e alle ore 15.00 fino al 31 maggio 2025\nDURATA: 2 ore\nADATTO A: L’attività è adatta a partire dai 9 anni\, anche per principianti. Non accessibile a persone con disabilità motorie\, visive o uditive.\nCOSTO: adulti 50 euro\, 9-11 anni 40 euro. Sconto per possessori Garda Guest Card\nABBIGLIAMENTO: Il caschetto te lo forniamo noi: tu porta pantaloni lunghi\, scarpe da trekking\nPRENOTAZIONI: clicca QUI per iscriverti\n\nInfo: Roncher Ranch\, tel. 342.6671777 \n 
URL:https://www.iltrentinodeibambini.it/eventi/a-cavallo-sulle-orme-dei-romani/2025-05-13/
LOCATION:Roncher Ranch\, Località Salin\, Cavedine\, TN\, Italia
CATEGORIES:In fattoria,Visite guidate
END:VEVENT
BEGIN:VEVENT
DTSTART;TZID=Europe/Rome:20250513T110000
DTEND;TZID=Europe/Rome:20250513T180000
DTSTAMP:20260425T023455
CREATED:20250430T131013Z
LAST-MODIFIED:20250430T131013Z
UID:10019036-1747134000-1747159200@www.iltrentinodeibambini.it
SUMMARY:Muse: FunLab
DESCRIPTION:Esplora questo spazio dove creatività e apprendimento si fondono in coinvolgenti attività. Scegli una delle scatole\, aprila e lasciati sorprendere dal suo contenuto. Sperimenta materiali e strumenti per creare e costruire soluzioni fantasiose che stimolano l’ingegno. \n\nQuando: tutte le domeniche di maggio (domenica 11 solo dalle 11.00 alle 13.00) e anche l’1\, 2 e 24 maggio e 2025 dalle ore 11.00 alle 13.00 e dalle 14.00 alle 18.00\nDove: Muse | FabLab\nCosto: compreso nel biglietto d’ingresso che potete acquistate QUI\nInfo: bambini accompagnati da un adulto
URL:https://www.iltrentinodeibambini.it/eventi/muse-fablab-2-2-2-2/2025-05-13/
LOCATION:MUSE\, Italia
CATEGORIES:Al Museo
GEO:46.0700915;11.1197626
END:VEVENT
END:VCALENDAR