BEGIN:VCALENDAR
VERSION:2.0
PRODID:-//Il Trentino dei Bambini - ECPv6.13.2//NONSGML v1.0//EN
CALSCALE:GREGORIAN
METHOD:PUBLISH
X-ORIGINAL-URL:https://www.iltrentinodeibambini.it
X-WR-CALDESC:Eventi per Il Trentino dei Bambini
REFRESH-INTERVAL;VALUE=DURATION:PT1H
X-Robots-Tag:noindex
X-PUBLISHED-TTL:PT1H
BEGIN:VTIMEZONE
TZID:Europe/Rome
BEGIN:DAYLIGHT
TZOFFSETFROM:+0100
TZOFFSETTO:+0200
TZNAME:CEST
DTSTART:20250330T010000
END:DAYLIGHT
BEGIN:STANDARD
TZOFFSETFROM:+0200
TZOFFSETTO:+0100
TZNAME:CET
DTSTART:20251026T010000
END:STANDARD
END:VTIMEZONE
BEGIN:VEVENT
DTSTART;TZID=Europe/Rome:20250516T143000
DTEND;TZID=Europe/Rome:20250516T180000
DTSTAMP:20260425T023456
CREATED:20250505T124119Z
LAST-MODIFIED:20250505T124119Z
UID:10019065-1747405800-1747418400@www.iltrentinodeibambini.it
SUMMARY:Spazio giochi da tavolo
DESCRIPTION:Uno spazio dedicato a chi ha voglia di cimentarsi con i giochi da tavolo\, senza limiti d’età. \n\nQuando: tutti i venerdì dalle ore 14.30\nDove: biblioteca comunale di Povo\nCosto: partecipazione libera e gratuita\nInfo: tel. 0461-889918\n\nScoprite tutti gli eventi per bambini e ragazzi nelle biblioteche comunali di Trento QUI.
URL:https://www.iltrentinodeibambini.it/eventi/spazio-giochi-da-tavolo-3-2-2-2-2/2025-05-16/
LOCATION:biblioteca di Povo\, Via Don Tommaso Dallafior
CATEGORIES:In biblioteca
END:VEVENT
BEGIN:VEVENT
DTSTART;TZID=Europe/Rome:20250516T150000
DTEND;TZID=Europe/Rome:20250516T180000
DTSTAMP:20260425T023456
CREATED:20250513T112251Z
LAST-MODIFIED:20250513T112251Z
UID:10019186-1747407600-1747418400@www.iltrentinodeibambini.it
SUMMARY:Piazza del Volontariato: letture per bambini
DESCRIPTION:In occasione della Piazza del Volontariato letture per bambine e bambini a tema\, a cura della Biblioteca Comunale di Trento. \n\nQuando: giovedì 15 \, venerdì 16 e sabato 17 maggio 2025 alle ore 15.00\, 16.00 e 17.00\nDove: Piazza Duomo – Trento\nCosto: partecipazione libera e gratuita\nInfo: tel. 0461.889521 – info@bibcom.trento.it\n\nScoprite tutte le attività per bambini e ragazzi nelle biblioteche del comune di Trento QUI.
URL:https://www.iltrentinodeibambini.it/eventi/piazza-del-volontariato-letture-per-bambini/2025-05-16/
LOCATION:Piazza Duomo\, PIazza Duomo\, Trento
CATEGORIES:Eventi speciali
GEO:46.0673727;11.1214605
X-APPLE-STRUCTURED-LOCATION;VALUE=URI;X-ADDRESS=Piazza Duomo PIazza Duomo Trento;X-APPLE-RADIUS=500;X-TITLE=PIazza Duomo:geo:11.1214605,46.0673727
END:VEVENT
BEGIN:VEVENT
DTSTART;TZID=Europe/Rome:20250516T163000
DTEND;TZID=Europe/Rome:20250516T173000
DTSTAMP:20260425T023456
CREATED:20250513T075833Z
LAST-MODIFIED:20250513T075833Z
UID:10019183-1747413000-1747416600@www.iltrentinodeibambini.it
SUMMARY:Leggiamo una storia
DESCRIPTION:Lettura ad alta voce per bambini e bambine dai 3 anni a cura delle ragazze in Servizio Civile. \n\nQuando: 16 maggio e 17 giugno 2025 alle ore 16.30\nDove: biblioteca comunale di Gardolo\nCosto: partecipazione gratuita\nInfo: 0461.889815 | biblioteca.gardolo@comune.trento.it\n\nScoprite tutti gli appuntamenti per bambini e ragazzi nelle biblioteche del comune di Trento QUI.
URL:https://www.iltrentinodeibambini.it/eventi/leggiamo-una-storia-2-2/2025-05-16/
LOCATION:Biblioteca di Gardolo\, Piazza Lionello Groff\, 2\, Gardolo 
CATEGORIES:In biblioteca
END:VEVENT
BEGIN:VEVENT
DTSTART;TZID=Europe/Rome:20250516T163000
DTEND;TZID=Europe/Rome:20250516T180000
DTSTAMP:20260425T023456
CREATED:20250122T113215Z
LAST-MODIFIED:20250514T083725Z
UID:10015927-1747413000-1747418400@www.iltrentinodeibambini.it
SUMMARY:Venerdì in biblioteca
DESCRIPTION:Il progetto “al mio fianco” per i bambin* della scuola primaria propone un pomeriggio di lettura\, racconti e disegni. \n\nQuando: venerdì 11 aprile 2025 dalle ore 16.20\nDove: biblioteca comunale – Vallarsa\nCosto: partecipazione gratuita\nInfo: prenotazione gradita tel. 0464.869048
URL:https://www.iltrentinodeibambini.it/eventi/venerdi-in-biblioteca-2/
LOCATION:Vallarsa\, Italia
CATEGORIES:Eventi speciali,In biblioteca
END:VEVENT
END:VCALENDAR