BEGIN:VCALENDAR
VERSION:2.0
PRODID:-//Il Trentino dei Bambini - ECPv6.13.2//NONSGML v1.0//EN
CALSCALE:GREGORIAN
METHOD:PUBLISH
X-WR-CALNAME:Il Trentino dei Bambini
X-ORIGINAL-URL:https://www.iltrentinodeibambini.it
X-WR-CALDESC:Eventi per Il Trentino dei Bambini
REFRESH-INTERVAL;VALUE=DURATION:PT1H
X-Robots-Tag:noindex
X-PUBLISHED-TTL:PT1H
BEGIN:VTIMEZONE
TZID:Europe/Rome
BEGIN:DAYLIGHT
TZOFFSETFROM:+0100
TZOFFSETTO:+0200
TZNAME:CEST
DTSTART:20250330T010000
END:DAYLIGHT
BEGIN:STANDARD
TZOFFSETFROM:+0200
TZOFFSETTO:+0100
TZNAME:CET
DTSTART:20251026T010000
END:STANDARD
END:VTIMEZONE
BEGIN:VEVENT
DTSTART;VALUE=DATE:20250517
DTEND;VALUE=DATE:20250519
DTSTAMP:20260425T012221
CREATED:20250501T104321Z
LAST-MODIFIED:20250504T194849Z
UID:10019050-1747440000-1747612799@www.iltrentinodeibambini.it
SUMMARY:Rovereto in Fiore
DESCRIPTION:Il 17 e 18 maggio 2025\, il centro di Rovereto si trasforma in un giardino urbano\, con la nuova edizione di Rovereto in Fiore e Portoni Aperti. Per i più piccoli tante anche le opportunità di intrattenimento e gioco. Un’occasione perfetta per vivere Rovereto in famiglia\, immersi nei colori e nei profumi della primavera. Leggi il nostro articolo dedicato: A Rovereto in Fiore con i bimbi \nNei giardini di via Carducci saranno tante le proposte che coinvolgeranno i bambini. Eccole qui: \n\nGiardino degli Alpaca | Sabato 17 e domenica 18 maggio | ore 11:00 – 17:00 | Ilaria è pronta a farvi conoscere i suoi morbidi alpaca: entra con loro nel recinto\, scopri le loro abitudini e segreti e fai loro tante coccole!\nOrari per le attività all’interno del recinto: 11.00 – 12.30\, 14.00 – 15.00\, 16.00 – 17.00\nLibero e gratuito – adatto a tutte le età – A cura dell’Allevamento Silpaca\nCorso di acquarello | Sabato 17 maggio | 11:00 – 12:00 | Dipingi tanti bei fiori colorati | laboratorio per bambini a cura di Truccamimè – libero e gratuito\nTruccabimbi | Domenica 18 maggio | 11:00 – 12:00 | a cura di Truccamimè\nLetture di albi illustrati Nati per Leggere | Domenica 18 maggio | 10:00 – 12:00 | lettura di albi illustrati per l’infanzia a cura delle volontarie Nati per Leggere della Vallagarina | Libero e gratuito\, a partire dai 2 anni\nGli amici della Città | Domenica 18 maggio | ore 11.30 ed ore 18.30 | Terrazza del Ristorante Ripizzico (via Santa Maria 131) | Presentazione del libro per bambini con l’autrice Elena Rossi e l’illustratrice Erica Vanzo\nSpettacolo “Bruno il Bruco” | Domenica 18 maggio | 15:00 – 17:00 | La vita di un baco da seta: per bambini e bambine dai 4 ai 7 anni | a cura di Orto San Marco – Setàp\, Arditodesio e Teatro a Dondolo\, con Michela Cannoletta\n\nA queste iniziative si aggiungono quelle promosse dal Consorzio Rovereto in Centro: \n\nVolo dell’ape | Gioco itinerante | Sabato 17 maggio | 10:00 – 12:00 I 16:00 – 19:00\nDomenica 18 maggio I 16:00 – 18:00 | Inizia dalla Corte Gabbana e continua nei negozi del Distretto | A partire dai 9 anni\n\n\nIntrattenimento e prova per bambini e ragazzi di tessuti aerei | Piazza San Marco\nDomenica 18 maggio | 10:00 – 12:00  |  Libero e gratuito\n\n\nAlla scoperta del Portone I Gioco interattivo per esploratori curiosi | Casa Barozzi – Piazza San Marco\, 5 | Sabato 17 maggio | 11:30 I 15:30 I 17:30 e Domenica 18 maggio | 11:30 I 15:30 I 17:30 | Libero e gratuito\n\n\nLettura libri | Piazzetta Maccalé – Kids Area | Sabato 17 maggio | 11:00 e 16:00\nLibero e gratuito\n\n\nLaboratorio “Il tempo della natura | Sabato 17 maggio | 11:00 – 18:00\nLibero e gratuito a ciclo continuo 2-10 anni – A cura di Asilo nel bosco\nYoga fiorito I Pratica Yoga adatta a tutte le età | Casa Leoni – Via Tartarotti\, 24\nSabato 17 maggio | 9:00 – 10:00 e Domenica 18 maggio | 9:00 – 10:00 \nPorta il tuo tappetino\, cuscino e coperta! Libero e gratuito\n\nPROGRAMMA COMPLETO DELL’EVENTO: clicca QUI \nInfo: \nConsorzio Rovereto in Centro\ntel. 0464 874353\ncell. 351 50 56 589\ne-mail: info@roveretoincentro.com \nVisita anche il sito di APT Rovereto Vallagarina e Monte Baldo QUI
URL:https://www.iltrentinodeibambini.it/eventi/rovereto-in-fiore/
LOCATION:Centro storico Rovereto\, via Roma \, Rovereto \, 38068
CATEGORIES:Al Museo,Al parco,Eventi speciali,Feste,In biblioteca,In fattoria,Laboratori,Spazi d'incontro,Spettacoli
GEO:45.8895321;11.0431789
X-APPLE-STRUCTURED-LOCATION;VALUE=URI;X-ADDRESS=Centro storico Rovereto via Roma  Rovereto  38068;X-APPLE-RADIUS=500;X-TITLE=via Roma:geo:11.0431789,45.8895321
END:VEVENT
BEGIN:VEVENT
DTSTART;TZID=Europe/Rome:20250518T080000
DTEND;TZID=Europe/Rome:20250518T120000
DTSTAMP:20260425T012221
CREATED:20250412T212144Z
LAST-MODIFIED:20250412T212144Z
UID:10018175-1747555200-1747569600@www.iltrentinodeibambini.it
SUMMARY:Colazione in fattoria
DESCRIPTION:Inizia la giornata con una buona colazione a base di prodotti della fattoria e del Garda Trentino e poi vai a conoscere gli animali! \nLa colazione è disponibile a partire dalle 8.00\, mentre l’attività in fattoria comincia alle 10.30. Gli adulti partecipanti possono scegliere se trasformare la colazione in un brunch o seguire i più piccoli alla scoperta della fattoria. \nDOVE:  Azienda Agricola Agrisalus\, Pratosaiano (Arco)\, Via Fibbie\, 22;\nQUANDO: dalle ore 8:00\, tutti i sabati e le domeniche fino al 31 gennaio 2026\nDURATA:  2 ore\nPRENOTAZIONE: obbligatoria entro le 16:00 del giorno prima. Clicca QUI per prenotare online\nCOSA E’ INCLUSO: colazione contadina con prodotti della fattoria e del Garda Trentino\, visita della fattoria didattica (mucche\, maiali\, galline\, conigli)\, possibilità per gli adulti di trasformare la colazione in un brunch.\nCOSTO: 25 euro per i bambini dai 3 agli 11 anni (colazione + visita in fattoria)\, colazione accompagnatori 15 euro\, colazione bambini 3-11 anni 10 euro\, gratis bambini sotto i 2 anni. Sconto per possessori Guest Card. \nAl momento della prenotazione specificare eventuali allergie o intolleranze alimentari. Indossare scarpe comode e  adatte alla campagna. \nINFORMAZIONI\nAGRISALUS\nVia Fibbie\, 22 Arco (TN)\ntel.  379 1179271 \nLa colazione in fattoria da Agrisalus è un’experience promossa da APT Garda Dolomiti. Ci siamo stati anche noi: leggi Colazione in fattoria da Agrisalus \nPer maggiori informazioni potete visitare anche il sito di APT Garda Dolomiti QUI
URL:https://www.iltrentinodeibambini.it/eventi/colazione-in-fattoria-2/2025-05-18/
LOCATION:Agrisalus\, via Fibbie\, 22 - Pratosaiano\, Arco\, 38062\, Italia
CATEGORIES:In fattoria,Visite guidate
END:VEVENT
BEGIN:VEVENT
DTSTART;TZID=Europe/Rome:20250518T100000
DTEND;TZID=Europe/Rome:20250518T160000
DTSTAMP:20260425T012221
CREATED:20250421T195638Z
LAST-MODIFIED:20250421T195638Z
UID:10019012-1747562400-1747584000@www.iltrentinodeibambini.it
SUMMARY:Giornata Europea dei Mulini - Segheria dei Begoi
DESCRIPTION:Il 18 maggio 2025\, per la giornata Europea dei Mulini Storici si propone la visita guidata e messa in funzione della  Segheria Veneziana dei Bégoi\, situata in località Plan in Val di Rabbi. \nOrari apertura: 10.00-12-00 -14.00-16.00 \nAttività libera e gratuita. \nINFO E CONTATTI \nPunto info Parco Rabbi tel 0463.909774 – E.mail: cvrabbi@provincia.tn.it \nScopri  Val di Rabbi\, estate coi bambini
URL:https://www.iltrentinodeibambini.it/eventi/giornata-europea-dei-mulini-segheria-dei-begoi/
LOCATION:segheria dei Bégoi\, Loc. Plan\, Val di Rabbi\, TN\, Italia
CATEGORIES:Eventi speciali,Visite guidate
END:VEVENT
BEGIN:VEVENT
DTSTART;TZID=Europe/Rome:20250518T100000
DTEND;TZID=Europe/Rome:20250518T170000
DTSTAMP:20260425T012221
CREATED:20250514T083452Z
LAST-MODIFIED:20250514T083452Z
UID:10019194-1747562400-1747587600@www.iltrentinodeibambini.it
SUMMARY:Giornata Internazionale dei Musei
DESCRIPTION:Domenica 18 maggio\, in occasione della Giornata Internazionale dei Musei (International Museum Day – IMD)\, organizzata dall’ICOM\, il METS – museo etnografico trentino San Michele propone l’ingresso alla tariffa speciale di 1 € con la possibilità di visitare la mostra “Selvatico sarai tu!” e le sue ricche collezioni permanenti. \n 
URL:https://www.iltrentinodeibambini.it/eventi/giornata-internazionale-dei-musei/
LOCATION:METS Museo etnografico trentino\, Via Edmondo Mach\, 2\, San Michele All'adige\, Trentino\, 38010\, Italia
CATEGORIES:Al Museo,Eventi speciali
GEO:46.1878653;11.1330423
X-APPLE-STRUCTURED-LOCATION;VALUE=URI;X-ADDRESS=METS Museo etnografico trentino Via Edmondo Mach 2 San Michele All'adige Trentino 38010 Italia;X-APPLE-RADIUS=500;X-TITLE=Via Edmondo Mach\, 2:geo:11.1330423,46.1878653
END:VEVENT
BEGIN:VEVENT
DTSTART;TZID=Europe/Rome:20250518T100000
DTEND;TZID=Europe/Rome:20250518T200000
DTSTAMP:20260425T012221
CREATED:20250512T150153Z
LAST-MODIFIED:20250512T150210Z
UID:10019179-1747562400-1747598400@www.iltrentinodeibambini.it
SUMMARY:Insieme per l'Autotrasporto
DESCRIPTION:Il 18 maggio 2025\, dalle 10.00 alle 20.00\, alla giornata Insieme per l’Autotrasporto che si terrà all’Interbrennero di Trento vi attende una giornata ricca di attività\, esposizioni\, giochi\, cibo e tanto divertimento \nPresso il Terminal Intermodale Interporto verrà allestita un’area espositiva e intrattenimento\, aperta al pubblico dalle 10.00 alle 20:00. \nLe famiglie sono benvenute! Non mancheranno giochi (ci sarà anche un grande gonfiabile a forma di camion!)\, musica\, animazione ed intrattenimento. Inoltre esposizioni di veicoli storici\, da sollevamento\, da lavoro\, treni dimostrazioni\, test e stand per soddisfare tutte le curiosità riguardanti le ultime innovazioni tecnologiche. \nAll’interno dell’area espositiva si troveranno anche un punto di ristoro e una zona per consumare il cibo dotata di tavoli e panche. Proprio accanto sorgerà il palco\, sul quale si esibiranno artisti dal vivo (concerto degli Indigo Devils dalle 17.00 alle 19.00) e trasmetterà Radio NBC (al mattino dalle 10.30 alle 12.30). \nSe siete più coraggiosi potrete addirittura provare un giro in elicottero! \nIngresso gratuito. \nLeggi il nostro articolo: Insieme per l’Autotrasporto: una giornata in famiglia
URL:https://www.iltrentinodeibambini.it/eventi/insieme-per-autotrasporto/
LOCATION:Interbrennero\, Via Innsbruck 13/15\, Trento\, TN\, 38121\, Italia
CATEGORIES:Eventi speciali,Spazi d'incontro
END:VEVENT
BEGIN:VEVENT
DTSTART;TZID=Europe/Rome:20250518T110000
DTEND;TZID=Europe/Rome:20250518T180000
DTSTAMP:20260425T012221
CREATED:20250430T131013Z
LAST-MODIFIED:20250430T131013Z
UID:10019037-1747566000-1747591200@www.iltrentinodeibambini.it
SUMMARY:Muse: FunLab
DESCRIPTION:Esplora questo spazio dove creatività e apprendimento si fondono in coinvolgenti attività. Scegli una delle scatole\, aprila e lasciati sorprendere dal suo contenuto. Sperimenta materiali e strumenti per creare e costruire soluzioni fantasiose che stimolano l’ingegno. \n\nQuando: tutte le domeniche di maggio (domenica 11 solo dalle 11.00 alle 13.00) e anche l’1\, 2 e 24 maggio e 2025 dalle ore 11.00 alle 13.00 e dalle 14.00 alle 18.00\nDove: Muse | FabLab\nCosto: compreso nel biglietto d’ingresso che potete acquistate QUI\nInfo: bambini accompagnati da un adulto
URL:https://www.iltrentinodeibambini.it/eventi/muse-fablab-2-2-2-2/2025-05-18/
LOCATION:MUSE\, Italia
CATEGORIES:Al Museo
GEO:46.0700915;11.1197626
END:VEVENT
BEGIN:VEVENT
DTSTART;TZID=Europe/Rome:20250518T110000
DTEND;TZID=Europe/Rome:20250518T180000
DTSTAMP:20260425T012221
CREATED:20250513T195945Z
LAST-MODIFIED:20250513T195945Z
UID:10019192-1747566000-1747591200@www.iltrentinodeibambini.it
SUMMARY:Museum Day 2025 al Museo di Scienze e Archeologia
DESCRIPTION:Domenica 18 maggio 2025 dalle 11 alle 18 si festeggia la Giornata Internazionale dei Musei ICOM\, con ingresso gratuito per tutti al Museo di Scienze e Archeologia ed al Museo Civico di Rovereto! \nAl Museo di Scienze e Arccheologia vi aspettano attività gratuite speciali. Ecco quelle indicate per le famiglie: \n\nore 11.00 – 17.00 | Mercatino dei libri | vendita libri ed oggettistica a prezzi scontati nel giardino del museo\nore 15.00 – 16.00 | Il Cielo in Una Stanza 3.0 – Speciale Museum Day | Un viaggio nel cosmo con approfondimenti sulle missioni spaziali. Al raggiungimento del numero massimo di posti disponibili verrà attivato un secondo turno alle ore 16.30. Attività gratuita\, prenotazione consigliata: clicca QUI\nore 15.30 -16.30 | Un insolito viaggio dal museo al mondo | Visita speciale per scoprire come si collegano luoghi\, reperti e persone attraverso i curiosi reperti nella nuova sala “Dal Mondo al Museo” | attività per famiglie con bambini 6+ accompagnati da un adulto. Attività gratuita\, consigliata la prenotazione: clicca QUI\n\nInfo: Fondazione Museo Civico Rovereto\, tel. 0464.452800; museo@fondazionemcr.it \nScopri la Fondazione Museo Civico Rovereto \n 
URL:https://www.iltrentinodeibambini.it/eventi/museum-day-2025-al-museo-di-scienze-e-archeologia/
LOCATION:Museo di Scienze e Archeologia e Planetario\, Borgo Santa Caterina\, 41\, Rovereto\, 38068\, Italia
CATEGORIES:Al Museo,Eventi speciali
END:VEVENT
BEGIN:VEVENT
DTSTART;TZID=Europe/Rome:20250518T150000
DTEND;TZID=Europe/Rome:20250518T163000
DTSTAMP:20260425T012221
CREATED:20250428T195232Z
LAST-MODIFIED:20250428T195232Z
UID:10019025-1747580400-1747585800@www.iltrentinodeibambini.it
SUMMARY:LITTLE MART - Il Chroma Key
DESCRIPTION:Il tema degli incontri Little Mart? Le mostre e le collezioni del museo o\, più in generale\, temi e tecniche legati all’arte contemporanea. Vere e proprie palestre della creatività con laboratori che coinvolgono bambini e adulti proponendo una partecipazione attiva. \nATTIVITA‘: Il Chroma Key: Protagonista  è lo schermo verde usato per gli effetti speciali nelle produzioni video. Con questa tecnica sperimenteremo nuovi modi per esplorare le opere del museo\, divertendoci a entrare\, letteralmente\, nei quadri delle Collezioni del Mart. Dai 5 ai 12 anni.\nDOVE: Spazio Little Mart – MART Museo di Arte Moderna e Contemporanea Rovereto\, C.so Bettini 43\, Rovereto\nQUANDO: Domenica 18 maggio 2025\, ore 15.00 – 16.30\nCOSTO: 5 euro a bambino. Accompagnatore gratuito\nADATTO A: bambini 5 -12 anni\nPRENOTAZIONI:  dal lunedì al venerdì scrivendo a education@mart.trento.it o telefonando allo 0464 454135-108. Il sabato e la domenica presso la biglietteria del Mart (0464 454240). \n  \nConosci già il MART? Scoprilo meglio\, leggi Al MART coi bambini
URL:https://www.iltrentinodeibambini.it/eventi/little-mart-il-chroma-key-3/
LOCATION:MART – Museo ArteModerna e Contemporanea Rovereto\, Corso Bettini 43\, Rovereto\, TN\, 38068\, Italia
CATEGORIES:Al Museo,Laboratori
END:VEVENT
END:VCALENDAR