BEGIN:VCALENDAR
VERSION:2.0
PRODID:-//Il Trentino dei Bambini - ECPv6.13.2//NONSGML v1.0//EN
CALSCALE:GREGORIAN
METHOD:PUBLISH
X-WR-CALNAME:Il Trentino dei Bambini
X-ORIGINAL-URL:https://www.iltrentinodeibambini.it
X-WR-CALDESC:Eventi per Il Trentino dei Bambini
REFRESH-INTERVAL;VALUE=DURATION:PT1H
X-Robots-Tag:noindex
X-PUBLISHED-TTL:PT1H
BEGIN:VTIMEZONE
TZID:Europe/Rome
BEGIN:DAYLIGHT
TZOFFSETFROM:+0100
TZOFFSETTO:+0200
TZNAME:CEST
DTSTART:20250330T010000
END:DAYLIGHT
BEGIN:STANDARD
TZOFFSETFROM:+0200
TZOFFSETTO:+0100
TZNAME:CET
DTSTART:20251026T010000
END:STANDARD
END:VTIMEZONE
BEGIN:VEVENT
DTSTART;TZID=Europe/Rome:20250519T100000
DTEND;TZID=Europe/Rome:20250519T180000
DTSTAMP:20260425T000335
CREATED:20250519T081158Z
LAST-MODIFIED:20250519T081158Z
UID:10019221-1747648800-1747677600@www.iltrentinodeibambini.it
SUMMARY:Sulle orme di Flavio Faganello
DESCRIPTION:Alla scoperta di Flavio Faganello e del ‘suo’ mondo: un’occasione speciale per approfondire in autonomia le fotografie esposte nella mostra “Flavio Faganello. Fotografie in cammino/Fotografien\, die bewegen”. \nDurante il percorso le famiglie saranno guidate nell’osservazione delle fotografie alla ricerca di alcune tematiche suggerite; grandi e piccini potranno così scoprire le differenze tra tradizione e modernità e le tipiche contrapposizioni del fotografo. \nPer completare l’attività\, grazie alla guida di una mappa della città sarà possibile recarsi negli stessi luoghi fotografati ‘ieri’ da Faganello per scattare una fotografia ‘ai giorni nostri’\, proseguendo la riflessione sui cambiamenti avvenuti nel tempo. \n\nQuando: tutti i giorni ad eccezione del martedì dalle ore 10.00 alle 13.00 e dalle 14.00 alle 18.00\nDove: Museo Diocesano Tridentino – Trento\nCosto: incluso nel biglietto d’ingresso\nInfo: target 6+
URL:https://www.iltrentinodeibambini.it/eventi/sulle-orme-di-flavio-faganello/2025-05-19/
LOCATION:Museo Diocesano Tridentino\,\, Piazza Duomo 18\, Trento\, Trento
CATEGORIES:Al Museo,Eventi speciali
GEO:46.06715;11.12177
X-APPLE-STRUCTURED-LOCATION;VALUE=URI;X-ADDRESS=Museo Diocesano Tridentino Piazza Duomo 18 Trento Trento;X-APPLE-RADIUS=500;X-TITLE=Piazza Duomo 18\, Trento:geo:11.12177,46.06715
END:VEVENT
BEGIN:VEVENT
DTSTART;TZID=Europe/Rome:20250519T163000
DTEND;TZID=Europe/Rome:20250519T173000
DTSTAMP:20260425T000335
CREATED:20250331T090852Z
LAST-MODIFIED:20250331T090852Z
UID:10018101-1747672200-1747675800@www.iltrentinodeibambini.it
SUMMARY:Leggiamo una storia
DESCRIPTION:Lettura ad alta voce per bambini e bambine dai 3 anni a cura delle ragazze in Servizio Civile. \n\nQuando: 14 aprile e 19 maggio 2025 alle ore 16.30\nDove: biblioteca di Martignano\nCosto: partecipazione gratuita\nInfo: 0461.828402 | ilcolibri.martignano@gmail.com\n\nScoprite tutti gli appuntamenti per bambini e ragazzi nelle biblioteche del comune di Trento QUI.
URL:https://www.iltrentinodeibambini.it/eventi/leggiamo-una-storia-2/2025-05-19/
LOCATION:Martignano\, 38122\, Italia
CATEGORIES:In biblioteca
END:VEVENT
END:VCALENDAR