BEGIN:VCALENDAR
VERSION:2.0
PRODID:-//Il Trentino dei Bambini - ECPv6.13.2//NONSGML v1.0//EN
CALSCALE:GREGORIAN
METHOD:PUBLISH
X-WR-CALNAME:Il Trentino dei Bambini
X-ORIGINAL-URL:https://www.iltrentinodeibambini.it
X-WR-CALDESC:Eventi per Il Trentino dei Bambini
REFRESH-INTERVAL;VALUE=DURATION:PT1H
X-Robots-Tag:noindex
X-PUBLISHED-TTL:PT1H
BEGIN:VTIMEZONE
TZID:Europe/Rome
BEGIN:DAYLIGHT
TZOFFSETFROM:+0100
TZOFFSETTO:+0200
TZNAME:CEST
DTSTART:20250330T010000
END:DAYLIGHT
BEGIN:STANDARD
TZOFFSETFROM:+0200
TZOFFSETTO:+0100
TZNAME:CET
DTSTART:20251026T010000
END:STANDARD
END:VTIMEZONE
BEGIN:VEVENT
DTSTART;TZID=Europe/Rome:20250520T100000
DTEND;TZID=Europe/Rome:20250520T170000
DTSTAMP:20260425T000336
CREATED:20250412T213902Z
LAST-MODIFIED:20250412T213902Z
UID:10018264-1747735200-1747760400@www.iltrentinodeibambini.it
SUMMARY:A cavallo sulle orme dei Romani
DESCRIPTION:Una passeggiata a cavallo lungo il sentiero archeologico di Cavedine\, ideale per chi vuole avvicinarsi all’equitazione. Assieme a una guida esperta\, seguirai il Sentiero Archeologico di Cavedine\, tra boschi\, tracce dell’antica\nvia romana e viste aperte sulla valle. Prima di partire\, avrai modo di prendere confidenza con il cavallo in arena\, così da affrontare l’escursione in tutta serenità. \n\nQUANDO:  il martedì\, giovedì e sabato alle ore 10.00 e alle ore 15.00 fino al 31 maggio 2025\nDURATA: 2 ore\nADATTO A: L’attività è adatta a partire dai 9 anni\, anche per principianti. Non accessibile a persone con disabilità motorie\, visive o uditive.\nCOSTO: adulti 50 euro\, 9-11 anni 40 euro. Sconto per possessori Garda Guest Card\nABBIGLIAMENTO: Il caschetto te lo forniamo noi: tu porta pantaloni lunghi\, scarpe da trekking\nPRENOTAZIONI: clicca QUI per iscriverti\n\nInfo: Roncher Ranch\, tel. 342.6671777 \n 
URL:https://www.iltrentinodeibambini.it/eventi/a-cavallo-sulle-orme-dei-romani/2025-05-20/
LOCATION:Roncher Ranch\, Località Salin\, Cavedine\, TN\, Italia
CATEGORIES:In fattoria,Visite guidate
END:VEVENT
END:VCALENDAR