BEGIN:VCALENDAR
VERSION:2.0
PRODID:-//Il Trentino dei Bambini - ECPv6.13.2//NONSGML v1.0//EN
CALSCALE:GREGORIAN
METHOD:PUBLISH
X-WR-CALNAME:Il Trentino dei Bambini
X-ORIGINAL-URL:https://www.iltrentinodeibambini.it
X-WR-CALDESC:Eventi per Il Trentino dei Bambini
REFRESH-INTERVAL;VALUE=DURATION:PT1H
X-Robots-Tag:noindex
X-PUBLISHED-TTL:PT1H
BEGIN:VTIMEZONE
TZID:Europe/Rome
BEGIN:DAYLIGHT
TZOFFSETFROM:+0100
TZOFFSETTO:+0200
TZNAME:CEST
DTSTART:20250330T010000
END:DAYLIGHT
BEGIN:STANDARD
TZOFFSETFROM:+0200
TZOFFSETTO:+0100
TZNAME:CET
DTSTART:20251026T010000
END:STANDARD
END:VTIMEZONE
BEGIN:VEVENT
DTSTART;TZID=Europe/Rome:20250521T100000
DTEND;TZID=Europe/Rome:20250521T180000
DTSTAMP:20260424T235925
CREATED:20250519T081158Z
LAST-MODIFIED:20250519T081158Z
UID:10019222-1747821600-1747850400@www.iltrentinodeibambini.it
SUMMARY:Sulle orme di Flavio Faganello
DESCRIPTION:Alla scoperta di Flavio Faganello e del ‘suo’ mondo: un’occasione speciale per approfondire in autonomia le fotografie esposte nella mostra “Flavio Faganello. Fotografie in cammino/Fotografien\, die bewegen”. \nDurante il percorso le famiglie saranno guidate nell’osservazione delle fotografie alla ricerca di alcune tematiche suggerite; grandi e piccini potranno così scoprire le differenze tra tradizione e modernità e le tipiche contrapposizioni del fotografo. \nPer completare l’attività\, grazie alla guida di una mappa della città sarà possibile recarsi negli stessi luoghi fotografati ‘ieri’ da Faganello per scattare una fotografia ‘ai giorni nostri’\, proseguendo la riflessione sui cambiamenti avvenuti nel tempo. \n\nQuando: tutti i giorni ad eccezione del martedì dalle ore 10.00 alle 13.00 e dalle 14.00 alle 18.00\nDove: Museo Diocesano Tridentino – Trento\nCosto: incluso nel biglietto d’ingresso\nInfo: target 6+
URL:https://www.iltrentinodeibambini.it/eventi/sulle-orme-di-flavio-faganello/2025-05-21/
LOCATION:Museo Diocesano Tridentino\,\, Piazza Duomo 18\, Trento\, Trento
CATEGORIES:Al Museo,Eventi speciali
GEO:46.06715;11.12177
X-APPLE-STRUCTURED-LOCATION;VALUE=URI;X-ADDRESS=Museo Diocesano Tridentino Piazza Duomo 18 Trento Trento;X-APPLE-RADIUS=500;X-TITLE=Piazza Duomo 18\, Trento:geo:11.12177,46.06715
END:VEVENT
BEGIN:VEVENT
DTSTART;TZID=Europe/Rome:20250521T143000
DTEND;TZID=Europe/Rome:20250521T170000
DTSTAMP:20260424T235925
CREATED:20250414T080448Z
LAST-MODIFIED:20250414T080448Z
UID:10018342-1747837800-1747846800@www.iltrentinodeibambini.it
SUMMARY:Ma mercoledì giochiamo?
DESCRIPTION:Un appuntamento mensile per chiunque abbia voglia di divertirsi con i giochi da tavola disponibili. \n\nQuando: 16 aprile\, 21 maggio e 18 giugno 2025 dalle ore 14.30\nDove: biblioteca comunale di Gardolo\nCosto: partecipazione libera e gratuita\nInfo: tel. 0461.889815\n\nScoprite tutti gli appuntamenti per bambini e ragazzi nelle biblioteche del comune di Trento QUI.
URL:https://www.iltrentinodeibambini.it/eventi/ma-mercoledi-giochiamo/2025-05-21/
LOCATION:Biblioteca di Gardolo\, Piazza Lionello Groff\, 2\, Gardolo 
CATEGORIES:Eventi speciali,In biblioteca
END:VEVENT
BEGIN:VEVENT
DTSTART;TZID=Europe/Rome:20250521T160000
DTEND;TZID=Europe/Rome:20250521T183000
DTSTAMP:20260424T235925
CREATED:20250331T074806Z
LAST-MODIFIED:20250407T081817Z
UID:10018138-1747843200-1747852200@www.iltrentinodeibambini.it
SUMMARY:Giochiamo a scacchi
DESCRIPTION:Incontri di scacchi per tutti. Maggiori dettagli QUI. \n\nQuando: tutti i mercoledì dalle ore 16.00\nDove: biblioteca comunale di Ravina\nCosto: partecipazione gratuita\nInfo: tel. 0461.889586
URL:https://www.iltrentinodeibambini.it/eventi/giochiamo-a-scacchi-2-2/2025-05-21/
LOCATION:Biblioteca di Ravina\, Ravina di Trento 
CATEGORIES:In biblioteca
GEO:46.0378903;11.1074085
END:VEVENT
BEGIN:VEVENT
DTSTART;TZID=Europe/Rome:20250521T163000
DTEND;TZID=Europe/Rome:20250521T173000
DTSTAMP:20260424T235925
CREATED:20250513T114628Z
LAST-MODIFIED:20250513T114628Z
UID:10019188-1747845000-1747848600@www.iltrentinodeibambini.it
SUMMARY:Quante storie!
DESCRIPTION:Letture ad alta voce di albi illustrati per bambine e bambini da 3 a 6 anni. \n\nQuando: mercoledì 21 maggio 2025 alle 16.30\nDove: biblioteca comunale di Sopramonte\nCosto: partecipazione gratuita\nInfo: tel. 0461.889897 | biblioteca.sopramonte@comune.trento.it.\n\nLe date possono subire delle modifiche tenetevi aggiornati consultando l’agenda sul sito della biblioteca e la pagina Facebook. Per scoprire tutti gli eventi per bambini e ragazzi nelle biblioteche comunali cliccate QUI.
URL:https://www.iltrentinodeibambini.it/eventi/quante-storie-4/
LOCATION:Sopramonte
CATEGORIES:In biblioteca
END:VEVENT
END:VCALENDAR