BEGIN:VCALENDAR
VERSION:2.0
PRODID:-//Il Trentino dei Bambini - ECPv6.13.2//NONSGML v1.0//EN
CALSCALE:GREGORIAN
METHOD:PUBLISH
X-WR-CALNAME:Il Trentino dei Bambini
X-ORIGINAL-URL:https://www.iltrentinodeibambini.it
X-WR-CALDESC:Eventi per Il Trentino dei Bambini
REFRESH-INTERVAL;VALUE=DURATION:PT1H
X-Robots-Tag:noindex
X-PUBLISHED-TTL:PT1H
BEGIN:VTIMEZONE
TZID:Europe/Rome
BEGIN:DAYLIGHT
TZOFFSETFROM:+0100
TZOFFSETTO:+0200
TZNAME:CEST
DTSTART:20250330T010000
END:DAYLIGHT
BEGIN:STANDARD
TZOFFSETFROM:+0200
TZOFFSETTO:+0100
TZNAME:CET
DTSTART:20251026T010000
END:STANDARD
END:VTIMEZONE
BEGIN:VEVENT
DTSTART;TZID=Europe/Rome:20250713T080000
DTEND;TZID=Europe/Rome:20250713T120000
DTSTAMP:20260424T143105
CREATED:20250412T212144Z
LAST-MODIFIED:20250412T212144Z
UID:10018191-1752393600-1752408000@www.iltrentinodeibambini.it
SUMMARY:Colazione in fattoria
DESCRIPTION:Inizia la giornata con una buona colazione a base di prodotti della fattoria e del Garda Trentino e poi vai a conoscere gli animali! \nLa colazione è disponibile a partire dalle 8.00\, mentre l’attività in fattoria comincia alle 10.30. Gli adulti partecipanti possono scegliere se trasformare la colazione in un brunch o seguire i più piccoli alla scoperta della fattoria. \nDOVE:  Azienda Agricola Agrisalus\, Pratosaiano (Arco)\, Via Fibbie\, 22;\nQUANDO: dalle ore 8:00\, tutti i sabati e le domeniche fino al 31 gennaio 2026\nDURATA:  2 ore\nPRENOTAZIONE: obbligatoria entro le 16:00 del giorno prima. Clicca QUI per prenotare online\nCOSA E’ INCLUSO: colazione contadina con prodotti della fattoria e del Garda Trentino\, visita della fattoria didattica (mucche\, maiali\, galline\, conigli)\, possibilità per gli adulti di trasformare la colazione in un brunch.\nCOSTO: 25 euro per i bambini dai 3 agli 11 anni (colazione + visita in fattoria)\, colazione accompagnatori 15 euro\, colazione bambini 3-11 anni 10 euro\, gratis bambini sotto i 2 anni. Sconto per possessori Guest Card. \nAl momento della prenotazione specificare eventuali allergie o intolleranze alimentari. Indossare scarpe comode e  adatte alla campagna. \nINFORMAZIONI\nAGRISALUS\nVia Fibbie\, 22 Arco (TN)\ntel.  379 1179271 \nLa colazione in fattoria da Agrisalus è un’experience promossa da APT Garda Dolomiti. Ci siamo stati anche noi: leggi Colazione in fattoria da Agrisalus \nPer maggiori informazioni potete visitare anche il sito di APT Garda Dolomiti QUI
URL:https://www.iltrentinodeibambini.it/eventi/colazione-in-fattoria-2/2025-07-13/
LOCATION:Agrisalus\, via Fibbie\, 22 - Pratosaiano\, Arco\, 38062\, Italia
CATEGORIES:In fattoria,Visite guidate
END:VEVENT
BEGIN:VEVENT
DTSTART;TZID=Europe/Rome:20250713T100000
DTEND;TZID=Europe/Rome:20250713T123000
DTSTAMP:20260424T143105
CREATED:20250622T175720Z
LAST-MODIFIED:20250622T175720Z
UID:10020350-1752400800-1752409800@www.iltrentinodeibambini.it
SUMMARY:Tracce ed intrecci nel bosco
DESCRIPTION:Mettiti in cammino e in ascolto di ciò che la foresta ha da raccontarti: la sua storia\, le sue caratteristiche uniche (come il legno di risonanza di alcuni alberi)\, i suoi piccoli e grandi abitanti e i significativi cambiamenti che l’hanno trasformata per sempre.\nUn percorso ad anello per conoscere da vicino le complesse relazioni ecologiche che rendono questo ecosistema al tempo stesso così ricco e fragile\, e per scoprire come scienza\, conservazione e gestione forestale collaborano per proteggere un territorio in costante evoluzione\, raccontato dalla viva voce di chi tutti giorni lavora per e nel Parco Naturale. \nRitrovo: Centro Visitatori del Parco Di Paneveggio a Predazzo \nQuando: tutte le domeniche dal 6 luglio al 31 agosto 2025\, alle ore 10.00 \nDurata dell’attività: due ore e mezza circa\nQuota di partecipazione: € 5\,00 (gratuito per bambini fino ai 6 anni\, accompagnati) \nMaggiori informazioni e prenotazione: 0439/026289\, visitatori@parcopan.org \n 
URL:https://www.iltrentinodeibambini.it/eventi/tracce-ed-intrecci-nel-bosco/2025-07-13/
LOCATION:Centro Visitatori Paneveggio – Predazzo\, SS50\, 11\, Predazzo\, Trentino\, 38037\, Italia
CATEGORIES:Escursioni,Visite guidate
END:VEVENT
BEGIN:VEVENT
DTSTART;TZID=Europe/Rome:20250713T100000
DTEND;TZID=Europe/Rome:20250713T180000
DTSTAMP:20260424T143105
CREATED:20250530T065843Z
LAST-MODIFIED:20250530T065843Z
UID:10019767-1752400800-1752429600@www.iltrentinodeibambini.it
SUMMARY:Botanica sensoriale
DESCRIPTION:Alla scoperta degli adattamenti delle piante alpine di alta quota attraverso le loro caratteristiche sensoriali. Questo evento fa parte delle giornate a tema del giardino. \n\nQuando: 13 luglio\, 10 e 16 agosto 2025 dalle ore 10.00 alle ore 18.00\nDove: Giardino botanico alpino Viote – Monte Bondone\nCosto: gratuito\nInfo: tel. 0461.948050 | giardino.botanico@muse.it\n\nScoprite tutte le attività per famiglie e bambini del Giardino botanico alpino delle Viote.
URL:https://www.iltrentinodeibambini.it/eventi/botanica-sensoriale-3/2025-07-13/
LOCATION:Giardino Botanico Alpino Viote\, Loc. Viote\, Trento
CATEGORIES:Al Museo,Eventi speciali
GEO:46.0700915;11.1197626
X-APPLE-STRUCTURED-LOCATION;VALUE=URI;X-ADDRESS=Giardino Botanico Alpino Viote Loc. Viote Trento;X-APPLE-RADIUS=500;X-TITLE=Loc. Viote:geo:11.1197626,46.0700915
END:VEVENT
BEGIN:VEVENT
DTSTART;TZID=Europe/Rome:20250713T100000
DTEND;TZID=Europe/Rome:20250713T230000
DTSTAMP:20260424T143105
CREATED:20250701T060610Z
LAST-MODIFIED:20250701T060610Z
UID:10020502-1752400800-1752447600@www.iltrentinodeibambini.it
SUMMARY:Porteghi e spiazi
DESCRIPTION:3 giorni di festa da non perdere: 15 stand gastronomici da leccarsi i baffi\, 16 concerti con musica dal vivo\, 13 dj set per ballare fino a tardi\, esibizioni\, balera con country\, liscio e balli di gruppo\, mercatini\, karaoke\, mostre\, escape room\, giochi da tavolo\, trattori storici e tanto altro!\n\nQuando: 11\, 12 e 13 luglio 2025\nDove: centro storico di Lavis\nCosto: partecipazione libera e gratuita\nInfo: programma completo QUI
URL:https://www.iltrentinodeibambini.it/eventi/porteghi-e-spiazi/2025-07-13/
LOCATION:Lavis\, Lavis\, 38015
CATEGORIES:Eventi speciali,Feste
GEO:46.1408423;11.1124935
END:VEVENT
BEGIN:VEVENT
DTSTART;TZID=Europe/Rome:20250713T103000
DTEND;TZID=Europe/Rome:20250713T113000
DTSTAMP:20260424T143105
CREATED:20250519T112550Z
LAST-MODIFIED:20250519T112550Z
UID:10019483-1752402600-1752406200@www.iltrentinodeibambini.it
SUMMARY:Caccia al racconto
DESCRIPTION:Caccia al racconto “Il gigante e le pagnotte avvelenate”. \n\nQuando: dal 21 giugno al 21 settembre 2025 ogni mercoledì alle ore 15.30 e ogni domenica alle ore 10.30\nDove: Villaggio dei Racconti – Alpe Cermis\nCosto: 6 euro (il costo comprende oltre all’attività\, l’ingresso al Villaggio\, alle zone relax e al Bike Park)\nInfo: tel. 0462.340490\n\n  \nScoprite tutte le attività settimanali del Villaggio dei Racconti sull’Alpe Cermis QUI.
URL:https://www.iltrentinodeibambini.it/eventi/caccia-al-racconto-2-2/2025-07-13/
LOCATION:Alpe Cermis
CATEGORIES:Eventi speciali
END:VEVENT
BEGIN:VEVENT
DTSTART;TZID=Europe/Rome:20250713T110000
DTEND;TZID=Europe/Rome:20250713T170000
DTSTAMP:20260424T143105
CREATED:20250704T114007Z
LAST-MODIFIED:20250704T114007Z
UID:10020610-1752404400-1752426000@www.iltrentinodeibambini.it
SUMMARY:L'arte della falconeria
DESCRIPTION:Un evento dedicato all’antica arte della falconeria\, con eleganti dimostrazioni di addestramento e spettacolari esibizioni dei falconieri e dei loro rapaci. Un viaggio affascinante tra tecnica\, tradizione e nobiltà\, nella suggestiva cornice del castello. \n\nQuando: ogni sabato e domenica dal 12 luglio al 31 agosto 2025 alle ore 11.00\, 14.00 e 16.00\nDove: Castel Stenico\nCosto: compreso nel biglietto d’ingresso al castello\nInfo: posti limitati | acquisto biglietto online QUI\n\nScoprite tutti gli eventi per bambini e famiglie nei castelli del Trentino QUI.
URL:https://www.iltrentinodeibambini.it/eventi/larte-della-falconeria/2025-07-13/
LOCATION:Castello di Stenico\, Stenico
CATEGORIES:Al Museo,Eventi speciali,Spettacoli
GEO:46.0526761;10.8536313
END:VEVENT
BEGIN:VEVENT
DTSTART;TZID=Europe/Rome:20250713T143000
DTEND;TZID=Europe/Rome:20250713T160000
DTSTAMP:20260424T143105
CREATED:20250519T091155Z
LAST-MODIFIED:20250519T091155Z
UID:10019300-1752417000-1752422400@www.iltrentinodeibambini.it
SUMMARY:La fabbrica dei giocattoli
DESCRIPTION:Laboratorio creativo di piccoli giochi in legno. \n\nQuando: ogni domenica dal 21 giugno al 21 settembre 2025 alle ore 14.45\nDove: Villaggio dei Racconti – Alpe Cermis\nCosto: 6 euro (il costo comprende oltre all’attività\, l’ingresso al Villaggio\, alle zone relax e al Bike Park)\nInfo: tel. 0462.340490\n\n  \nScoprite tutte le attività settimanali del Villaggio dei Racconti sull’Alpe Cermis QUI.
URL:https://www.iltrentinodeibambini.it/eventi/la-fabbrica-dei-giocattoli-2/2025-07-13/
LOCATION:Alpe Cermis
CATEGORIES:Laboratori
END:VEVENT
BEGIN:VEVENT
DTSTART;TZID=Europe/Rome:20250713T150000
DTEND;TZID=Europe/Rome:20250713T160000
DTSTAMP:20260424T143105
CREATED:20250703T120218Z
LAST-MODIFIED:20250703T120218Z
UID:10020603-1752418800-1752422400@www.iltrentinodeibambini.it
SUMMARY:Missione Avventura
DESCRIPTION:Si parte alla volta del Sistema solare! Un viaggio che toccherà tutti i pianeti. A ogni tappa ci fermeremo a osservare i più avventurosi fenomeni che hanno luogo nel Sistema solare: le superfici infuocate di Mercurio e Venere\, gli anelli di Saturno\, il gigantesco Giove\, e poi Urano e Nettuno\, così freddi e lontani. Quando ritorneremo a casa\, la Terra ci sembrerà ancora più verde e viva!  \nQUANDO: domenica 13\, 20 (ted)\, 27 luglio; domenica 3 (ted)\, 10\, 24 (ted)\, 31 agosto 2025\, ore 15.00\nDURATA: 50 minuti\nCOSTO: Biglietto famiglia: 14\,00 € / 2 adulti e bambini sotto i 16 anni; Biglietto mini-famiglia: 7\,00 € / 1 adulto e bambini sotto i 16 anni; Adulto: 7\,00 €\nPRENOTAZIONE: obbligatoria online fino a 24 ore precedenti l’evento cliccando QUI\n\n\nADATTO A: bambini dai 5 anni \n\n\n\n\n\n\nPlanetarium Südtirol | Alto Adige\ntel. 0471 610020\ne-mail:  info@planetarium.bz.it\n\nScopri qui il Planetarium Alto Adige
URL:https://www.iltrentinodeibambini.it/eventi/missione-avventura-3/2025-07-13/
LOCATION:Planetario Alto Adige\, San Valentino in Campo\, 5\, Cornedo all'Isarco (BZ)\, 39053
CATEGORIES:Spettacoli
GEO:46.4498296;11.4807445
X-APPLE-STRUCTURED-LOCATION;VALUE=URI;X-ADDRESS=Planetario Alto Adige San Valentino in Campo 5 Cornedo all'Isarco (BZ) 39053;X-APPLE-RADIUS=500;X-TITLE=San Valentino in Campo\, 5:geo:11.4807445,46.4498296
END:VEVENT
BEGIN:VEVENT
DTSTART;TZID=Europe/Rome:20250713T150000
DTEND;TZID=Europe/Rome:20250713T163000
DTSTAMP:20260424T143105
CREATED:20250626T085837Z
LAST-MODIFIED:20250626T085837Z
UID:10020424-1752418800-1752424200@www.iltrentinodeibambini.it
SUMMARY:Costellazioni mobili
DESCRIPTION:Il tema degli incontri Little Mart? Le mostre e le collezioni del museo o\, più in generale\, temi e tecniche legati all’arte contemporanea. Vere e proprie palestre della creatività con laboratori che coinvolgono bambini e adulti proponendo una partecipazione attiva. \nATTIVITA‘: Costellazioni Mobili\nDOVE: Spazio Little Mart – MART Museo di Arte Moderna e Contemporanea Rovereto\, C.so Bettini 43\, Rovereto\nQUANDO: Domenica 13 luglio 2025\, ore 15.00 – 16.30\nCOSTO: 5 euro a bambino. Accompagnatore gratuito\nADATTO A: bambini 5-10 anni\nPRENOTAZIONI:  dal lunedì al venerdì scrivendo a education@mart.trento.it o telefonando allo 0464 454135-108. Il sabato e la domenica presso la biglietteria del Mart (0464 454240). \nConosci già il MART? Scoprilo meglio\, leggi Al MART coi bambini \nLittle Mart vi aspetta tutte le domeniche pomeriggio!
URL:https://www.iltrentinodeibambini.it/eventi/costellazioni-mobili/
LOCATION:MART – Museo ArteModerna e Contemporanea Rovereto\, Corso Bettini 43\, Rovereto\, TN\, 38068\, Italia
CATEGORIES:Al Museo,Laboratori
END:VEVENT
BEGIN:VEVENT
DTSTART;TZID=Europe/Rome:20250713T150000
DTEND;TZID=Europe/Rome:20250713T180000
DTSTAMP:20260424T143105
CREATED:20250609T070743Z
LAST-MODIFIED:20250609T071506Z
UID:10020113-1752418800-1752429600@www.iltrentinodeibambini.it
SUMMARY:Sun Day
DESCRIPTION:Il misterioso volto della nostra stella è svelato attraverso telescopi con particolari filtri per l’osservazione della superficie solare\, delle macchie\, delle gigantesche protuberanze e di spettacolari filamenti. \n\nQuando: 6\, 13\, 20 e 27 luglio | 3\, 10\, 17\, 24 e 31 agosto 2025 dalle ore 15.00 alle 18.00\nDove: Terrazza delle Stelle – Monte Bondone\nCosto: gratuito\nInfo: target 8+\n\n  \nScoprite tutti gli appuntamenti alla Terrazza delle Stelle QUI.
URL:https://www.iltrentinodeibambini.it/eventi/sun-day-2/2025-07-13/
LOCATION:Terrazza delle stelle\, loc. Vason\, Trento 
CATEGORIES:Al Museo,Eventi speciali
GEO:46.0700915;11.1197626
X-APPLE-STRUCTURED-LOCATION;VALUE=URI;X-ADDRESS=Terrazza delle stelle loc. Vason Trento;X-APPLE-RADIUS=500;X-TITLE=loc. Vason:geo:11.1197626,46.0700915
END:VEVENT
BEGIN:VEVENT
DTSTART;TZID=Europe/Rome:20250713T150000
DTEND;TZID=Europe/Rome:20250713T193000
DTSTAMP:20260424T143105
CREATED:20250708T210502Z
LAST-MODIFIED:20250708T210502Z
UID:10020646-1752418800-1752435000@www.iltrentinodeibambini.it
SUMMARY:Genius - mostra laboratorio
DESCRIPTION:Alla scoperta di Leonardo da Vinci e del suo genio in questa mostra- laboratorio che si terrà a Vigo di Fassa presso la Scuola Elementare in Piazza Jan Battista Massar. \nInoltre\, per chi vuole cimentarsi con le indagini\, si potrà provare la Otzi Box\, un’escape room tutta racchiusa in una scatola\, per scovare il killer della famosa mummia del Similaun. \nQUANDO: tutti i giorni (no sabato) dalle 15.00 alle 19.30 (lunedì\, mercoledì e giovedì anche dalle 20.00 alle 22.00 \nCOSTO: biglietti ingresso + visita guidata\, intero 7€\, ridotto 5€\, gratuito per under 5. Sconto  di 2 euro per residenti e possessori Val di Fassa Guest Card \nInfo e prenotazioni: InOut Fassa\, tel. 327 2849619 – mostra@inoutfassa.com
URL:https://www.iltrentinodeibambini.it/eventi/genius-mostra-laboratorio/2025-07-13/
LOCATION:Vigo di Fassa\, Vigo di Fassa 
CATEGORIES:Al Museo,Eventi speciali,Visite guidate
GEO:46.4208634;11.6748775
END:VEVENT
BEGIN:VEVENT
DTSTART;TZID=Europe/Rome:20250713T170000
DTEND;TZID=Europe/Rome:20250713T183000
DTSTAMP:20260424T143105
CREATED:20250701T071448Z
LAST-MODIFIED:20250701T071448Z
UID:10020535-1752426000-1752431400@www.iltrentinodeibambini.it
SUMMARY:Visita guidata al Museo per Via
DESCRIPTION:Addii e fatiche ma anche intraprendenza e successo: la storia del Tesino prende forma nelle avventure dei suoi figli e delle sue figlie che per secoli cercarono fortuna come venditori di stampe sulle strade d’Europa\, diventando pionieri della moderna civiltà delle immagini. \n\nQuando: ogni domenica dal 15 giugno al 14 settembre 2025 alle ore 17.15\nDove: Museo Per Via – Pieve Tesino\nCosto: intero 4 euro | ridotto 3 euro\nInfo: prenotazione consigliata tel. 347.3692738 oppure 0461.314247
URL:https://www.iltrentinodeibambini.it/eventi/visita-guidata-al-museo-per-via/2025-07-13/
LOCATION:Pieve Tesino\, Pieve Tesino
CATEGORIES:Al Museo,Visite guidate
GEO:46.2094504;11.5650253
END:VEVENT
END:VCALENDAR