BEGIN:VCALENDAR
VERSION:2.0
PRODID:-//Il Trentino dei Bambini - ECPv6.13.2//NONSGML v1.0//EN
CALSCALE:GREGORIAN
METHOD:PUBLISH
X-ORIGINAL-URL:https://www.iltrentinodeibambini.it
X-WR-CALDESC:Eventi per Il Trentino dei Bambini
REFRESH-INTERVAL;VALUE=DURATION:PT1H
X-Robots-Tag:noindex
X-PUBLISHED-TTL:PT1H
BEGIN:VTIMEZONE
TZID:Europe/Rome
BEGIN:DAYLIGHT
TZOFFSETFROM:+0100
TZOFFSETTO:+0200
TZNAME:CEST
DTSTART:20250330T010000
END:DAYLIGHT
BEGIN:STANDARD
TZOFFSETFROM:+0200
TZOFFSETTO:+0100
TZNAME:CET
DTSTART:20251026T010000
END:STANDARD
END:VTIMEZONE
BEGIN:VEVENT
DTSTART;TZID=Europe/Rome:20250830T180000
DTEND;TZID=Europe/Rome:20250906T233000
DTSTAMP:20260424T021613
CREATED:20250819T124925Z
LAST-MODIFIED:20250819T124925Z
UID:10020961-1756576800-1757201400@www.iltrentinodeibambini.it
SUMMARY:Festa delle giovenche di razza rendena
DESCRIPTION:Un intera settimana per riscoprire le radici contadine della Val Rendena. La giovenca di razza Rendena è uno dei simboli di questo territorio che per secoli ha basato sull’allevamento la propria sussistenza. Oggi come allora\, la sfilata celebra il legame tra comunità e montagna\, con oltre 150 capi che sfilano nel centro di Pinzolo. \nIn programma anche degustazioni di prodotti tipici\, laboratori\, momenti musicali e attività per grandi e piccoli. \nPROGRAMMA: \nSABATO 30 AGOSTO \nGiovenche music Fest\nOre 18.00: Apertura evento\, servizio bar.\nOre 19.00: Apertura cucina con polenta carbonera e hamburger di carne Trentina.\nOre 21.00: Live music con la Peter trakor band a seguire “Special guest”: Hilary Voice\, DJS and Voice (Alex the voice – Simone Quai – Dada Giulio P – Dennis Zeta). \nLUNEDI’ 1 SETTEMBRE \nLaboratori creativi per bambini.\nOre 16.00: Laboratori creativi per bambini al Portico Paladolomiti Pinzolo.\nLaboratori creativi a cura della Biblioteca Comunale di Pinzolo per bambini dai 6 ai 10 anni. \nMARTEDI’ 2 SETTEMBRE \nGiovenche di Razza Rendena: prati\, pascoli e masi.\nOre 8.45: presso il parcheggio a sud della Chiesa di Caderzone Terme. Seguirà  un’affascinante passeggiata nella piana di Caderzone\, accompagnati da un esperto del Parco alla scoperta della lunga e preziosa tradizione dell’allevamento della razza Rendena.\nInsieme\, visiterete una stalla che alleva vacche di razza Rendena con metodo biologico e il Museo Agricolo dell’Agriturismo Maso Pan.\nIl tutto sarà accompagnato da una deliziosa colazione con degustazione di prodotti tipici locali\nOre 21.00: Paladolomiti Pinzolo – Proiezione film a tema. \nMERCOLEDI’ 3 SETTEMBRE \nVisita alle Fattorie Didattiche di Razza Rendena.\nOre 14.00: Azienda Agricola Fattoria Antica Rendena.\nTrascorreremo alcune ore a stretto contatto con gli animali e la vita dell’agricoltore.\nOre 17.30: Paladolomiti Pinzolo – Proiezione film a tema. \nGIOVEDI’ 4 SETTEMBRE \nConcorso di formaggi ottenuti da latte di vacche di razza Rendena.\nOre 8:00: presso alimentari Caola – Sala bollicine di montagna\, concorso di formaggi ottenuti da latte di vacche di razza Rendena.\nValutazione riservata alla giuria del concorso.\nOre 20:30: Al Paladolomiti di Pinzolo\, fase finale concorso\, interventi degli esperti.\nPresentazione dei caseifici e aziende agricole partecipanti.\nPremiazione dei vincitori. \nVENERDI’ 5 SETTEMBRE \nRendena Food Festival\nDalle ore 18.00 alle ore 23.00: Apertura del VILLAGGIO CONTADINO vendita prodotti locali.\nOre 19.00: Rendena Food Festival\, evento finalizzato a promuovere in chiave moderna le eccellenze gastronomiche del nostro territorio.\nAnimazione musicale!\nOre 21.00: Intrattenimento e musica dal vivo Turbofolk con “Fiamaz e i suoi soci” \nSABATO 6 SETTEMBRE \nFesta dell’allevatore ed elezione della reginetta.\nOre 9.00: Raggruppamento delle giovenche nei pressi del campo mostra.\nDalle ore 9.30 alle ore 14.00: Selezione delle 20 finaliste per la serata.\nDalle ore: 10.00 alle ore 22.00: Villaggio contadino vendita prodotti locali.\nOre 12.30: Pranzo tipico presso il capannone delle feste.\nOre 16.30: Sfilata per le vie di Pinzolo aperta dalla reginetta 2024.\nOre 18.00: Concerto delle bande – balli – caseificazione dimostrativa.\nOre 19.00: Cena tipica.\nOre 19.45: Concorso giovani conduttori.\nOre 20.15: Esposizione finale giovenche elezione reginetta ed estrazione lotteria.\nOre 22.00: Premiazione della reginetta Pinzolo 2025.\nDalle ore 22.30 alle ore 01.00: Folk e musica con la “Dolomiten Bier Band”. \nInfo e contatti: \nAPT Campiglio Dolomiti\, tel. 0465 447501; e-mail: info@campigliodolomiti.it \nScopri l’evento QUI
URL:https://www.iltrentinodeibambini.it/eventi/festa-delle-giovenche-di-razza-rendena/
LOCATION:Pinzolo\, Pinzolo\, 38086
CATEGORIES:Eventi speciali,Feste
GEO:46.1597701;10.7650269
END:VEVENT
BEGIN:VEVENT
DTSTART;VALUE=DATE:20250903
DTEND;VALUE=DATE:20250908
DTSTAMP:20260424T021613
CREATED:20240903T123625Z
LAST-MODIFIED:20250811T101148Z
UID:10014000-1756857600-1757289599@www.iltrentinodeibambini.it
SUMMARY:Terlago Sport Festival
DESCRIPTION:Torna anche quest’anno l’evento sportivo Terlago Sport Festival\, manifestazione dedicata al mondo dello sport e del benessere\, che si svolge dal 3 al 7 settembre 2025\, offrendo 5 giorni di eventi per tutte le età. \nProgramma in sintesi: \n\nMercoledì 3 e giovedì 4: interventi serali a tema sportivo\nVenerdì 5: serata di festa con concerto e apertura cucina per un momento di convivialità\nSabato 6 e domenica 7: giornate dedicate alla pratica di vari sport (atletica\, calcio\, freccette\, rugby\, minimoto\, baseball\, tiro con l’arco\, capoeira) con tante associazioni locali presenti nel Parco Braidon e nel campetto parrocchiale.\nSabato sera: musica con DJ set.\nDomenica mattina: grande appuntamento con la Passeggino Marathon!\nCucina aperta per tutto il weekend!\n\n \n 
URL:https://www.iltrentinodeibambini.it/eventi/terlago-sport-festival-2/
LOCATION:Parco Braidon di Terlago\, Terlago Vallelaghi\, 38096\, Italia
CATEGORIES:Al parco,Eventi speciali,Feste
END:VEVENT
BEGIN:VEVENT
DTSTART;TZID=Europe/Rome:20250904T080000
DTEND;TZID=Europe/Rome:20250904T170000
DTSTAMP:20260424T021613
CREATED:20250904T135832Z
LAST-MODIFIED:20250904T135832Z
UID:10021126-1756972800-1757005200@www.iltrentinodeibambini.it
SUMMARY:Eclissi di Luna sul Talvera
DESCRIPTION:Il 7 settembre il cielo dell’Alto Adige ci regalerà uno spettacolo raro: al sorgere della luna\, intorno alle 19:45\, sarà visibile un’eclissi lunare totale. In quell’occasione la luna entrerà nel cono d’ombra della Terra e assumerà un colore che varia dal rame al rosso cupo – da cui il nome suggestivo di “luna di sangue”. \nProgramma al Museo di Scienze Naturali e sui Prati del Talvera\nPer celebrare questo affascinante fenomeno astronomico\, il Planetarium Alto Adige\, in collaborazione con il Museo di Scienze Naturali dell’Alto Adige\, propone diverse iniziative. A causa di un guasto tecnico\, le proiezioni non si svolgeranno al Planetarium di San Valentino in Campo\, bensì nel planetario mobile al 3° piano del Museo di Scienze Naturali a Bolzano. \nDomenica 7 settembre – Proiezioni nel planetario mobile \n14:00 – Meine Heimat (de)\n15:00 – Spettacolo interattivo (it)\n16:00 – Spettacolo interattivo (de)\n17:00 – Spettacolo interattivo (it) \nInoltre\, se il tempo sarà favorevole\, dalle 20:00 si potrà assistere gratuitamente all’osservazione dell’eclissi con telescopi sui Prati del Talvera a Bolzano\, nei pressi del parco giochi Pippo e dei tavoli da ping pong. \nGoogle Maps: https://maps.app.goo.gl/nuvvuxn3EwrdnhfF9 \nPer tutte le proiezioni nel planetario mobile è consigliata la prenotazione tramite il sito del Planetarium www.planetarium.bz.it
URL:https://www.iltrentinodeibambini.it/eventi/eclissi-di-luna-sul-talvera/
LOCATION:Trentino
END:VEVENT
BEGIN:VEVENT
DTSTART;TZID=Europe/Rome:20250904T090000
DTEND;TZID=Europe/Rome:20250904T110000
DTSTAMP:20260424T021613
CREATED:20250701T175012Z
LAST-MODIFIED:20250710T102620Z
UID:10020705-1756976400-1756983600@www.iltrentinodeibambini.it
SUMMARY:Tartarugando
DESCRIPTION:Vieni a conoscere la vita e le abitudini della colonia di testuggini di Sperimentarea\, al Bosco della Città di Rovereto\, in località Vallunga: un esperto del Museo di Scienze e Archeologia di Rovereto ti racconterà tutto ciò che c’è da sapere su questi affascinanti e misteriosi animali. \nQuando: tutti i giovedì dal 19 giugno all’11 settembre 2025\, su due turni: 9.00-10.00 e 10.00-11.00\nPunto di ritrovo: Sperimentarea\, Bosco della Città\, loc. Vallunga – Rovereto (TN)\nDurata: 1 ora\nPrenotazione: entro le ore 17 del giorno precedente QUI\nPartecipazione:  gratuita\nAltro: abbigliamento e calzature appropriate. I bambini devono essere accompagnati da un adulto. \nIn caso di maltempo l’attività potrà essere annullata. \nInfo\nTel. 0464 452800\nmuseo@fondazionemcr.it \nScopri qui il Museo Civico Rovereto
URL:https://www.iltrentinodeibambini.it/eventi/tartarugando/2025-09-04/
LOCATION:Sperimentarea\, via Vallunga\, Roverto\, Italia
CATEGORIES:Al parco,Visite guidate
END:VEVENT
BEGIN:VEVENT
DTSTART;TZID=Europe/Rome:20250904T100000
DTEND;TZID=Europe/Rome:20250904T120000
DTSTAMP:20260424T021613
CREATED:20250607T133326Z
LAST-MODIFIED:20250607T133326Z
UID:10020053-1756980000-1756987200@www.iltrentinodeibambini.it
SUMMARY:La Magia del Burro
DESCRIPTION:Piccolo laboratorio manuale da fare con la propria famiglia per vivere in prima persona la tradizione locale e preparare il burro con la zangola. Maggiori dettagli QUI. \n\nQuando: tutti i giovedì dal 3 luglio al 4 settembre 2025 alle ore 10.00\nDove: stazione di monte della cabinovia del Ciampac\nCosto: gratuito\nInfo: target 4+ | prenotazione obbligatoria online\nDurata: circa 2 ore\n\nScopri qui Le 1001 meraviglie del Ciampac
URL:https://www.iltrentinodeibambini.it/eventi/la-magia-del-burro-2/2025-09-04/
LOCATION:Funivia Ciampac (stazione a monte)\, Strada de Contrin\, 17\, Alba di Canazei\, 38032\, Italia
CATEGORIES:Laboratori
END:VEVENT
BEGIN:VEVENT
DTSTART;TZID=Europe/Rome:20250904T100000
DTEND;TZID=Europe/Rome:20250904T123000
DTSTAMP:20260424T021613
CREATED:20250605T130823Z
LAST-MODIFIED:20250605T130823Z
UID:10019971-1756980000-1756989000@www.iltrentinodeibambini.it
SUMMARY:Il dolce mondo delle api
DESCRIPTION:Raggiungiamo con un comodo sentiero la baita dell’apicoltore che ci porterà alla scoperta del mondo delle api per ammirare il loro lavoro e assaggiare il dolce miele. \n\nQuando: ogni giovedì dalle 10.00 alle 12.30\nDove: partenza impianti Ronchi – Alpe Lusia\nCosto: 34 euro adulti | 25 euro ragazzi 8-18 anni | 17 euro bambini 3-8 anni compreso di cabinovia a/r\, attività e pranzo allo Chalet Valbona\nInfo: prenotazione online QUI\n\nScoprite tutte le attività per famiglie sull’Alpe Lusia QUI.
URL:https://www.iltrentinodeibambini.it/eventi/il-dolce-mondo-delle-api-2/2025-09-04/
LOCATION:Alpe Lusia\, Loc. Ronc 4\, Moena\, TN\, 38035\, Italia
CATEGORIES:Visite guidate
END:VEVENT
BEGIN:VEVENT
DTSTART;TZID=Europe/Rome:20250904T103000
DTEND;TZID=Europe/Rome:20250904T113000
DTSTAMP:20260424T021613
CREATED:20250519T112944Z
LAST-MODIFIED:20250519T112944Z
UID:10019504-1756981800-1756985400@www.iltrentinodeibambini.it
SUMMARY:Laboratorio di teatro
DESCRIPTION:Entriamo a far parte del racconto del Villaggio con il laboratorio di teatro! \n\nQuando: dal 21 giugno al 21 settembre 2025 ogni giovedì alle ore 10.30\nDove: Villaggio dei Racconti – Alpe Cermis\nCosto: 6 euro (il costo comprende oltre all’attività\, l’ingresso al Villaggio\, alle zone relax e al Bike Park)\nInfo: tel. 0462.340490\n\n  \nScoprite tutte le attività settimanali del Villaggio dei Racconti sull’Alpe Cermis QUI.
URL:https://www.iltrentinodeibambini.it/eventi/laboratorio-di-teatro/2025-09-04/
LOCATION:Alpe Cermis
CATEGORIES:Eventi speciali,Laboratori
END:VEVENT
BEGIN:VEVENT
DTSTART;TZID=Europe/Rome:20250904T140000
DTEND;TZID=Europe/Rome:20250904T150000
DTSTAMP:20260424T021613
CREATED:20250607T144522Z
LAST-MODIFIED:20250607T144522Z
UID:10020065-1756994400-1756998000@www.iltrentinodeibambini.it
SUMMARY:Apicoltore per un giorno
DESCRIPTION:Ogni giovedì pomeriggio al Rifugio Tobià del Giagher in Ciampac vieni a scoprire tantissime curiosità sulle api\, sul loro ciclo di vita e sul lavoro dell’apicoltore. \n\nQuando: tutti i giovedì dal 3 luglio al 4 settembre 2025\nDestinatari: famiglie con bambini\, età minima 4 anni.\nDifficoltà: facile\nPasseggino: sì\nOrario e punto di ritrovo: ore 14:00 nei pressi del Rifugio Tobià del Giagher\nDurata: 1 ora circa\nPrezzo: gratuito\n\nScopri qui Le 1001 Meraviglie del Ciampac
URL:https://www.iltrentinodeibambini.it/eventi/apicoltore-per-un-giorno/2025-09-04/
LOCATION:Funivia Ciampac (stazione a monte)\, Strada de Contrin\, 17\, Alba di Canazei\, 38032\, Italia
CATEGORIES:Visite guidate
END:VEVENT
BEGIN:VEVENT
DTSTART;TZID=Europe/Rome:20250904T140000
DTEND;TZID=Europe/Rome:20250904T163000
DTSTAMP:20260424T021613
CREATED:20250613T131308Z
LAST-MODIFIED:20250613T131308Z
UID:10020212-1756994400-1757003400@www.iltrentinodeibambini.it
SUMMARY:Piccoli arcieri
DESCRIPTION:Tiro con l’arco in compagnia degli istruttori di A.s.d. Arcieri Dolomiti: trovate l’equilibrio\, tirate e centrate l’obiettivo! \n\nQuando: tutti i martedì e giovedì dall’1 luglio al 4 settembre 2025 alle ore 14.15 e 15.15\nDove: Località Zocchet – Lanterna Verde | Tonadico\nCosto: 10 euro a persona\nInfo: durata un’ora | attività su prenotazione online QUI
URL:https://www.iltrentinodeibambini.it/eventi/piccoli-arcieri/2025-09-04/
LOCATION:Tonadico di Primiero\, 38054
CATEGORIES:Eventi speciali
GEO:35.35223;-89.86614
END:VEVENT
BEGIN:VEVENT
DTSTART;TZID=Europe/Rome:20250904T140000
DTEND;TZID=Europe/Rome:20250904T183000
DTSTAMP:20260424T021613
CREATED:20250622T175125Z
LAST-MODIFIED:20250622T175125Z
UID:10020348-1756994400-1757010600@www.iltrentinodeibambini.it
SUMMARY:Marmotte\, sentinelle della Val Venegia
DESCRIPTION:Pomeriggio immersivo in Val Venegia\, cuore delle Dolomiti! Assieme ad uno zoologo esperto\, esplorerai le colonie di marmotte. Al termine dell’attività\, ti attende una gustosa merenda a Malga Venegiota\, con torte e dolci tipici di produzione propria. \n\nRitrovo tutti i giovedì dal 3 luglio al 4 settembre 2025 alle ore 14.00 presso il Centro Visitatori di Paneveggio a Predazzo\nTrasferimento verso la Val Venegia con mezzo proprio\, termine attività alle ore 18.30 circa\nQuota di partecipazione (merenda inclusa): € 15\,00; € 5\,00 per bambini dai 4 agli 11 anni (gratuito per bambini fino ai 3 anni)\nPer vivere l’esperienza al meglio\, si consiglia di dotarsi di binocolo e di indossare abbigliamento e calzature adatti a svolgere un’escursione in montagna (si cammina ca. un’ora) e ripararsi da sole/pioggia\nObbligatoria la prenotazione:  0439/026289\, oppure visitatori@parcopan.org\n\n\n\n\n\n\n\n\n\n\n\n\n\n\n 
URL:https://www.iltrentinodeibambini.it/eventi/marmotte-sentinelle-della-val-venegia/2025-09-04/
LOCATION:Centro Visitatori Paneveggio – Predazzo\, SS50\, 11\, Predazzo\, Trentino\, 38037\, Italia
CATEGORIES:Escursioni,Visite guidate
END:VEVENT
BEGIN:VEVENT
DTSTART;TZID=Europe/Rome:20250904T143000
DTEND;TZID=Europe/Rome:20250904T160000
DTSTAMP:20260424T021613
CREATED:20250519T111456Z
LAST-MODIFIED:20250519T111456Z
UID:10019423-1756996200-1757001600@www.iltrentinodeibambini.it
SUMMARY:Minatori per un giorno
DESCRIPTION:Caccia al tesoro “Minatori per un giorno”. \n\nQuando: ogni martedì e giovedì dal 21 giugno al 21 settembre 2025 alle ore 14.45\nDove: Villaggio dei Racconti – Alpe Cermis\nCosto: 6 euro (il costo comprende oltre all’attività\, l’ingresso al Villaggio\, alle zone relax e al Bike Park)\nInfo: tel. 0462.340490\n\n  \nScoprite tutte le attività settimanali del Villaggio dei Racconti sull’Alpe Cermis QUI.
URL:https://www.iltrentinodeibambini.it/eventi/minatori-per-un-giorno/2025-09-04/
LOCATION:Alpe Cermis
CATEGORIES:Eventi speciali
END:VEVENT
BEGIN:VEVENT
DTSTART;TZID=Europe/Rome:20250904T150000
DTEND;TZID=Europe/Rome:20250904T163000
DTSTAMP:20260424T021613
CREATED:20250811T214209Z
LAST-MODIFIED:20250811T214209Z
UID:10020941-1756998000-1757003400@www.iltrentinodeibambini.it
SUMMARY:Conosci il cavallo a Malga Nudole
DESCRIPTION:Se ami gli equini e le montagne\, non puoi perderti questa esperienza! A Malga Nudole\, in Valle di Daone avrai la possibilità di scoprire da vicino il cavallo: il suo carattere\, l’alimentazione\, la cura e la pulizia della criniera. In seguito\, se vorrai\, potrai partecipare a un’escursione guidata di 15 minuti\, ideale per adulti e bambini\, al costo di 10€. \nQUANDO: ogni giovedì fino al 4 settembre 2025\, ore 15.00\nDOVE: Malga Nudole – Valdaone (TN)\nPRENOTAZIONE: contattare APT Campiglio o visitare il sito www.malgheaperte.it \nInfo e contatti:  APT Campiglio\, telefono 0465.447501 – info@campigliodolomiti.it \nScopri qui il progetto Malghe Aperte 
URL:https://www.iltrentinodeibambini.it/eventi/conosci-il-cavallo-a-malga-nudole/2025-09-04/
LOCATION:malga Nudole\, valle di Daone\, Valdaone\, Italia
CATEGORIES:Eventi speciali,In fattoria
END:VEVENT
BEGIN:VEVENT
DTSTART;TZID=Europe/Rome:20250904T160000
DTEND;TZID=Europe/Rome:20250904T170000
DTSTAMP:20260424T021613
CREATED:20250529T081632Z
LAST-MODIFIED:20250529T081632Z
UID:10019713-1757001600-1757005200@www.iltrentinodeibambini.it
SUMMARY:Nei panni del casaro
DESCRIPTION:Bambini sapete come si fa il formaggio? Bene\, allora venite a farlo voi\, sì\, con le vostre mani! Insieme ad Adriano\, saggio e simpatico mastro casaro\, scoprirete come il latte si trasforma in formaggio e negli altri suoi derivati. Sembra una magia\, ma non lo è! Eh sì\, con questo laboratorio il formaggio o il burro lo farete proprio voi\, come dei grandi casari per un giorno\, e imparerete anche tante cose nuove sul territorio\, sugli animali e sul latte\, un alimento importantissimo! \n\nQuando: 26 giugno | 3\, 10\, 17\, 24 e 31 luglio | 14\, 21 e 28 agosto | 4 settembre 2025 alle ore 16.00\nDove: Palazzo Scopoli – Tonadico\nCosto: 15 euro a partecipante | o-3 anni gratuito\nInfo: consigliato dai 4 anni in su | prenotazione online QUI
URL:https://www.iltrentinodeibambini.it/eventi/nei-panni-del-casaro-2/2025-09-04/
LOCATION:Palazzo Scopoli\, piazzetta Marzollo\, 3\, Tonadico\, Italia
CATEGORIES:Eventi speciali,Laboratori
END:VEVENT
BEGIN:VEVENT
DTSTART;TZID=Europe/Rome:20250904T160000
DTEND;TZID=Europe/Rome:20250904T170000
DTSTAMP:20260424T021613
CREATED:20250701T070717Z
LAST-MODIFIED:20250701T070717Z
UID:10020519-1757001600-1757005200@www.iltrentinodeibambini.it
SUMMARY:Visita al museo Casa De Gasperi
DESCRIPTION:Da Pieve Tesino all’Europa: un viaggio attraverso il Novecento sulle orme di Alcide De Gasperi. Nella sua casa natale rivivono gli ideali che ne hanno fatto un protagonista dell’autonomia trentina\, della ricostruzione democratica dell’Italia e del sogno europeo. \n\nQuando: tutti i giovedì dal 19 giugno al 18 settembre 2025 alle ore 16.00\nDove: ritrovo presso Museo Casa De Gasperi – Pieve Tesino\nCosto: intero 4 euro | ridotto 3 euro\nInfo: prenotazione consigliata tel. 344.2777594 oppure 0461.314247
URL:https://www.iltrentinodeibambini.it/eventi/visita-al-museo-casa-de-gasperi/2025-09-04/
LOCATION:Museo Casa De Gasperi\, Via Alcide De Gasperi\, 1 38050 \, Pieve Tesino 
CATEGORIES:Visite guidate
GEO:46.0677042;11.6127728
X-APPLE-STRUCTURED-LOCATION;VALUE=URI;X-ADDRESS=Museo Casa De Gasperi Via Alcide De Gasperi 1 38050  Pieve Tesino;X-APPLE-RADIUS=500;X-TITLE=Via Alcide De Gasperi\, 1 38050:geo:11.6127728,46.0677042
END:VEVENT
BEGIN:VEVENT
DTSTART;TZID=Europe/Rome:20250904T160000
DTEND;TZID=Europe/Rome:20250904T183000
DTSTAMP:20260424T021613
CREATED:20250412T224306Z
LAST-MODIFIED:20250412T224306Z
UID:10018323-1757001600-1757010600@www.iltrentinodeibambini.it
SUMMARY:Fruttiamo
DESCRIPTION:Camminando lungo la salita al Maso Maserac\, scoprirai dove nascono i piccoli frutti golosi che verranno proposti alla fine del percorso in una merenda gustosa. \nINFO & FAQ:\n \n\nQuando: dal lunedì al giovedì dal 10 luglio al 30 settembre 2025;\norario: ore 16.00\nPrenotazione entro le 12:00 del giorno stesso: clicca QUI\nOrario di ritrovo: ore 16:00;\nPunto di ritrovo: Chiesa di San Lorenzo | Vigo Lomaso (Comano Terme)\nContatti per dettagli su questa escursione:  +39 345 0796009;\nDurata: 2\,5 ore;\nServizi inclusi: Visita guidata alle coltivazioni di piccoli frutti dell’azienda agricola Agriconda – Maso Maserac\, passeggiata lungo la salita al maso e degustazione di piccoli frutti o altri prodotti di stagione;\nAttrezzatura richiesta: scarpe comode\, adatte a camminare su un terreno erboso e irregolari;\nUlteriori Informazioi: Il percorso non è adatto alle carrozzine; l’utilizzo di passeggini è possibile\, ma poco agevole.\n\nConosci Maso Maserac? Si possono fare anche dei meravigliosi picnic: leggi Picnic a Maso Maserac
URL:https://www.iltrentinodeibambini.it/eventi/fruttiamo-2/2025-09-04/
LOCATION:Maso Maserac\, Vigo Lomaso\, Italia
CATEGORIES:In fattoria,Spazi d'incontro
END:VEVENT
BEGIN:VEVENT
DTSTART;TZID=Europe/Rome:20250904T163000
DTEND;TZID=Europe/Rome:20250904T173000
DTSTAMP:20260424T021613
CREATED:20250829T180330Z
LAST-MODIFIED:20250829T180330Z
UID:10021059-1757003400-1757007000@www.iltrentinodeibambini.it
SUMMARY:Prova il minibasket - Sport nel verde
DESCRIPTION:Prova il minibasket misto con il G.S. Belvedere asd \n\nQuando: martedì 2 e giovedì 4 settembre 2025 alle ore 16.30\nDove: presso il campo da basket – Giardino Ravina Itea\nCosto: gratuito\nTarget: bambini\nInfo: sport@comune.trento.it\n\nScoprite tutti gli appuntamenti di Sport nel verde QUI.
URL:https://www.iltrentinodeibambini.it/eventi/prova-il-minibasket-sport-nel-verde/2025-09-04/
LOCATION:Giardino di Ravina\, via Filari Longhi\, Ravina 
CATEGORIES:Al parco,Eventi speciali
GEO:46.0376502;11.1108578
X-APPLE-STRUCTURED-LOCATION;VALUE=URI;X-ADDRESS=Giardino di Ravina via Filari Longhi Ravina;X-APPLE-RADIUS=500;X-TITLE=via Filari Longhi:geo:11.1108578,46.0376502
END:VEVENT
BEGIN:VEVENT
DTSTART;TZID=Europe/Rome:20250904T170000
DTEND;TZID=Europe/Rome:20250904T180000
DTSTAMP:20260424T021613
CREATED:20250508T085709Z
LAST-MODIFIED:20250508T085709Z
UID:10019110-1757005200-1757008800@www.iltrentinodeibambini.it
SUMMARY:Visita teatralizzata per famiglie
DESCRIPTION:Un viaggio indietro nel tempo alla scoperta dell’arcipelago fossile delle Dolomiti. Giochi\, curiosità e nuove conoscenze sono garantite per chi navigherà nell’antico mare delle Tetide. \n\nQuando: tutti i giovedì dal 3 luglio al 4 settembre alle ore 17.00\nDove: museo Geologico delle Dolomiti – Predazzo\nCosto: 6\,50 euro per coppia persona adulta + bambina/o | 3\,5 euro eventuali altre/i bambine/i o adulti\nInfo: target: famiglie | prenotazione online QUI\n\n  \nScoprite tutti gli eventi per bambini al museo Geologico delle Dolomiti QUI.
URL:https://www.iltrentinodeibambini.it/eventi/visita-teatralizzata-per-famiglie/2025-09-04/
LOCATION:Museo Geologico delle Dolomiti\, Piazza SS. Filippo e Giacomo 1\, Predazzo 
CATEGORIES:Al Museo,Visite guidate
GEO:46.3128605;11.602666
X-APPLE-STRUCTURED-LOCATION;VALUE=URI;X-ADDRESS=Museo Geologico delle Dolomiti Piazza SS. Filippo e Giacomo 1 Predazzo;X-APPLE-RADIUS=500;X-TITLE=Piazza SS. Filippo e Giacomo 1:geo:11.602666,46.3128605
END:VEVENT
BEGIN:VEVENT
DTSTART;TZID=Europe/Rome:20250904T170000
DTEND;TZID=Europe/Rome:20250904T180000
DTSTAMP:20260424T021613
CREATED:20250829T165739Z
LAST-MODIFIED:20250829T165739Z
UID:10021052-1757005200-1757008800@www.iltrentinodeibambini.it
SUMMARY:Prova il baseball - Sport nel verde
DESCRIPTION:Prova il baseball con Trento Baseball ASD. \n\nQuando: giovedì 4\, 11\, 18 e 25 settembre 2025 alle ore 17.00\nDove: Giardino Maria Teresa d’Asburgo – Trento\nCosto: gratuito\nInfo: per bambini\n\nScoprite tutti gli appuntamenti di Sport nel verde QUI.
URL:https://www.iltrentinodeibambini.it/eventi/prova-il-baseball-sport-nel-verde-2/2025-09-04/
LOCATION:Giardino Maria Teresa d’Asburgo\, Via Anna Frank\, Trento
CATEGORIES:Al parco,Eventi speciali
END:VEVENT
BEGIN:VEVENT
DTSTART;TZID=Europe/Rome:20250904T170000
DTEND;TZID=Europe/Rome:20250904T180000
DTSTAMP:20260424T021613
CREATED:20250902T112345Z
LAST-MODIFIED:20250902T112345Z
UID:10021120-1757005200-1757008800@www.iltrentinodeibambini.it
SUMMARY:Avventure in città
DESCRIPTION:Spettacolo teatrale per bambini. Il protagonista di tutte le favole esce di casa con il suo peluche preferito\, di nascosto dai genitori\, incontrando lungo la strada della sua città nuove avventure… \n\nQuando: giovedì 4 settembre 2025 alle ore 17.00\nDove: Piazza Scacchi – Molveno\nCosto: non specificato\nInfo: tel. 0461 585836
URL:https://www.iltrentinodeibambini.it/eventi/avventure-in-citta-2/
LOCATION:Molveno\, centro storico\, Molveno
CATEGORIES:Eventi speciali
GEO:46.1417344;10.9651455
X-APPLE-STRUCTURED-LOCATION;VALUE=URI;X-ADDRESS=Molveno centro storico Molveno;X-APPLE-RADIUS=500;X-TITLE=centro storico:geo:10.9651455,46.1417344
END:VEVENT
BEGIN:VEVENT
DTSTART;TZID=Europe/Rome:20250904T170000
DTEND;TZID=Europe/Rome:20250904T183000
DTSTAMP:20260424T021613
CREATED:20250701T070934Z
LAST-MODIFIED:20250701T070934Z
UID:10020531-1757005200-1757010600@www.iltrentinodeibambini.it
SUMMARY:Visita culturale al Giardino d'Europa
DESCRIPTION:Una passeggiata alla scoperta di bellissime fioriture e dei tanti significati simbolici dell’unico giardino italiano dedicato all’Europa. \n\nQuando: tutti i giovedì dal 19 giugno al 18 settembre 2025 alle ore 17.15\nDove: ritrovo presso Museo Casa De Gasperi – Pieve Tesino\nCosto: intero 4 euro | ridotto 3 euro\nInfo: prenotazione consigliata tel. 344.2777594 oppure 0461.314247
URL:https://www.iltrentinodeibambini.it/eventi/visita-culturale-al-giardino-deuropa/2025-09-04/
LOCATION:Pieve Tesino\, Pieve Tesino
CATEGORIES:Visite guidate
GEO:46.2094504;11.5650253
END:VEVENT
BEGIN:VEVENT
DTSTART;TZID=Europe/Rome:20250904T170000
DTEND;TZID=Europe/Rome:20250904T183000
DTSTAMP:20260424T021613
CREATED:20250717T124044Z
LAST-MODIFIED:20250717T124044Z
UID:10020774-1757005200-1757010600@www.iltrentinodeibambini.it
SUMMARY:Visita al Mulino Ruatti
DESCRIPTION:Visita il Molino Ruatti alla scoperta della tradizione alimentare del territorio\, con laboratorio di autoproduzione con le piante del loro orto. \n\nAttività a pagamento\nPrenotazione  al n. 353.4264921; 0463. 903166 entro le ore 12.oo del giorno stesso\nRitrovo: Molino Ruatti\nOre 17.00 -18.30\nDal 26 giugno al 4 settembre 2025\n\nScopri: Val di Rabbi\, estate coi bambini
URL:https://www.iltrentinodeibambini.it/eventi/visita-al-mulino-ruatti/2025-09-04/
LOCATION:Molino Ruatti\, Fraz. Pracorno\, Rabbi\, Italia
CATEGORIES:Al Museo,Laboratori,Visite guidate
END:VEVENT
END:VCALENDAR