BEGIN:VCALENDAR
VERSION:2.0
PRODID:-//Il Trentino dei Bambini - ECPv6.13.2//NONSGML v1.0//EN
CALSCALE:GREGORIAN
METHOD:PUBLISH
X-ORIGINAL-URL:https://www.iltrentinodeibambini.it
X-WR-CALDESC:Eventi per Il Trentino dei Bambini
REFRESH-INTERVAL;VALUE=DURATION:PT1H
X-Robots-Tag:noindex
X-PUBLISHED-TTL:PT1H
BEGIN:VTIMEZONE
TZID:Europe/Rome
BEGIN:DAYLIGHT
TZOFFSETFROM:+0100
TZOFFSETTO:+0200
TZNAME:CEST
DTSTART:20250330T010000
END:DAYLIGHT
BEGIN:STANDARD
TZOFFSETFROM:+0200
TZOFFSETTO:+0100
TZNAME:CET
DTSTART:20251026T010000
END:STANDARD
END:VTIMEZONE
BEGIN:VEVENT
DTSTART;TZID=Europe/Rome:20250830T180000
DTEND;TZID=Europe/Rome:20250906T233000
DTSTAMP:20260424T021613
CREATED:20250819T124925Z
LAST-MODIFIED:20250819T124925Z
UID:10020961-1756576800-1757201400@www.iltrentinodeibambini.it
SUMMARY:Festa delle giovenche di razza rendena
DESCRIPTION:Un intera settimana per riscoprire le radici contadine della Val Rendena. La giovenca di razza Rendena è uno dei simboli di questo territorio che per secoli ha basato sull’allevamento la propria sussistenza. Oggi come allora\, la sfilata celebra il legame tra comunità e montagna\, con oltre 150 capi che sfilano nel centro di Pinzolo. \nIn programma anche degustazioni di prodotti tipici\, laboratori\, momenti musicali e attività per grandi e piccoli. \nPROGRAMMA: \nSABATO 30 AGOSTO \nGiovenche music Fest\nOre 18.00: Apertura evento\, servizio bar.\nOre 19.00: Apertura cucina con polenta carbonera e hamburger di carne Trentina.\nOre 21.00: Live music con la Peter trakor band a seguire “Special guest”: Hilary Voice\, DJS and Voice (Alex the voice – Simone Quai – Dada Giulio P – Dennis Zeta). \nLUNEDI’ 1 SETTEMBRE \nLaboratori creativi per bambini.\nOre 16.00: Laboratori creativi per bambini al Portico Paladolomiti Pinzolo.\nLaboratori creativi a cura della Biblioteca Comunale di Pinzolo per bambini dai 6 ai 10 anni. \nMARTEDI’ 2 SETTEMBRE \nGiovenche di Razza Rendena: prati\, pascoli e masi.\nOre 8.45: presso il parcheggio a sud della Chiesa di Caderzone Terme. Seguirà  un’affascinante passeggiata nella piana di Caderzone\, accompagnati da un esperto del Parco alla scoperta della lunga e preziosa tradizione dell’allevamento della razza Rendena.\nInsieme\, visiterete una stalla che alleva vacche di razza Rendena con metodo biologico e il Museo Agricolo dell’Agriturismo Maso Pan.\nIl tutto sarà accompagnato da una deliziosa colazione con degustazione di prodotti tipici locali\nOre 21.00: Paladolomiti Pinzolo – Proiezione film a tema. \nMERCOLEDI’ 3 SETTEMBRE \nVisita alle Fattorie Didattiche di Razza Rendena.\nOre 14.00: Azienda Agricola Fattoria Antica Rendena.\nTrascorreremo alcune ore a stretto contatto con gli animali e la vita dell’agricoltore.\nOre 17.30: Paladolomiti Pinzolo – Proiezione film a tema. \nGIOVEDI’ 4 SETTEMBRE \nConcorso di formaggi ottenuti da latte di vacche di razza Rendena.\nOre 8:00: presso alimentari Caola – Sala bollicine di montagna\, concorso di formaggi ottenuti da latte di vacche di razza Rendena.\nValutazione riservata alla giuria del concorso.\nOre 20:30: Al Paladolomiti di Pinzolo\, fase finale concorso\, interventi degli esperti.\nPresentazione dei caseifici e aziende agricole partecipanti.\nPremiazione dei vincitori. \nVENERDI’ 5 SETTEMBRE \nRendena Food Festival\nDalle ore 18.00 alle ore 23.00: Apertura del VILLAGGIO CONTADINO vendita prodotti locali.\nOre 19.00: Rendena Food Festival\, evento finalizzato a promuovere in chiave moderna le eccellenze gastronomiche del nostro territorio.\nAnimazione musicale!\nOre 21.00: Intrattenimento e musica dal vivo Turbofolk con “Fiamaz e i suoi soci” \nSABATO 6 SETTEMBRE \nFesta dell’allevatore ed elezione della reginetta.\nOre 9.00: Raggruppamento delle giovenche nei pressi del campo mostra.\nDalle ore 9.30 alle ore 14.00: Selezione delle 20 finaliste per la serata.\nDalle ore: 10.00 alle ore 22.00: Villaggio contadino vendita prodotti locali.\nOre 12.30: Pranzo tipico presso il capannone delle feste.\nOre 16.30: Sfilata per le vie di Pinzolo aperta dalla reginetta 2024.\nOre 18.00: Concerto delle bande – balli – caseificazione dimostrativa.\nOre 19.00: Cena tipica.\nOre 19.45: Concorso giovani conduttori.\nOre 20.15: Esposizione finale giovenche elezione reginetta ed estrazione lotteria.\nOre 22.00: Premiazione della reginetta Pinzolo 2025.\nDalle ore 22.30 alle ore 01.00: Folk e musica con la “Dolomiten Bier Band”. \nInfo e contatti: \nAPT Campiglio Dolomiti\, tel. 0465 447501; e-mail: info@campigliodolomiti.it \nScopri l’evento QUI
URL:https://www.iltrentinodeibambini.it/eventi/festa-delle-giovenche-di-razza-rendena/
LOCATION:Pinzolo\, Pinzolo\, 38086
CATEGORIES:Eventi speciali,Feste
GEO:46.1597701;10.7650269
END:VEVENT
BEGIN:VEVENT
DTSTART;VALUE=DATE:20250903
DTEND;VALUE=DATE:20250908
DTSTAMP:20260424T021613
CREATED:20240903T123625Z
LAST-MODIFIED:20250811T101148Z
UID:10014000-1756857600-1757289599@www.iltrentinodeibambini.it
SUMMARY:Terlago Sport Festival
DESCRIPTION:Torna anche quest’anno l’evento sportivo Terlago Sport Festival\, manifestazione dedicata al mondo dello sport e del benessere\, che si svolge dal 3 al 7 settembre 2025\, offrendo 5 giorni di eventi per tutte le età. \nProgramma in sintesi: \n\nMercoledì 3 e giovedì 4: interventi serali a tema sportivo\nVenerdì 5: serata di festa con concerto e apertura cucina per un momento di convivialità\nSabato 6 e domenica 7: giornate dedicate alla pratica di vari sport (atletica\, calcio\, freccette\, rugby\, minimoto\, baseball\, tiro con l’arco\, capoeira) con tante associazioni locali presenti nel Parco Braidon e nel campetto parrocchiale.\nSabato sera: musica con DJ set.\nDomenica mattina: grande appuntamento con la Passeggino Marathon!\nCucina aperta per tutto il weekend!\n\n \n 
URL:https://www.iltrentinodeibambini.it/eventi/terlago-sport-festival-2/
LOCATION:Parco Braidon di Terlago\, Terlago Vallelaghi\, 38096\, Italia
CATEGORIES:Al parco,Eventi speciali,Feste
END:VEVENT
BEGIN:VEVENT
DTSTART;TZID=Europe/Rome:20250906T080000
DTEND;TZID=Europe/Rome:20250906T120000
DTSTAMP:20260424T021613
CREATED:20250412T212144Z
LAST-MODIFIED:20250412T212144Z
UID:10018206-1757145600-1757160000@www.iltrentinodeibambini.it
SUMMARY:Colazione in fattoria
DESCRIPTION:Inizia la giornata con una buona colazione a base di prodotti della fattoria e del Garda Trentino e poi vai a conoscere gli animali! \nLa colazione è disponibile a partire dalle 8.00\, mentre l’attività in fattoria comincia alle 10.30. Gli adulti partecipanti possono scegliere se trasformare la colazione in un brunch o seguire i più piccoli alla scoperta della fattoria. \nDOVE:  Azienda Agricola Agrisalus\, Pratosaiano (Arco)\, Via Fibbie\, 22;\nQUANDO: dalle ore 8:00\, tutti i sabati e le domeniche fino al 31 gennaio 2026\nDURATA:  2 ore\nPRENOTAZIONE: obbligatoria entro le 16:00 del giorno prima. Clicca QUI per prenotare online\nCOSA E’ INCLUSO: colazione contadina con prodotti della fattoria e del Garda Trentino\, visita della fattoria didattica (mucche\, maiali\, galline\, conigli)\, possibilità per gli adulti di trasformare la colazione in un brunch.\nCOSTO: 25 euro per i bambini dai 3 agli 11 anni (colazione + visita in fattoria)\, colazione accompagnatori 15 euro\, colazione bambini 3-11 anni 10 euro\, gratis bambini sotto i 2 anni. Sconto per possessori Guest Card. \nAl momento della prenotazione specificare eventuali allergie o intolleranze alimentari. Indossare scarpe comode e  adatte alla campagna. \nINFORMAZIONI\nAGRISALUS\nVia Fibbie\, 22 Arco (TN)\ntel.  379 1179271 \nLa colazione in fattoria da Agrisalus è un’experience promossa da APT Garda Dolomiti. Ci siamo stati anche noi: leggi Colazione in fattoria da Agrisalus \nPer maggiori informazioni potete visitare anche il sito di APT Garda Dolomiti QUI
URL:https://www.iltrentinodeibambini.it/eventi/colazione-in-fattoria-2/2025-09-06/
LOCATION:Agrisalus\, via Fibbie\, 22 - Pratosaiano\, Arco\, 38062\, Italia
CATEGORIES:In fattoria,Visite guidate
END:VEVENT
BEGIN:VEVENT
DTSTART;TZID=Europe/Rome:20250906T093000
DTEND;TZID=Europe/Rome:20250906T113000
DTSTAMP:20260424T021613
CREATED:20250811T213734Z
LAST-MODIFIED:20250811T213734Z
UID:10020937-1757151000-1757158200@www.iltrentinodeibambini.it
SUMMARY:Malghe Aperte a Malga Baite
DESCRIPTION:Assisterai da vicino all’attività di caseificazione e a tutte le varie fasi della lavorazione del latte\, finalizzate alla produzione di formaggio di malga\, ricotta e burro. Oltre alla dimostrazione\, avrai la possibilità di visitare la stalla\, in cui avviene la mungitura delle mucche\, e i locali dove si producono e si conservano i formaggi. E se vorrai tornare a casa con qualcosa di speciale e genuino\, il malgaro sarà a tua disposizione per farti assaggiare i prodotti caseari preparati in loco\, che naturalmente potrai acquistare. \nQUANDO: ogni mercoledì alle 9.30 e  e sabato alle 10.30 fino al 7 settembre 2025\nDOVE: Malga Baite – Pieve di Bono- Prezzo (TN)\nPRENOTAZIONE: contattare APT Campiglio o visitare il sito www.malgheaperte.it \nInfo e contatti:  APT Campiglio\, telefono 0465.447501 – info@campigliodolomiti.it \nScopri qui il progetto Malghe Aperte
URL:https://www.iltrentinodeibambini.it/eventi/malghe-aperte-a-malga-baite-2/2025-09-06/
LOCATION:Malga Baite\, Praso
CATEGORIES:Eventi speciali,In fattoria
GEO:45.9491749;10.6364858
END:VEVENT
BEGIN:VEVENT
DTSTART;TZID=Europe/Rome:20250906T093000
DTEND;TZID=Europe/Rome:20250906T123000
DTSTAMP:20260424T021613
CREATED:20250530T145012Z
LAST-MODIFIED:20250530T145012Z
UID:10019851-1757151000-1757161800@www.iltrentinodeibambini.it
SUMMARY:Visita alla Fucina Cortiana
DESCRIPTION:Camminata nel verde con accompagnamento del Corpo Forestale.  La Fucina Cortiana è un antico mulino\, trasformato in officina. Qui il fabbro Francesco Cortiana produceva attrezzi da taglio per l’attività agricola e di silvicoltura. La visita alla fucina viene svolta dal nipote del fabbro\, che racconta la storia del luogo e della sua famiglia\, mettendo in funzione gli antichi strumenti della fucina. \nQUANDO: 7 giugno\, 6 luglio\, 2 agosto\,  6 settembre e 4 ottobre 2025\nORARIO: 9.30 – 12.30 (il 6 luglio ore 9.00-12.00)\nLUOGO DI RITROVO: Piazza San Giovanni\, Ala\nCOSTO: attività gratuita con prenotazione\nPRENOTAZIONE: tel. 0464.674068 o e-mail cultura@comune.ala.tn.it entro le ore 12.00 del venerdì precedente\nADATTO A: famiglie (no passeggini) \nInformazioni presso Comune di Ala – Servizio Attività Culturali\, Sport e Turismo\, tel. 0464.674068
URL:https://www.iltrentinodeibambini.it/eventi/visita-alla-fucina-cortiana/2025-09-06/
LOCATION:Ala – centro storico\, Piazza San Giovanni\, Ala\, TN\, 38061\, Italia
CATEGORIES:Escursioni,Eventi speciali,Visite guidate
END:VEVENT
BEGIN:VEVENT
DTSTART;TZID=Europe/Rome:20250906T093000
DTEND;TZID=Europe/Rome:20250906T230000
DTSTAMP:20260424T021613
CREATED:20250823T123907Z
LAST-MODIFIED:20250823T123907Z
UID:10021012-1757151000-1757199600@www.iltrentinodeibambini.it
SUMMARY:Festa del canederlo
DESCRIPTION:Due giornate per degustare canederli di tutti i tipi\, ma anche per partecipare a stage per imparare a prepararli. Non mancheranno intrattenimenti per grandi e bambini\, come la fattoria degli animali e la carrozza trainata dai cavalli\, l’allegro accompagnamento musicale della musica tirolese e tanto divertimento! \n\nQuando: sabato 6 e domenica 7 settembre 2025\nDove: Imer – Primiero\nCosto: partecipazione libera\nInfo: programma completo QUI\n\n 
URL:https://www.iltrentinodeibambini.it/eventi/festa-del-canederlo/2025-09-06/
LOCATION:Imer\, Imer
CATEGORIES:Eventi speciali,Feste
GEO:46.1504952;11.7938178
END:VEVENT
BEGIN:VEVENT
DTSTART;TZID=Europe/Rome:20250906T100000
DTEND;TZID=Europe/Rome:20250906T113000
DTSTAMP:20260424T021613
CREATED:20250530T125133Z
LAST-MODIFIED:20250530T125133Z
UID:10019833-1757152800-1757158200@www.iltrentinodeibambini.it
SUMMARY:Sapore di Burro
DESCRIPTION:Conoscete le erbe di montagna? Con i bambini andremo a cercarle nei prati circostanti la malga\, ne scopriremo il profumo e le proprietà e infine sceglieremo quelle che più ci piacciono per aromatizzare il burro che prepareremo assieme. \nPer famiglie con bambini dai 4 anni in su\, possibilità di pranzo in malga (non incluso). \nLa malga può essere raggiunta con una facile camminata in discesa dalla conca del Buffaure in circa 40 minuti (rientro in salita). \n\n\nQUANDO: tutti i sabati dal 5 luglio al 6 settembre 2025\nORARIO: ore 10.00\nDURATA: 1 h 30 min\nPUNTO DI RITROVO: Malga Jumela\, Pozza di Fassa\nADATTO A: 4+ anni\nPREZZO: 5 € da pagare in malga (non comprende biglietto impianti Pozza-Buffaure)\nPRENOTAZIONI: necessaria la prenotazione: tel. 348.9301215 dopo le 16.00 \nScopri tutte le attività in Tante super idee in Buffaure
URL:https://www.iltrentinodeibambini.it/eventi/sapore-di-burro/2025-09-06/
LOCATION:Malga Jumela\, Pozza di Fassa\, TN\, 38036\, Italia
CATEGORIES:Eventi speciali,In fattoria,Laboratori
END:VEVENT
BEGIN:VEVENT
DTSTART;TZID=Europe/Rome:20250906T100000
DTEND;TZID=Europe/Rome:20250906T113000
DTSTAMP:20260424T021613
CREATED:20250530T191038Z
LAST-MODIFIED:20250530T191038Z
UID:10019864-1757152800-1757158200@www.iltrentinodeibambini.it
SUMMARY:Sapore di Burro
DESCRIPTION:Dopo aver raggiunto Malga Jumela si partirà alla ricerca delle erbe aromatiche che crescono spontaneamente attorno alla malga. Dopo aver imparato a riconoscerle si sceglieranno quelle più adatte per aromatizzare un buon panetto di burro fresco! \nPer famiglie con bambini dai 4 anni in su\, possibilità di pranzo in malga (non incluso). \nLa malga può essere raggiunta con una facile camminata in discesa dalla conca del Buffaure in circa 40 minuti (rientro in salita). \n\n\nQUANDO: tutti i sabati dal 5 luglio al 6 settembre 2025\nORARIO: ore 10.00\nDURATA: 1 h 30 min\nPUNTO DI RITROVO: Malga Jumela\, Pozza di Fassa\nADATTO A: 4+ anni\nPREZZO: 5 € da pagare in malga (non comprende biglietto impianti Pozza-Buffaure)\nPRENOTAZIONI: necessaria la prenotazione: tel. 348.9301215 dopo le 16.00
URL:https://www.iltrentinodeibambini.it/eventi/sapore-di-burro-2/2025-09-06/
LOCATION:Malga Jumela\, Pozza di Fassa\, TN\, 38036\, Italia
CATEGORIES:In fattoria,Laboratori,Visite guidate
END:VEVENT
BEGIN:VEVENT
DTSTART;TZID=Europe/Rome:20250906T100000
DTEND;TZID=Europe/Rome:20250906T120000
DTSTAMP:20260424T021613
CREATED:20250903T074452Z
LAST-MODIFIED:20250903T074452Z
UID:10021122-1757152800-1757160000@www.iltrentinodeibambini.it
SUMMARY:Crea il tuo vaso
DESCRIPTION:Atelier di ceramica guidato dall’artista Stefania Simeoni per la realizzazione di un vaso lavorato con tecnica a colombino\, come quelli che Tommaso Bortolotti utilizzava per coltivare le sue amate piante di agrumi. Non sono necessarie competenze specifiche per partecipare. Due incontri con un massimo 12 coppie partecipanti per gruppo: il primo per conoscere e mettere in pratica la tecnica di modellazione a colombino; nel secondo si decorerà il vaso con la tecnica ad ingobbio. Seguirà un lento tempo di asciugatura e la cottura in forno. \nIn conclusione\, sabato 11 ottobre alle ore 16.00\, ogni vaso verrà esposto in mostra al giardino dei Ciucioi. \n\nQuando: primo gruppo sabato 6 e 13 settembre 2025 alle ore 10.00 | secondo gruppo sabato 20 e 27 settembre 2025 alle ore 10.00\nDove: Giardino dei Ciucioi – Lavis\nCosto: 15 euro per coppia adulto-bambino comprensivo del materiale\, della cottura\, della partecipazione alla mostra e successiva riconsegna\nInfo: prenotazione obbligatoria online QUI | posti limitati\nTarget: da 6 a 11-12 anni\, accompagnati da un adulto
URL:https://www.iltrentinodeibambini.it/eventi/crea-il-tuo-vaso/2025-09-06/
LOCATION:Giardino dei Ciucioi\, Italia
CATEGORIES:Eventi speciali,Laboratori
END:VEVENT
BEGIN:VEVENT
DTSTART;TZID=Europe/Rome:20250906T100000
DTEND;TZID=Europe/Rome:20250906T170000
DTSTAMP:20260424T021613
CREATED:20250530T071417Z
LAST-MODIFIED:20250530T071417Z
UID:10019785-1757152800-1757178000@www.iltrentinodeibambini.it
SUMMARY:A caccia di spore e miceli
DESCRIPTION:Che cosa sono i funghi e dove crescono? Cosa mangiano? Come sono al microscopio? Quali usiamo in cucina per alimenti e bevande famose? Questo evento fa parte delle giornate a tema del giardino. \n\nQuando: 30 e 31 agosto dalle ore 10.00 alle 18.00\, 6 e 7 settembre 2025 dalle ore 10.00 alle 17.00\nDove: Giardino botanico alpino Viote – Monte Bondone\nCosto: gratuito\nInfo: tel. 0461.948050 | giardino.botanico@muse.it\n\nScoprite tutte le attività per famiglie e bambini del Giardino botanico alpino delle Viote.
URL:https://www.iltrentinodeibambini.it/eventi/a-caccia-di-spore-e-miceli-2/2025-09-06/
LOCATION:Giardino Botanico Alpino Viote\, Loc. Viote\, Trento
CATEGORIES:Al Museo,Eventi speciali
GEO:46.0700915;11.1197626
X-APPLE-STRUCTURED-LOCATION;VALUE=URI;X-ADDRESS=Giardino Botanico Alpino Viote Loc. Viote Trento;X-APPLE-RADIUS=500;X-TITLE=Loc. Viote:geo:11.1197626,46.0700915
END:VEVENT
BEGIN:VEVENT
DTSTART;TZID=Europe/Rome:20250906T100000
DTEND;TZID=Europe/Rome:20250906T220000
DTSTAMP:20260424T021613
CREATED:20250825T182324Z
LAST-MODIFIED:20250825T182324Z
UID:10021023-1757152800-1757196000@www.iltrentinodeibambini.it
SUMMARY:Block my Mind a Trento
DESCRIPTION:Una manifestazione sportiva che porta l’arrampicata a Trento. Il centro storico si trasformerà in una palestra di arrampicata a cielo aperto e le facciate dei palazzi diventeranno il terreno di prova degli atleti. Piazza Mostra sarà il cuore pulsante dell’evento con spettacoli circensi\, esibizioni di giocoleria\, parete d’arrampicata per i più piccoli\, musica\, punti ristoro e spazi relax. \n\nQuando: sabato 6 settembre 2025\nDove: centro storico di Trento\nInfo: programma della giornata QUI
URL:https://www.iltrentinodeibambini.it/eventi/block-my-mind-a-trento/
LOCATION:Trento\, Piazza Cesare Battisti\, Trento\, 38122\, Italia
CATEGORIES:Eventi speciali
GEO:46.0684856;11.1192432
X-APPLE-STRUCTURED-LOCATION;VALUE=URI;X-ADDRESS=Trento Piazza Cesare Battisti Trento 38122 Italia;X-APPLE-RADIUS=500;X-TITLE=Piazza Cesare Battisti:geo:11.1192432,46.0684856
END:VEVENT
BEGIN:VEVENT
DTSTART;TZID=Europe/Rome:20250906T103000
DTEND;TZID=Europe/Rome:20250906T120000
DTSTAMP:20260424T021613
CREATED:20250519T110756Z
LAST-MODIFIED:20250519T110756Z
UID:10019343-1757154600-1757160000@www.iltrentinodeibambini.it
SUMMARY:La storia del Villaggio dei Racconti
DESCRIPTION:Scopriamo la storia del Villaggio dei Racconti e impariamo a fare il pane in un vero forno a legna. \n\nQuando: ogni martedì\, mercoledì e sabato dal 21 giugno al 21 settembre 2025 alle ore 10.30\nDove: Villaggio dei Racconti – Alpe Cermis\nCosto: 6 euro (il costo comprende oltre all’attività\, l’ingresso al Villaggio\, alle zone relax e al Bike Park)\nInfo: tel. 0462.340490\n\n  \nScoprite tutte le attività settimanali del Villaggio dei Racconti sull’Alpe Cermis QUI.
URL:https://www.iltrentinodeibambini.it/eventi/la-storia-del-villaggio-dei-racconti/2025-09-06/
LOCATION:Alpe Cermis
CATEGORIES:Eventi speciali,Laboratori
END:VEVENT
BEGIN:VEVENT
DTSTART;TZID=Europe/Rome:20250906T140000
DTEND;TZID=Europe/Rome:20250906T160000
DTSTAMP:20260424T021613
CREATED:20250903T072518Z
LAST-MODIFIED:20250903T072518Z
UID:10021121-1757167200-1757174400@www.iltrentinodeibambini.it
SUMMARY:Fotografi fra passato e presente
DESCRIPTION:In occasione della mostra “Flavio Faganello. Fotografie in cammino/Fotografien\, die bewegen”\, bambini e bambine saranno accompagnati da un’educatrice alla scoperta delle fotografie e dei contrasti tra tradizione e modernità\, filo rosso dell’opera del fotografo. \nIl percorso si concluderà con un laboratorio in cui\, partendo da una fotografia di “ieri” dell’autore \, ogni partecipante potrà realizzare una propria immagine come se fosse scattata “ai giorni nostri”. \n\nQuando: sabato 6 settembre 2025 dalle ore 14.00\nDove: Museo Diocesano Tridentino – Trento\nCosto: bambini gratuito\, adulti 5 euro\nInfo: prenotazione obbligatoria all’indirizzo email servizieducativi@mdtn.it\nTarget: 5 – 13 anni
URL:https://www.iltrentinodeibambini.it/eventi/fotografi-fra-passato-e-presente-2/
LOCATION:Museo Diocesano Tridentino\,\, Piazza Duomo 18\, Trento\, Trento
CATEGORIES:Al Museo,Laboratori
GEO:46.06715;11.12177
X-APPLE-STRUCTURED-LOCATION;VALUE=URI;X-ADDRESS=Museo Diocesano Tridentino Piazza Duomo 18 Trento Trento;X-APPLE-RADIUS=500;X-TITLE=Piazza Duomo 18\, Trento:geo:11.12177,46.06715
END:VEVENT
BEGIN:VEVENT
DTSTART;TZID=Europe/Rome:20250906T140000
DTEND;TZID=Europe/Rome:20250906T170000
DTSTAMP:20260424T021613
CREATED:20250717T115227Z
LAST-MODIFIED:20250717T130128Z
UID:10020811-1757167200-1757178000@www.iltrentinodeibambini.it
SUMMARY:La forza della natura
DESCRIPTION:Scopri attraverso il percorso didattico i profumi balsamici del bosco\, i segreti del legno e delle resine delle\nconifere. \n\nAttività gratuita\nPrenotazioni e info al n. 0463 985048 – info@valdirabbi.com\nRitrovo: Segheria Veneziana dei Bégoi\nMercoledì\, venerdì\, sabato e domenica  ore 14:00 – 17:00  (tutti i giorni dal 6 al 24 agosto)\nDal 24 giugno al 14 settembre 2025\n\nScopri: Val di Rabbi\, estate coi bambini
URL:https://www.iltrentinodeibambini.it/eventi/la-forza-della-natura/2025-09-06/
LOCATION:segheria dei Bégoi\, Loc. Plan\, Val di Rabbi\, TN\, Italia
CATEGORIES:Visite guidate
END:VEVENT
BEGIN:VEVENT
DTSTART;TZID=Europe/Rome:20250906T143000
DTEND;TZID=Europe/Rome:20250906T153000
DTSTAMP:20260424T021613
CREATED:20250519T131933Z
LAST-MODIFIED:20250519T131933Z
UID:10019518-1757169000-1757172600@www.iltrentinodeibambini.it
SUMMARY:L'esperto racconta
DESCRIPTION:Un esperto di natura e di antichi mestieri vi farà vedere e provare con le vostre mani il suo lavoro. \n\nQuando: dal 21 giugno al 21 settembre 2025 ogni sabato alle ore 14.45\nDove: Villaggio dei Racconti – Alpe Cermis\nCosto: 6 euro (il costo comprende oltre all’attività\, l’ingresso al Villaggio\, alle zone relax e al Bike Park)\nInfo: tel. 0462.340490\n\n  \nScoprite tutte le attività settimanali del Villaggio dei Racconti sull’Alpe Cermis QUI.
URL:https://www.iltrentinodeibambini.it/eventi/lesperto-racconta/2025-09-06/
LOCATION:Alpe Cermis
CATEGORIES:Eventi speciali
END:VEVENT
BEGIN:VEVENT
DTSTART;TZID=Europe/Rome:20250906T150000
DTEND;TZID=Europe/Rome:20250906T163000
DTSTAMP:20260424T021613
CREATED:20250702T073802Z
LAST-MODIFIED:20250928T191346Z
UID:10020564-1757170800-1757176200@www.iltrentinodeibambini.it
SUMMARY:Robotici in erba
DESCRIPTION:Laboratorio di robotica per bambine e bambini da 6 a 8 anni \nQUANDO:  4 ottobre\, 8 novembre\, 6 dicembre 2005 e ogni primo sabato del mese (no agosto)\nORARIO: 15.00- 16.30\nDOVE: Rovereto\, Museo di Scienze e Archeologia\nCOSTO: 7 € a persona\n\nPosti limitati\, prenotazione obbligatoria entro il giorno precedente alle ore 17.00. \nPrenota QUI \nPer informazioni:\nFondazione Museo Civico di Rovereto\nTel. 0464 452800\nmuseo@fondazionemcr.it
URL:https://www.iltrentinodeibambini.it/eventi/robotici-in-erba-6/2025-09-06/
LOCATION:Museo di Scienze e Archeologia e Planetario\, Borgo Santa Caterina\, 41\, Rovereto\, 38068\, Italia
CATEGORIES:Al Museo,Laboratori
END:VEVENT
BEGIN:VEVENT
DTSTART;TZID=Europe/Rome:20250906T150000
DTEND;TZID=Europe/Rome:20250906T170000
DTSTAMP:20260424T021613
CREATED:20250811T214835Z
LAST-MODIFIED:20250811T214835Z
UID:10020945-1757170800-1757178000@www.iltrentinodeibambini.it
SUMMARY:Malghe Aperte a Malga Vacil
DESCRIPTION:Assisterai da vicino all’attività di caseificazione e a tutte le varie fasi della lavorazione del latte\, finalizzate alla produzione di formaggio di malga\, ricotta e burro. Oltre alla dimostrazione\, avrai la possibilità di visitare la stalla\, in cui avviene la mungitura delle mucche\, e i locali dove si producono e si conservano i formaggi. \nQUANDO: ogni sabato fino al 6 settembre 2025\, ore 15.00\nDOVE: Malga Vacil – Storo  (TN)\nPRENOTAZIONE: contattare APT Campiglio o visitare il sito www.malgheaperte.it \nInfo e contatti:  APT Campiglio\, telefono 0465.447501 – info@campigliodolomiti.it \nScopri qui il progetto Malghe Aperte 
URL:https://www.iltrentinodeibambini.it/eventi/malghe-aperte-a-malga-vacil-2/2025-09-06/
LOCATION:Malga Vacil\, Storo\, TN\, Italia
CATEGORIES:Eventi speciali,In fattoria
END:VEVENT
BEGIN:VEVENT
DTSTART;TZID=Europe/Rome:20250906T150000
DTEND;TZID=Europe/Rome:20250906T173000
DTSTAMP:20260424T021613
CREATED:20250829T182359Z
LAST-MODIFIED:20250829T182359Z
UID:10021073-1757170800-1757179800@www.iltrentinodeibambini.it
SUMMARY:Prova il minibasket - Sport nel verde
DESCRIPTION:Prova il minibasket con ASD Minibasket Trento e con i campioni e lo staff di Aquila basket. \n\nQuando: sabato 6 e 13 settembre 2025 alle ore 15.00\nDove: Giardino Sopramonte Fra Dolcino e Margherita\nCosto: gratuito\nTarget: bambini dai 6 ai 12 anni\nInfo: sport@comune.trento.it\n\nScoprite tutti gli appuntamenti di Sport nel verde QUI.
URL:https://www.iltrentinodeibambini.it/eventi/prova-il-minibasket-sport-nel-verde-2/2025-09-06/
LOCATION:Giardino Fra Dolcino e Margherita\, Sopramonte
CATEGORIES:Al parco,Eventi speciali
END:VEVENT
BEGIN:VEVENT
DTSTART;TZID=Europe/Rome:20250906T160000
DTEND;TZID=Europe/Rome:20250906T173000
DTSTAMP:20260424T021613
CREATED:20250825T223226Z
LAST-MODIFIED:20250825T223226Z
UID:10021027-1757174400-1757179800@www.iltrentinodeibambini.it
SUMMARY:Io amo le api
DESCRIPTION:L’apicoltore ci invita a ringraziare il piccolo popolo delle api che garantisce il futuro di tutti noi. È lui a rivelare le regole di una comunità organizzata e operosa. Intanto puoi degustare i più diversi tipi di miele fiemmese. \nQUANDO: 6 settembre 2025\nORARIO: ore 16.00\nPUNTO DI RITROVO: Parco della Pieve – Cavalese (TN)\nINFO E PRENOTAZIONI: cliccare QUI\nCOSTO: gratuito\nADATTO A: tutti\, anche in passeggino \n 
URL:https://www.iltrentinodeibambini.it/eventi/io-amo-le-api/
LOCATION:Cavalese\, Cavalese
CATEGORIES:Al parco,Eventi speciali,Visite guidate
GEO:46.2912024;11.4605662
END:VEVENT
BEGIN:VEVENT
DTSTART;TZID=Europe/Rome:20250906T163000
DTEND;TZID=Europe/Rome:20250906T183000
DTSTAMP:20260424T021613
CREATED:20250829T184552Z
LAST-MODIFIED:20250829T184552Z
UID:10021086-1757176200-1757183400@www.iltrentinodeibambini.it
SUMMARY:Prova il softball - Sport nel verde
DESCRIPTION:Prova il softball con Sport Senza Frontiere Trentino aps asd. \n\nQuando: sabato 6 e 13 settembre 2025 alle ore 16.30\nDove: Parco delle Albere – Trento\nCosto: gratuito\nTarget: bambini e ragazzi\nInfo: sport@comune.trento.it\n\nScoprite tutti gli appuntamenti di Sport nel verde QUI.
URL:https://www.iltrentinodeibambini.it/eventi/prova-il-softball-sport-nel-verde/2025-09-06/
LOCATION:Parco delle Albere\, Trento 
CATEGORIES:Al parco,Eventi speciali
GEO:46.0700915;11.1197626
END:VEVENT
BEGIN:VEVENT
DTSTART;TZID=Europe/Rome:20250906T193000
DTEND;TZID=Europe/Rome:20250906T213000
DTSTAMP:20260424T021613
CREATED:20250825T110506Z
LAST-MODIFIED:20250825T110506Z
UID:10021019-1757187000-1757194200@www.iltrentinodeibambini.it
SUMMARY:La muerte de Don Cristobal - Festival dei Burattini
DESCRIPTION:Spettacolo per famiglie preceduto (un’ora prima) da un laboratorio a tema per bambini. Avaro\, avido\, malvagio e senza scrupoli\, Don Cristobal vive solo per continuare ad accrescere la sua già considerevole fortuna. Ma il suo servo\, povero\, geloso e molto più fedele\, inventerà mille e uno stratagemma per assassinarlo e appropriarsi della sua immensa fortuna. \n\nQuando: sabato 6 settembre 2025 alle ore 20.30\nDove: METS – Museo etnografico trentino San Michele\nCosto: 1 euro\nInfo: tel. 0461.650314\n\nTutti gli appuntamenti del Festival dei Burattini in musica QUI.
URL:https://www.iltrentinodeibambini.it/eventi/la-muerte-de-don-cristobal-festival-dei-burattini/
LOCATION:METS Museo etnografico trentino\, Via Edmondo Mach\, 2\, San Michele All'adige\, Trentino\, 38010\, Italia
CATEGORIES:Al Museo,Spettacoli
GEO:46.1878653;11.1330423
X-APPLE-STRUCTURED-LOCATION;VALUE=URI;X-ADDRESS=METS Museo etnografico trentino Via Edmondo Mach 2 San Michele All'adige Trentino 38010 Italia;X-APPLE-RADIUS=500;X-TITLE=Via Edmondo Mach\, 2:geo:11.1330423,46.1878653
END:VEVENT
END:VCALENDAR