BEGIN:VCALENDAR
VERSION:2.0
PRODID:-//Il Trentino dei Bambini - ECPv6.13.2//NONSGML v1.0//EN
CALSCALE:GREGORIAN
METHOD:PUBLISH
X-ORIGINAL-URL:https://www.iltrentinodeibambini.it
X-WR-CALDESC:Eventi per Il Trentino dei Bambini
REFRESH-INTERVAL;VALUE=DURATION:PT1H
X-Robots-Tag:noindex
X-PUBLISHED-TTL:PT1H
BEGIN:VTIMEZONE
TZID:Europe/Rome
BEGIN:DAYLIGHT
TZOFFSETFROM:+0100
TZOFFSETTO:+0200
TZNAME:CEST
DTSTART:20250330T010000
END:DAYLIGHT
BEGIN:STANDARD
TZOFFSETFROM:+0200
TZOFFSETTO:+0100
TZNAME:CET
DTSTART:20251026T010000
END:STANDARD
END:VTIMEZONE
BEGIN:VEVENT
DTSTART;TZID=Europe/Rome:20250910T090000
DTEND;TZID=Europe/Rome:20250910T130000
DTSTAMP:20260424T005309
CREATED:20250412T220741Z
LAST-MODIFIED:20250412T220741Z
UID:10018288-1757494800-1757509200@www.iltrentinodeibambini.it
SUMMARY:Mondo Ponale
DESCRIPTION:La vecchia strada del Ponale è una delle icone del Garda Trentino: arditamente scavata nella roccia\, sospesa tra lago e montagna\, regala a ogni passo scorci da levare il fiato. Ma non è tutto: hai mai sentito parlare della Tagliata del Ponale? È un forte interamente scavato nella roccia\, una meraviglia dell’ingegneria militare asburgica\, pronto ad aprire in esclusiva le sue porte e a raccontare la sua storia affascinante. \nCi siamo stati anche noi\, clicca QUI per leggere il nostro racconto e scoprire i dettagli. \nINFO UTILI\n\nQUANDO: tutti i mercoledì dal 28 maggio al 24 settembre 2025\, ritrovo alle ore 9.00\nDOVE: Punto di ritrovo: Info Point Riva del Garda – Largo Medaglie d’Oro al Valor Militare\, 5 | 38066 Riva del Garda;\nDURATA: 4 ore;\nINCLUDE: guida e ingresso in esclusiva alla Tagliata del Ponale; caschetto\nAttrezzatura richiesta: scarpe da trekking\, abbigliamento sportivo\, borraccia acqua\, spuntino\, crema e occhiali da sole;\nADATTO A: bambini dai 5-6 anni\nPASSEGGINO: no\nCOSTO: adulti 40 € (30 € con Garda Guest Card)\, bambini <14 anni 20€\,\n\nL’esperienza è prenotabile entro le ore 16.00 del giorno precedente direttamente online collegandosi a questo LINK \nPer maggiori informazioni: \nGARDA DOLOMITI S.P.A.\nLargo Medaglie d’Oro al Valor Militare\, 5 Riva del Garda\ntel.  0464 554444
URL:https://www.iltrentinodeibambini.it/eventi/mondo-ponale-2/2025-09-10/
LOCATION:Riva del Garda\, Riva del Garda
CATEGORIES:Escursioni,Visite guidate
GEO:45.8891984;10.8430696
END:VEVENT
BEGIN:VEVENT
DTSTART;TZID=Europe/Rome:20250910T090000
DTEND;TZID=Europe/Rome:20250910T153000
DTSTAMP:20260424T005309
CREATED:20250607T120331Z
LAST-MODIFIED:20250607T120331Z
UID:10020033-1757494800-1757518200@www.iltrentinodeibambini.it
SUMMARY:Sul sentiero dei camosci
DESCRIPTION:Trekking ad anello nella conca del Ciampac su sentieri percorsi solo dagli animali in zone poco note ed inesplorate che regalano viste mozzafiato sulle imponenti cime dolomitiche della Val di Fassa. Per adulti e bambini a partire da 10 anni. Maggiori informazioni QUI. \n\nQuando: tutti i mercoledì dal 18 giugno al 10 settembre 2025 alle ore 9.00\nDove: stazione a valle della cabinovia del Ciampac\nCosto: euro 36 adulti | euro 18 bambini 10-12 anni. Impianti inclusi nel Panorama Pass o da pagare extra) *Ospiti strutture Summer Outdoor: adulti € 20 | bambini 10-12 anni € 10\nDurata: mezza giornata (fino alle 15.30)\nDifficoltà: media\nInfo: utilizzo di scarpe da trekking\, pranzo al sacco\, prenotazione obbligatoria online\n\nScopri qui Le 1001 meraviglie del Ciampac
URL:https://www.iltrentinodeibambini.it/eventi/sul-sentiero-dei-camosci-3/2025-09-10/
LOCATION:ciampac\, Strèda de Pareda\, 67\, Alba di Canazei
CATEGORIES:Escursioni
END:VEVENT
BEGIN:VEVENT
DTSTART;TZID=Europe/Rome:20250910T100000
DTEND;TZID=Europe/Rome:20250910T113000
DTSTAMP:20260424T005309
CREATED:20250828T193143Z
LAST-MODIFIED:20250828T193143Z
UID:10021042-1757498400-1757503800@www.iltrentinodeibambini.it
SUMMARY:Parchi per crescere
DESCRIPTION:Una proposta a partecipazione gratuita senza bisogno di prenotazione rivolta alle famiglie con bambini da 0 a 6 anni. Si tratta di incontri di gioco\, lettura\, attività creative\, che hanno luogo in diversi parchi della città. Ecco tutti gli appuntamenti di settembre: \n\nmercoledì 3 settembre alle ore 10.00 presso il parco di San Marco\nvenerdì 5 settembre alle ore 15.30 al parco in Clarina\nmartedì 9 settembre alle ore 15.30 al parco di Melta\, nella zona dei giochi in legno\nmercoledì 10 settembre alle ore 10.00 al giardino Fratelli Bernardi sul lungo Fersina\nvenerdì 12 settembre alle ore 15.30 al parco delle Albere nella zona teleferica\nmartedì 16 settembre alle ore 15.30 al parco di Melta\, nella zona dei giochi in legno\nmercoledì 17 settembre alle ore 10.00 a Cognola\, nel parco sotto la chiesa\nvenerdì 19 settembre alle ore 15.30 al parco di Villazzano\, all’altezza del bar Terzo Tempo\nmartedì 23 settembre alle ore 15.30 al parco di Melta\, nella zona dei giochi in legno\nmercoledì 24 settembre alle ore 10.00 al parco di Mattarello\nvenerdì 26 settembre alle ore 15.30 al parco Langer\n\nScoprite tutte le attività dedicate a bambini e famiglie a Trento QUI.
URL:https://www.iltrentinodeibambini.it/eventi/parchi-per-crescere-2/2025-09-10/
LOCATION:Trento\, Italia
CATEGORIES:Al parco,Eventi speciali
END:VEVENT
BEGIN:VEVENT
DTSTART;TZID=Europe/Rome:20250910T103000
DTEND;TZID=Europe/Rome:20250910T120000
DTSTAMP:20260424T005309
CREATED:20250519T110756Z
LAST-MODIFIED:20250519T110756Z
UID:10019345-1757500200-1757505600@www.iltrentinodeibambini.it
SUMMARY:La storia del Villaggio dei Racconti
DESCRIPTION:Scopriamo la storia del Villaggio dei Racconti e impariamo a fare il pane in un vero forno a legna. \n\nQuando: ogni martedì\, mercoledì e sabato dal 21 giugno al 21 settembre 2025 alle ore 10.30\nDove: Villaggio dei Racconti – Alpe Cermis\nCosto: 6 euro (il costo comprende oltre all’attività\, l’ingresso al Villaggio\, alle zone relax e al Bike Park)\nInfo: tel. 0462.340490\n\n  \nScoprite tutte le attività settimanali del Villaggio dei Racconti sull’Alpe Cermis QUI.
URL:https://www.iltrentinodeibambini.it/eventi/la-storia-del-villaggio-dei-racconti/2025-09-10/
LOCATION:Alpe Cermis
CATEGORIES:Eventi speciali,Laboratori
END:VEVENT
BEGIN:VEVENT
DTSTART;TZID=Europe/Rome:20250910T140000
DTEND;TZID=Europe/Rome:20250910T170000
DTSTAMP:20260424T005309
CREATED:20250717T115227Z
LAST-MODIFIED:20250717T130128Z
UID:10020750-1757512800-1757523600@www.iltrentinodeibambini.it
SUMMARY:La forza della natura
DESCRIPTION:Scopri attraverso il percorso didattico i profumi balsamici del bosco\, i segreti del legno e delle resine delle\nconifere. \n\nAttività gratuita\nPrenotazioni e info al n. 0463 985048 – info@valdirabbi.com\nRitrovo: Segheria Veneziana dei Bégoi\nMercoledì\, venerdì\, sabato e domenica  ore 14:00 – 17:00  (tutti i giorni dal 6 al 24 agosto)\nDal 24 giugno al 14 settembre 2025\n\nScopri: Val di Rabbi\, estate coi bambini
URL:https://www.iltrentinodeibambini.it/eventi/la-forza-della-natura/2025-09-10/
LOCATION:segheria dei Bégoi\, Loc. Plan\, Val di Rabbi\, TN\, Italia
CATEGORIES:Visite guidate
END:VEVENT
BEGIN:VEVENT
DTSTART;TZID=Europe/Rome:20250910T143000
DTEND;TZID=Europe/Rome:20250910T163000
DTSTAMP:20260424T005309
CREATED:20250519T111958Z
LAST-MODIFIED:20250519T111958Z
UID:10019439-1757514600-1757521800@www.iltrentinodeibambini.it
SUMMARY:Caccia al racconto
DESCRIPTION:Caccia al racconto “alla ricerca della principessa Nerina”. \n\nQuando: ogni mercoledì dal 21 giugno al 21 settembre 2025 alle ore 14.45\nDove: Villaggio dei Racconti – Alpe Cermis\nCosto: 6 euro (il costo comprende oltre all’attività\, l’ingresso al Villaggio\, alle zone relax e al Bike Park)\nInfo: tel. 0462.340490\n\n  \nScoprite tutte le attività settimanali del Villaggio dei Racconti sull’Alpe Cermis QUI.
URL:https://www.iltrentinodeibambini.it/eventi/caccia-al-racconto/2025-09-10/
LOCATION:Alpe Cermis
CATEGORIES:Eventi speciali
END:VEVENT
BEGIN:VEVENT
DTSTART;TZID=Europe/Rome:20250910T153000
DTEND;TZID=Europe/Rome:20250910T163000
DTSTAMP:20260424T005309
CREATED:20250519T112359Z
LAST-MODIFIED:20250519T112359Z
UID:10019465-1757518200-1757521800@www.iltrentinodeibambini.it
SUMMARY:Caccia al racconto
DESCRIPTION:Caccia al racconto “Il gigante e le pagnotte avvelenate”. \n\nQuando: dal 21 giugno al 21 settembre 2025 ogni mercoledì alle ore 15.30 e ogni domenica alle ore 10.30\nDove: Villaggio dei Racconti – Alpe Cermis\nCosto: 6 euro (il costo comprende oltre all’attività\, l’ingresso al Villaggio\, alle zone relax e al Bike Park)\nInfo: tel. 0462.340490\n\n  \nScoprite tutte le attività settimanali del Villaggio dei Racconti sull’Alpe Cermis QUI.
URL:https://www.iltrentinodeibambini.it/eventi/caccia-al-racconto-2/2025-09-10/
LOCATION:Alpe Cermis
CATEGORIES:Eventi speciali
END:VEVENT
BEGIN:VEVENT
DTSTART;TZID=Europe/Rome:20250910T160000
DTEND;TZID=Europe/Rome:20250910T183000
DTSTAMP:20260424T005309
CREATED:20250412T224306Z
LAST-MODIFIED:20250412T224306Z
UID:10018326-1757520000-1757529000@www.iltrentinodeibambini.it
SUMMARY:Fruttiamo
DESCRIPTION:Camminando lungo la salita al Maso Maserac\, scoprirai dove nascono i piccoli frutti golosi che verranno proposti alla fine del percorso in una merenda gustosa. \nINFO & FAQ:\n \n\nQuando: dal lunedì al giovedì dal 10 luglio al 30 settembre 2025;\norario: ore 16.00\nPrenotazione entro le 12:00 del giorno stesso: clicca QUI\nOrario di ritrovo: ore 16:00;\nPunto di ritrovo: Chiesa di San Lorenzo | Vigo Lomaso (Comano Terme)\nContatti per dettagli su questa escursione:  +39 345 0796009;\nDurata: 2\,5 ore;\nServizi inclusi: Visita guidata alle coltivazioni di piccoli frutti dell’azienda agricola Agriconda – Maso Maserac\, passeggiata lungo la salita al maso e degustazione di piccoli frutti o altri prodotti di stagione;\nAttrezzatura richiesta: scarpe comode\, adatte a camminare su un terreno erboso e irregolari;\nUlteriori Informazioi: Il percorso non è adatto alle carrozzine; l’utilizzo di passeggini è possibile\, ma poco agevole.\n\nConosci Maso Maserac? Si possono fare anche dei meravigliosi picnic: leggi Picnic a Maso Maserac
URL:https://www.iltrentinodeibambini.it/eventi/fruttiamo-2/2025-09-10/
LOCATION:Maso Maserac\, Vigo Lomaso\, Italia
CATEGORIES:In fattoria,Spazi d'incontro
END:VEVENT
BEGIN:VEVENT
DTSTART;TZID=Europe/Rome:20250910T173000
DTEND;TZID=Europe/Rome:20250910T183000
DTSTAMP:20260424T005309
CREATED:20250829T181152Z
LAST-MODIFIED:20250829T181152Z
UID:10021067-1757525400-1757529000@www.iltrentinodeibambini.it
SUMMARY:Giochiamo a scacchi - Sport nel verde
DESCRIPTION:Provare a giocare a scacchi con l’ASDPS Unione Scacchistica Trentina. \n\nQuando: mercoledì 3\, 10 e 17 settembre 2025 alle ore 17.30\nDove: Giardino Maria Teresa d’Asburgo\nCosto: gratuito\nTarget: per tutti\nInfo: sport@comune.trento.it\n\nScoprite tutti gli appuntamenti di Sport nel verde QUI.
URL:https://www.iltrentinodeibambini.it/eventi/giochiamo-a-scacchi-sport-nel-verde-2/2025-09-10/
LOCATION:Giardino Maria Teresa d’Asburgo\, Via Anna Frank\, Trento
CATEGORIES:Al parco,Eventi speciali
END:VEVENT
BEGIN:VEVENT
DTSTART;TZID=Europe/Rome:20250910T190000
DTEND;TZID=Europe/Rome:20250910T220000
DTSTAMP:20260424T005309
CREATED:20250418T220930Z
LAST-MODIFIED:20251104T180901Z
UID:10018846-1757530800-1757541600@www.iltrentinodeibambini.it
SUMMARY:Picnic al tramonto da Agriconda
DESCRIPTION:Immagina un picnic in un angolino confortevole tra il verde dei frutteti di Maso Agriconda\, e una selezione di prodotti  a km 0 che troverai nel tuo cestino. Piccoli frutti\, conserve\, pane di montagna\, salumi locali\, puoi scegliere il tuo cesto preferito: cesto di Comano\, Cesto di Maserac\, Cesto dei Bambini e Cesto Picnic Romantico\, in versione classica o deluxe in base alla scelta della bevanda. \n\nPrenotazione entro le 12:00 del giorno stesso; clicca QUI per prenotare\nQuando: prenotabile tutti i giorni dal 9 giugno al 30 settembre 2025: ore 20:00 (1° giugno – 16 luglio) | ore 19:30 (17 luglio – 13 agosto) | ore 19:00 (14 agosto – 30 settembre);\nPunto di ritrovo: Salita al Maso Agriconda | Vigo Lomaso (Comano Terme)\nDurata: 3 ore;\nServizi inclusi: cestino da picnic con prodotti a km 0\, “salottino” riservato con vista tra i vigneti e le coltivazioni di lamponi\, allestito con tutto il necessario per goderti il tuo picnic\nCosto: cesti a partire da 30 euro. Inoltre con Garda Guest Card hai diritto a un prodotto gratuito dallo shop.\n\n\n\n\n\n\n\n\nContatti:\n\n\n\n\n\nAGRICONDA – farm experience\nLocalità Maserac\, 81 81 – 38077 Comano Terme\ntel. 348.1435785\nSito web\n\n\n\n\n\nCi siamo stati anche noi: Picnic a Maso Agriconda nel Lomaso
URL:https://www.iltrentinodeibambini.it/eventi/picnic-al-tramonto-da-agriconda/2025-09-10/
LOCATION:Maso Maserac\, Vigo Lomaso\, Italia
CATEGORIES:Al parco,In fattoria
END:VEVENT
BEGIN:VEVENT
DTSTART;TZID=Europe/Rome:20250910T190000
DTEND;TZID=Europe/Rome:20250910T220000
DTSTAMP:20260424T005309
CREATED:20250530T191715Z
LAST-MODIFIED:20250530T191722Z
UID:10019904-1757530800-1757541600@www.iltrentinodeibambini.it
SUMMARY:Picnic al tramonto da Agriconda
DESCRIPTION:Immagina un picnic in un angolino confortevole tra il verde dei frutteti di Maso Agriconda\, e una selezione di prodotti  a km 0 che troverai nel tuo cestino. Piccoli frutti\, conserve\, pane di montagna\, salumi locali\, puoi scegliere il tuo cesto preferito: cesto di Comano\, Cesto di Maserac\, Cesto dei Bambini e Cesto Picnic Romantico\, in versione classica o deluxe in base alla scelta della bevanda. \n\nPrenotazione entro le 12:00 del giorno stesso; clicca QUI per prenotare\nQuando: prenotabile tutti i giorni dal 9 giugno al 30 settembre 2025: ore 20:00 (1° giugno – 16 luglio) | ore 19:30 (17 luglio – 13 agosto) | ore 19:00 (14 agosto – 30 settembre);\nPunto di ritrovo: Salita al Maso Agriconda | Vigo Lomaso (Comano Terme)\nDurata: 3 ore;\nServizi inclusi: cestino da picnic con prodotti a km 0\, “salottino” riservato con vista tra i vigneti e le coltivazioni di lamponi\, allestito con tutto il necessario per goderti il tuo picnic\nCosto: cesti a partire da 30 euro. Inoltre con Garda Guest Card hai diritto a un prodotto gratuito dallo shop.\n\n\n\n\n\n\n\n\nContatti:\n\n\n\n\n\nAGRICONDA – farm experience\nLocalità Maserac\, 81 81 – 38077 Comano Terme\ntel. 348.1435785\nSito web\n\n\n\n\n\nCi siamo stati anche noi: Picnic a Maso Agriconda nel Lomaso
URL:https://www.iltrentinodeibambini.it/eventi/picnic-al-tramonto-da-agriconda-2/2025-09-10/
LOCATION:Maso Maserac\, Vigo Lomaso\, Italia
CATEGORIES:Al parco,In fattoria
END:VEVENT
END:VCALENDAR