BEGIN:VCALENDAR
VERSION:2.0
PRODID:-//Il Trentino dei Bambini - ECPv6.13.2//NONSGML v1.0//EN
CALSCALE:GREGORIAN
METHOD:PUBLISH
X-WR-CALNAME:Il Trentino dei Bambini
X-ORIGINAL-URL:https://www.iltrentinodeibambini.it
X-WR-CALDESC:Eventi per Il Trentino dei Bambini
REFRESH-INTERVAL;VALUE=DURATION:PT1H
X-Robots-Tag:noindex
X-PUBLISHED-TTL:PT1H
BEGIN:VTIMEZONE
TZID:Europe/Rome
BEGIN:DAYLIGHT
TZOFFSETFROM:+0100
TZOFFSETTO:+0200
TZNAME:CEST
DTSTART:20250330T010000
END:DAYLIGHT
BEGIN:STANDARD
TZOFFSETFROM:+0200
TZOFFSETTO:+0100
TZNAME:CET
DTSTART:20251026T010000
END:STANDARD
END:VTIMEZONE
BEGIN:VEVENT
DTSTART;VALUE=DATE:20250912
DTEND;VALUE=DATE:20250915
DTSTAMP:20260424T005348
CREATED:20250912T150555Z
LAST-MODIFIED:20250912T150555Z
UID:10021194-1757635200-1757894399@www.iltrentinodeibambini.it
SUMMARY:Desmontegada delle caore
DESCRIPTION:Non può arrivare settembre senza che torni anche la famosa desmontegada de le caore a Cavalese. L’evento\, che festeggia secondo l’antica tradizione di montagna il rientro delle capre dall’alpeggio\, si terrà quest’anno dal dal 12 al 14 settembre 2025. Reginette della festa: le caprette! \nTre giorni di festa che culmineranno nella caratteristica sfilata della domenica\, con la sfilata mattutina dei trattori e dei carri d’epoca e la sfilata pomeridiana in paese delle capre agghindate con corone di fiori al ritorno dai pascoli. Il sabato è dedicato ai bambini con giretti in compagnia di alpaca e lama. \nVi elenchiamo le attività da non perdere con i bambini\, mentre il programma completo lo trovate QUI \n\nvenerdì 12 settembre dalle ore 14.30 | UN POMERIGGIO DA CAPRA | escursione su strada forestale di circa un’ora fino alla Malga Agnelezza. Visita alla malga\, aspettando il rientro del gregge dal pascolo per conoscere le capre e degustare un’ottima merenda a base di formaggi e salumi | attività a pagamento | prenotazione QUI\nsabato 13 settembre alle 16.00 | ENTORNO PAR CAVALES CON LAMA E ALPACA | Accompagnati da una guida e da questi morbidi animali\, si parte per una passeggiata tra il Parco della Pieve e Piazza Dante. Il percorso prosegue al Parco della Pieve\, dove potrete scoprire i segreti del miele della Val di Fiemme\, visitare una camera di volo e gustare una merenda squisita firmata Cose Buone da Paolo. Per concludere\, dimostrazione di lavorazione della lana della razza Tingola fiemmese\, con possibilità di acquisto di prodotti unici e artigianali | Attività a pagamento\, prenotazione online (iscrizioni a partire da settembre)..\nsabato 13 settembre alle ore 18.30 | MUGITURA A MANO DELLA CAPRETTA | dimostrazione di mungitura a mano della capretta\, come una volta!\n\nLa giornata clou sarà domenica 14 settembre 2025 \, quando le capre rientreranno dagli alpeggi: ecco gli appuntamenti salienti di domenica: \n\n\n\n\n\nore 9.00 | TACA BANDA! | intrattenimento musicale per le vie del centro con sfilata dei trattori d’epoca e dei carri trainati da cavalli\, poi esposti in Piazza Fiera\, sulle note della Banda di Cavalese.\nDalle ore 9.30 | MERCATO DELLA DESMONTEGADA | vieni a curiosare\, assaggiare ed acquistare prodotti e souvenir\, ma anche ad assistere a dimostrazioni di tessitura\, tornitura\, arte dell’intreccio e dell’intaglio del legno.\nDalle 10.00 alle 11.30 | GIRETTO MORBIDO CON LAMA E ALPACA per le vie del centro storico di Cavalese. Partenza da Piazza Dante | attività a pagamento.\nTutto il giorno | TOUR IN CARROZZA | Visita Cavalese a bordo di un tradizionale calesse con un caratteristico cocchiere allevatore.\nDalle 10.00 alle 12.00 | LABORATORIO PER BAMBINI | La magia della cera: dalle api alla produzione di una piccola candela | Gratuito\, prenotazione presso il banchetto dell’apicoltore Marco Vettori\, Max 15 bambini.\nOrario non ancora definito | LABORATORIO PER BAMBINI c/o lo stand di Arte&Ste | un laboratorio per sperimentare con colori\, forme e idee in compagnia di Stefania!\nDalle 12.00 | IL GUSTO DELLA DESMONTEGADA | Per pranzo prova una delle proposte della rassegna Magnifici Prodotti di Fiemme in uno dei ristoranti aderenti\, oppure orientati su uno dei tanti punti gastronomici per soddisfare ogni palato: piatto tipico a km0\, fortaie\, street food o piatti della tradizione da gustare sulla terrazza del Ristorante La Stüa. Musica live con gli Avisio Mix\n\nPrenotazione consigliata\, ma non obbligatoria Tel. +39 0462 340235 \n\n\nOre 14.00 | LA DESMONTEGADA DELLE CAORE | Le caprette di ritorno dall’alpeggio salutano Cavalese sfilando tra le vie con campanacci e decorazioni. Dopo la sfilata la festa continua con le mitiche fortaie dell’Ass. Allevatori Caprini \n\nDalle 15.30 | TUTTI IN PISTA! | Piazza Scopoli | Musica da ballo con il gruppo “TROCK BAND”\n\n\n\n\n\nPer maggiori informazioni leggi il nostro articolo completo: Desmontegada de le caore a Cavalese \n\n\nPer info contattare APT  Fiemme Cembra Dolomiti ai seguenti recapiti: tel. 0462.241111  – sito: www.visitfiemme.it
URL:https://www.iltrentinodeibambini.it/eventi/desmontegada-delle-caore/
LOCATION:Cavalese\, Cavalese
CATEGORIES:Eventi speciali,Feste
GEO:46.2912024;11.4605662
END:VEVENT
BEGIN:VEVENT
DTSTART;TZID=Europe/Rome:20250914T080000
DTEND;TZID=Europe/Rome:20250914T120000
DTSTAMP:20260424T005348
CREATED:20250412T212144Z
LAST-MODIFIED:20250412T212144Z
UID:10018209-1757836800-1757851200@www.iltrentinodeibambini.it
SUMMARY:Colazione in fattoria
DESCRIPTION:Inizia la giornata con una buona colazione a base di prodotti della fattoria e del Garda Trentino e poi vai a conoscere gli animali! \nLa colazione è disponibile a partire dalle 8.00\, mentre l’attività in fattoria comincia alle 10.30. Gli adulti partecipanti possono scegliere se trasformare la colazione in un brunch o seguire i più piccoli alla scoperta della fattoria. \nDOVE:  Azienda Agricola Agrisalus\, Pratosaiano (Arco)\, Via Fibbie\, 22;\nQUANDO: dalle ore 8:00\, tutti i sabati e le domeniche fino al 31 gennaio 2026\nDURATA:  2 ore\nPRENOTAZIONE: obbligatoria entro le 16:00 del giorno prima. Clicca QUI per prenotare online\nCOSA E’ INCLUSO: colazione contadina con prodotti della fattoria e del Garda Trentino\, visita della fattoria didattica (mucche\, maiali\, galline\, conigli)\, possibilità per gli adulti di trasformare la colazione in un brunch.\nCOSTO: 25 euro per i bambini dai 3 agli 11 anni (colazione + visita in fattoria)\, colazione accompagnatori 15 euro\, colazione bambini 3-11 anni 10 euro\, gratis bambini sotto i 2 anni. Sconto per possessori Guest Card. \nAl momento della prenotazione specificare eventuali allergie o intolleranze alimentari. Indossare scarpe comode e  adatte alla campagna. \nINFORMAZIONI\nAGRISALUS\nVia Fibbie\, 22 Arco (TN)\ntel.  379 1179271 \nLa colazione in fattoria da Agrisalus è un’experience promossa da APT Garda Dolomiti. Ci siamo stati anche noi: leggi Colazione in fattoria da Agrisalus \nPer maggiori informazioni potete visitare anche il sito di APT Garda Dolomiti QUI
URL:https://www.iltrentinodeibambini.it/eventi/colazione-in-fattoria-2/2025-09-14/
LOCATION:Agrisalus\, via Fibbie\, 22 - Pratosaiano\, Arco\, 38062\, Italia
CATEGORIES:In fattoria,Visite guidate
END:VEVENT
BEGIN:VEVENT
DTSTART;TZID=Europe/Rome:20250914T080000
DTEND;TZID=Europe/Rome:20250914T180000
DTSTAMP:20260424T005348
CREATED:20250820T102344Z
LAST-MODIFIED:20250820T102344Z
UID:10020977-1757836800-1757872800@www.iltrentinodeibambini.it
SUMMARY:Desmalgada di Boniprati
DESCRIPTION:Sull’alopiano di Boniprati\, sopra Prezzo\, domenica 14 settembre 2025 si festeggia il rientro dall’alpeggio con la tradizionale sfilata del bestiame\, pranzo a base di polenta carbonera e un pomeriggio tutto dedicato ai bambini\, futuri custodi di queste antiche tradizioni. \n \n\nPROGRAMMA\n\n \n\nOre 08.00:  trekking tra natura e memoria\, alla scoperta dell’Altopiano di Boniprati.\nRitrovo ore 8.00 al parcheggio all’entrata di Castel Condino. Prenotazione raccomandata al n. 346 3055566.\n\nOre 10.00: Degustazioni e vendita di specialità locali e prodotti di malga. Fattoria didattica per i più piccoli\n\nOre 11.30: Sfilata del bestiame: sfilano anche la Banda Musicale San Giorgio di Castel Condino\, la Banda Sociale di Cimego\, il Gruppo Knödel Bergmusikanten di Strembo e gli Antichi Valori di Pieve di Bono.\n\nOre 12.30: pranzo tipico a base di polenta carbonera\, cavolo cappuccio\, formaggio di malga\, dolce. A pagamento (€13.00). In alternativa Pranzo del Contadino nei ristoranti Lupi di Toscana di Boniprati e presso Baita Boniprati. A pagamento (€20.00).\n\n \n\nPomeriggio dedicato ai bambini\n\n \n\nOre 14.00: “Caserada dei Popi”. Tutti i bambini potranno cimentarsi nella lavorazione del formaggio\, sotto il controllo dell’esperto casaro\, e nella prova di mungitura delle mucche. Per tutti i bambini in omaggio il grembiule della Desmalgada!\n\n \n\nOre 14.30:  “Un Due Tre… Stalla!” Giochi a squadre per grandi e piccini tra balle di fieno\, corse nei prati e sfide contadine ispirate alla vita di malga.\n\n 	L’evento è accessibile a tutti\n\n \n 	Disponibile servizio navetta (5 euro\, bambini< 12 anni gratuito): Piazzale ex Vela\, adiacente caserma VVFF Creto. Andata: 8.30\, 9.00\, 9.30\, 10.00\, 10.30.\nRifugio Lupi di Toscana (Boniprati). Ritorno: 15.00\, 16.00\, 16.30\, 17.00\, 18.00.\n \n 	Accesso in auto solo da Prezzo\n \n 	Presente angolo family con fasciatoio\, scaldabiberon e posto per allattare in tranquillità\n \n 	Cani ammessi solo al guinzaglio e lontani dagli animali in sfilata\n \n 	Per maggiori informazioni clicca QUI\n\n \n\nAzienda per il Turismo Madonna di Campiglio\ntel. 0465 901217\ninfo@campigliodolomiti.it\n\nScopri La Desmalgada di Boniprati
URL:https://www.iltrentinodeibambini.it/eventi/desmalgada-di-boniprati-2/
LOCATION:Altopiano di Boniprati\, Pieve di Bono - Prezzo\, TN\, Italia
CATEGORIES:Eventi speciali,Feste,Laboratori,Spazi d'incontro
END:VEVENT
BEGIN:VEVENT
DTSTART;TZID=Europe/Rome:20250914T083000
DTEND;TZID=Europe/Rome:20250914T180000
DTSTAMP:20260424T005348
CREATED:20250823T125329Z
LAST-MODIFIED:20250823T125329Z
UID:10021016-1757838600-1757872800@www.iltrentinodeibambini.it
SUMMARY:Festa delle brise e del bosco
DESCRIPTION:Tre giorni dedicati al bosco e al re dei funghi con interessanti escursioni micologiche e culturali nei maestosi boschi del Vanoi\, tradizionali mercatini di prodotti tipici ed artigianali\, stand gastronomici e golose proposte a tema dei ristoranti della valle. Ma anche animazione e laboratori per bambini. \n\nQuando: dal 12 al 14 settembre 2025\nDove: Caoria – Valle del Vanoi\nCosto: alcune attività sono a pagamento\nInfo: programma completo QUI.\n\n 
URL:https://www.iltrentinodeibambini.it/eventi/festa-delle-brise-e-del-bosco-2/2025-09-14/
LOCATION:Caoria\, Caoria
CATEGORIES:Eventi speciali,Feste
GEO:46.1921708;11.6843358
END:VEVENT
BEGIN:VEVENT
DTSTART;TZID=Europe/Rome:20250914T090000
DTEND;TZID=Europe/Rome:20250914T180000
DTSTAMP:20260424T005348
CREATED:20250828T150523Z
LAST-MODIFIED:20250828T150523Z
UID:10021037-1757840400-1757872800@www.iltrentinodeibambini.it
SUMMARY:Festa della Transumanza
DESCRIPTION:Una grande festa che celebra l’arrivo delle pecore in Tesino dopo l’alpeggio estivo: momenti dedicati alla tosatura delle pecore\, all’allevamento\, ai mestieri antichi\, ai prodotti caseari e tante degustazioni gastronomiche. Inoltre spettacoli pomeridiani e serate di musica e balli tradizionali\, oltre che attività dedicate ai bambini\, come laboratori e gonfiabili. Maggiori informazioni QUI. \n\nQuando: sabato 13 e domenica 14 settembre 2025\nDove: Pieve Tesino – centro sportivo\nInfo: tel. 0461.594292
URL:https://www.iltrentinodeibambini.it/eventi/festa-della-transumanza/2025-09-14/
LOCATION:Pieve Tesino\, Pieve Tesino
CATEGORIES:Eventi speciali,Feste
GEO:46.2094504;11.5650253
END:VEVENT
BEGIN:VEVENT
DTSTART;TZID=Europe/Rome:20250914T100000
DTEND;TZID=Europe/Rome:20250914T120000
DTSTAMP:20260424T005348
CREATED:20250821T144408Z
LAST-MODIFIED:20250821T144408Z
UID:10021006-1757844000-1757851200@www.iltrentinodeibambini.it
SUMMARY:I segreti di un'antica fortezza
DESCRIPTION:I segreti di un’antica fortezza | Visita guidata per conoscere la storia del castello di San Giovanni di Bondone\, a picco sul lago d’Idro. \n\nQUANDO: tutte le domeniche fino al 14 settembre\, domenica 5 e 19 ottobre e domenica 2 novembre 2025\nORARIO: ore 10.00 in inglese/ ore 11.00 in italiano\nADATTO A: dagli 8 anni\nCOSTO: inclusa nel biglietto di ingresso\n\nContatti: tel. 338.6527837; e-mail: castellobondone@muse.it
URL:https://www.iltrentinodeibambini.it/eventi/i-segreti-di-unantica-fortezza/2025-09-14/
LOCATION:Castello di Bondone\, Bondone\, Italia
CATEGORIES:Visite guidate
END:VEVENT
BEGIN:VEVENT
DTSTART;TZID=Europe/Rome:20250914T100000
DTEND;TZID=Europe/Rome:20250914T170000
DTSTAMP:20260424T005348
CREATED:20250530T070904Z
LAST-MODIFIED:20250530T070904Z
UID:10019779-1757844000-1757869200@www.iltrentinodeibambini.it
SUMMARY:Degustazione alpina
DESCRIPTION:Pane in forno! Scopriamo i cereali di montagna e la loro lavorazione\, macinandoli e impastandoli fino alla cottura di una profumata pagnotta. Questo evento fa parte delle giornate a tema del giardino. \n\nQuando: 3 e 14 agosto dalle ore 10.00 alle 18.00\, 14 settembre 2025 dalle ore 10.00 alle 17.00\nDove: Giardino botanico alpino Viote – Monte Bondone\nCosto: gratuito\nInfo: tel. 0461.948050 | giardino.botanico@muse.it\n\nScoprite tutte le attività per famiglie e bambini del Giardino botanico alpino delle Viote.
URL:https://www.iltrentinodeibambini.it/eventi/degustazione-alpina-3/2025-09-14/
LOCATION:Giardino Botanico Alpino Viote\, Loc. Viote\, Trento
CATEGORIES:Al Museo,Eventi speciali
GEO:46.0700915;11.1197626
X-APPLE-STRUCTURED-LOCATION;VALUE=URI;X-ADDRESS=Giardino Botanico Alpino Viote Loc. Viote Trento;X-APPLE-RADIUS=500;X-TITLE=Loc. Viote:geo:11.1197626,46.0700915
END:VEVENT
BEGIN:VEVENT
DTSTART;TZID=Europe/Rome:20250914T100000
DTEND;TZID=Europe/Rome:20250914T180000
DTSTAMP:20260424T005348
CREATED:20250912T084546Z
LAST-MODIFIED:20250912T084546Z
UID:10021177-1757844000-1757872800@www.iltrentinodeibambini.it
SUMMARY:Festa delle malghe
DESCRIPTION:La festa delle malghe “Re Laurino” è un evento da non perdere nell‘area escursionistica di Carezza\, a cavallo tra la Val d’Ega e la Val di Fassa. Ogni anno cade la seconda settimana di settembre per festeggiare la fine dell’estate tra i massicci montuosi del Catinaccio e del Latemar. Una passeggiata di malga in malga tra piatti tipici\, musica e intrattenimento. Maggiori info QUI. \n\nQuando: domenica 14 settembre dalle ore 10.00\nDove: punto di partenza presso Mulino\, Via Bellavista – Carezza\nCosto: l’evento è a partecipazione libera e gratuita\nInfo: tel. 0471 619500
URL:https://www.iltrentinodeibambini.it/eventi/festa-delle-malghe/
LOCATION:Carezza\, Italia
CATEGORIES:Eventi speciali,Feste
END:VEVENT
BEGIN:VEVENT
DTSTART;TZID=Europe/Rome:20250914T100000
DTEND;TZID=Europe/Rome:20250914T230000
DTSTAMP:20260424T005348
CREATED:20250910T151128Z
LAST-MODIFIED:20250910T151128Z
UID:10021156-1757844000-1757890800@www.iltrentinodeibambini.it
SUMMARY:Sagra di Montevaccino
DESCRIPTION:Dal 12 al 14 settembre 2025 a Montevaccino\, nel parco – campo sportivo e nel cortile del Centro Sociale\, tre giorni di festa con un ricco e variegato programma d’intrattenimento: buona cucina\, sport\, momenti liturgici e divertimento non mancheranno. Ecco cosa vi aspetta: \n\n\nVenerdì 12 settembre 2025 – Parco – campo sportivo \n\ndalle ore 16.00  apertura parete d’arrampicata\n dalle ore 17.00 apertura ed iscrizioni “Vertical del Canopi” e iscrizioni “Mini Trail” (per bambini e ragazzi fino ai 13 anni) \nore 17.30 partenza “Mini Trail”\nore 18.00 il “Vaso della Fortuna”\nore 18.30 partenza Vertical\ndalle ore 19\,00 musica con i “Mesh Up” e cucina aperta con panini caldi con braciole\, würstel\, pasta di lucanica\, porchetta e tosella\, nuggets di pollo; patatine fritte\, fagioli; servizio bar anche con spritz e hugo\nore 21.00 estrazione premi Vertical\ndalle ore 21.30 DJ set con Davide Tomasi\n\n\n\n\n\nVenerdì 12 settembre 2025 – Cortile del Centro Sociale  \n\ndalle ore 19 cucina aperta e cena con “tortei de patate” con affettati\, formaggio\, cavolo cappuccio. Servizio bar anche con spitz e hugo anche “strauben” con marmellata e nutella. \ndalle 19.30 serata di musica ed allegria in compagnia di Red Duo\n\nSabato 13 settembre 2025 – Parco – campo sportivo \n\ndalle ore 14.30 apertura delle attività: parete d’arrampicata (fino alle 21\,00)\, go cart per bambini (fino alle 21\,00) e del “Vaso della Fortuna”\ndalle ore 18.30 alle 19.30 esibizione Dance Team School\ndalle ore 19.00 cucina aperta con panini caldi (braciole\, würstel\, pasta di lucanica\, porchetta e tosella\, nuggets di pollo\, patatine fritte\, fagioli); servizio bar anche con spritz e hugo\n dalle ore 21.30 musica con “Kombrikola” Vasco tribute band\n\nSabato 13 settembre 2025 – Cortile del Centro Sociale \n\ndalle ore 16.00 “strauben” con marmellata e nutella\, spettacolo per bambini con Mago Polpetta e mostra “Action figures”\ndalle ore 19.00 cucina aperta con piatti speciali: frittura di pesce\, trippe alla parmigiana\, tosella con patate rostìde e cavolo cappuccio (veggy)\, strauben con marmellata e nutella\ndalle ore 19.30 Leonardo Bort e la sua fisarmonica\n\nDomenica 14 settembre 2025 – Parco – campo sportivo \n\ndalle ore 10.00 apertura delle attività: parete d’arrampicata (fino alle 20\,00)\, “Vaso della Fortuna” e go cart per bambini (fino alle 20\,00) \ndalle ore 12.00 cucina aperta con panini caldi; (braciole\, würstel\, pasta di lucanica\, porchetta e tosella\, nuggets di pollo\, patatine fritte\, fagioli); servizio bar anche con spritz e hugo\n\n Domenica 14 settembre 2025 – Cortile del Centro Sociale \n\ndalle ore 10.00 alle 12.00 passeggiata eco-logica per grandi e piccini alla scoperta del territorio con le guide dell’Ecomuseo dell’Argentario\ndalle ore 11.00 alle 15.00 mostra “Action figures”\ndalle ore 12.00 cucina aperta con “piatto montese” (polenta\, spezzatino\, formaggio e cavolo cappuccio) oppure “piatto montese veggy” (polenta con tosella e cavolo cappuccio o peperonata). Non mancano mai: patatine fritte\, fagioli e al servizio bar anche spritz e hugo\ndalle ore 15.00 alle 17.00 pausa per attività liturgiche e S. Messa solenne con il coro parrocchiale di Fierozzo. A seguire processione per le vie dell’abitato di Monte di Sotto\ndalle ore 17.00 la festa continua con il bar e le dolci tentazioni (“strauben” con marmellata e nutella)\ndalle ore 19.00 cucina aperta con i piatti della tradizione\nalle ore 23.00 chiusura della sagra.\n\n\n\n 
URL:https://www.iltrentinodeibambini.it/eventi/sagra-di-montevaccino/2025-09-14/
LOCATION:Montevaccino\, Trentino\, 38121\, Italia
CATEGORIES:Eventi speciali,Feste
GEO:46.1174495;11.1312937
END:VEVENT
BEGIN:VEVENT
DTSTART;TZID=Europe/Rome:20250914T103000
DTEND;TZID=Europe/Rome:20250914T113000
DTSTAMP:20260424T005348
CREATED:20250519T112550Z
LAST-MODIFIED:20250519T112550Z
UID:10019492-1757845800-1757849400@www.iltrentinodeibambini.it
SUMMARY:Caccia al racconto
DESCRIPTION:Caccia al racconto “Il gigante e le pagnotte avvelenate”. \n\nQuando: dal 21 giugno al 21 settembre 2025 ogni mercoledì alle ore 15.30 e ogni domenica alle ore 10.30\nDove: Villaggio dei Racconti – Alpe Cermis\nCosto: 6 euro (il costo comprende oltre all’attività\, l’ingresso al Villaggio\, alle zone relax e al Bike Park)\nInfo: tel. 0462.340490\n\n  \nScoprite tutte le attività settimanali del Villaggio dei Racconti sull’Alpe Cermis QUI.
URL:https://www.iltrentinodeibambini.it/eventi/caccia-al-racconto-2-2/2025-09-14/
LOCATION:Alpe Cermis
CATEGORIES:Eventi speciali
END:VEVENT
BEGIN:VEVENT
DTSTART;TZID=Europe/Rome:20250914T140000
DTEND;TZID=Europe/Rome:20250914T170000
DTSTAMP:20260424T005348
CREATED:20250717T115227Z
LAST-MODIFIED:20250717T130128Z
UID:10020815-1757858400-1757869200@www.iltrentinodeibambini.it
SUMMARY:La forza della natura
DESCRIPTION:Scopri attraverso il percorso didattico i profumi balsamici del bosco\, i segreti del legno e delle resine delle\nconifere. \n\nAttività gratuita\nPrenotazioni e info al n. 0463 985048 – info@valdirabbi.com\nRitrovo: Segheria Veneziana dei Bégoi\nMercoledì\, venerdì\, sabato e domenica  ore 14:00 – 17:00  (tutti i giorni dal 6 al 24 agosto)\nDal 24 giugno al 14 settembre 2025\n\nScopri: Val di Rabbi\, estate coi bambini
URL:https://www.iltrentinodeibambini.it/eventi/la-forza-della-natura/2025-09-14/
LOCATION:segheria dei Bégoi\, Loc. Plan\, Val di Rabbi\, TN\, Italia
CATEGORIES:Visite guidate
END:VEVENT
BEGIN:VEVENT
DTSTART;TZID=Europe/Rome:20250914T143000
DTEND;TZID=Europe/Rome:20250914T160000
DTSTAMP:20260424T005348
CREATED:20250519T091155Z
LAST-MODIFIED:20250519T091155Z
UID:10019309-1757860200-1757865600@www.iltrentinodeibambini.it
SUMMARY:La fabbrica dei giocattoli
DESCRIPTION:Laboratorio creativo di piccoli giochi in legno. \n\nQuando: ogni domenica dal 21 giugno al 21 settembre 2025 alle ore 14.45\nDove: Villaggio dei Racconti – Alpe Cermis\nCosto: 6 euro (il costo comprende oltre all’attività\, l’ingresso al Villaggio\, alle zone relax e al Bike Park)\nInfo: tel. 0462.340490\n\n  \nScoprite tutte le attività settimanali del Villaggio dei Racconti sull’Alpe Cermis QUI.
URL:https://www.iltrentinodeibambini.it/eventi/la-fabbrica-dei-giocattoli-2/2025-09-14/
LOCATION:Alpe Cermis
CATEGORIES:Laboratori
END:VEVENT
BEGIN:VEVENT
DTSTART;TZID=Europe/Rome:20250914T150000
DTEND;TZID=Europe/Rome:20250914T163000
DTSTAMP:20260424T005348
CREATED:20250908T080331Z
LAST-MODIFIED:20250908T080331Z
UID:10021129-1757862000-1757867400@www.iltrentinodeibambini.it
SUMMARY:LITTLE MART - La collezione turchese
DESCRIPTION:Il tema degli incontri Little Mart? Le mostre e le collezioni del museo o\, più in generale\, temi e tecniche legati all’arte contemporanea. Vere e proprie palestre della creatività con laboratori che coinvolgono bambini e adulti proponendo una partecipazione attiva. \nATTIVITA‘: La collezione turchese | Piccoli elementi naturali e la magia del colore turchese sono al centro di questo laboratorio ispirato alle opere di Laura De Bernardi. Un modo per scoprire le potenzialità di una tinta sospesa tra azzurro e verde\, sperimentando accostamenti e giochi creativi che danno vita a una personale collezione. Dai 3 agli 8 anni. \nDOVE: Spazio Little Mart – MART Museo di Arte Moderna e Contemporanea Rovereto\, C.so Bettini 43\, Rovereto\nQUANDO: Domenica 14 settembre 2025\, ore 15.00 – 16.30\nCOSTO: 5 euro a bambino. Accompagnatore gratuito\nADATTO A: bambini 4-10 anni\nPRENOTAZIONI:  dal lunedì al venerdì scrivendo a education@mart.trento.it o telefonando allo 0464 454135-108. Il sabato e la domenica presso la biglietteria del Mart (0464 454240). \nConosci già il MART? Scoprilo meglio\, leggi Al MART coi bambini
URL:https://www.iltrentinodeibambini.it/eventi/little-mart-la-collezione-turchese-2/
LOCATION:MART – Museo ArteModerna e Contemporanea Rovereto\, Corso Bettini 43\, Rovereto\, TN\, 38068\, Italia
CATEGORIES:Al Museo,Laboratori
END:VEVENT
BEGIN:VEVENT
DTSTART;TZID=Europe/Rome:20250914T150000
DTEND;TZID=Europe/Rome:20250914T170000
DTSTAMP:20260424T005348
CREATED:20250430T075343Z
LAST-MODIFIED:20250901T161717Z
UID:10019028-1757862000-1757869200@www.iltrentinodeibambini.it
SUMMARY:Tutti in scena
DESCRIPTION:Accompagnati da un’educatrice museale\, le famiglie “entreranno” giocosamente nelle opere di Giacomo Francesco Cipper\, alla scoperta dei dettagli più insoliti\, delle curiosità e delle stranezze del teatro del quotidiano. \n\nQuando: domenica 14 settembre 2025 alle ore 15.00\nDove: Castello del Buonconsiglio\nCosto: 8 euro a nucleo familiare\nInfo: prenotazione online QUI\n\nScoprite tutti gli appuntamenti per famiglie nei castelli del trentino QUI.
URL:https://www.iltrentinodeibambini.it/eventi/tutti-in-scena-2-2/
LOCATION:Castello del Buonconsiglio\, Trento 
CATEGORIES:Al Museo,Visite guidate
GEO:46.0700915;11.1197626
END:VEVENT
BEGIN:VEVENT
DTSTART;TZID=Europe/Rome:20250914T150000
DTEND;TZID=Europe/Rome:20250914T173000
DTSTAMP:20260424T005348
CREATED:20250829T183316Z
LAST-MODIFIED:20250829T183316Z
UID:10021081-1757862000-1757871000@www.iltrentinodeibambini.it
SUMMARY:Prova il minibasket - Sport nel verde
DESCRIPTION:Prova il minibasket con ASD Minibasket Trento e con i campioni e lo staff di Aquila basket. \n\nQuando: domenica 14 e 21 settembre 2025 alle ore 15.00\nDove: Giardino di Piazza Venezia – Trento\nCosto: gratuito\nTarget: bambini dai 6 ai 12 anni\nInfo: sport@comune.trento.it\n\nScoprite tutti gli appuntamenti di Sport nel verde QUI.
URL:https://www.iltrentinodeibambini.it/eventi/prova-il-minibasket-sport-nel-verde-2-2-2-2/2025-09-14/
LOCATION:giardini Piazza Venezia\, Trento\, Italia
CATEGORIES:Al parco,Eventi speciali
END:VEVENT
BEGIN:VEVENT
DTSTART;TZID=Europe/Rome:20250914T170000
DTEND;TZID=Europe/Rome:20250914T183000
DTSTAMP:20260424T005348
CREATED:20250701T071448Z
LAST-MODIFIED:20250701T071448Z
UID:10020544-1757869200-1757874600@www.iltrentinodeibambini.it
SUMMARY:Visita guidata al Museo per Via
DESCRIPTION:Addii e fatiche ma anche intraprendenza e successo: la storia del Tesino prende forma nelle avventure dei suoi figli e delle sue figlie che per secoli cercarono fortuna come venditori di stampe sulle strade d’Europa\, diventando pionieri della moderna civiltà delle immagini. \n\nQuando: ogni domenica dal 15 giugno al 14 settembre 2025 alle ore 17.15\nDove: Museo Per Via – Pieve Tesino\nCosto: intero 4 euro | ridotto 3 euro\nInfo: prenotazione consigliata tel. 347.3692738 oppure 0461.314247
URL:https://www.iltrentinodeibambini.it/eventi/visita-guidata-al-museo-per-via/2025-09-14/
LOCATION:Pieve Tesino\, Pieve Tesino
CATEGORIES:Al Museo,Visite guidate
GEO:46.2094504;11.5650253
END:VEVENT
END:VCALENDAR