BEGIN:VCALENDAR
VERSION:2.0
PRODID:-//Il Trentino dei Bambini - ECPv6.13.2//NONSGML v1.0//EN
CALSCALE:GREGORIAN
METHOD:PUBLISH
X-ORIGINAL-URL:https://www.iltrentinodeibambini.it
X-WR-CALDESC:Eventi per Il Trentino dei Bambini
REFRESH-INTERVAL;VALUE=DURATION:PT1H
X-Robots-Tag:noindex
X-PUBLISHED-TTL:PT1H
BEGIN:VTIMEZONE
TZID:Europe/Rome
BEGIN:DAYLIGHT
TZOFFSETFROM:+0100
TZOFFSETTO:+0200
TZNAME:CEST
DTSTART:20250330T010000
END:DAYLIGHT
BEGIN:STANDARD
TZOFFSETFROM:+0200
TZOFFSETTO:+0100
TZNAME:CET
DTSTART:20251026T010000
END:STANDARD
END:VTIMEZONE
BEGIN:VEVENT
DTSTART;TZID=Europe/Rome:20250918T103000
DTEND;TZID=Europe/Rome:20250918T113000
DTSTAMP:20260424T005308
CREATED:20250519T112944Z
LAST-MODIFIED:20250519T112944Z
UID:10019506-1758191400-1758195000@www.iltrentinodeibambini.it
SUMMARY:Laboratorio di teatro
DESCRIPTION:Entriamo a far parte del racconto del Villaggio con il laboratorio di teatro! \n\nQuando: dal 21 giugno al 21 settembre 2025 ogni giovedì alle ore 10.30\nDove: Villaggio dei Racconti – Alpe Cermis\nCosto: 6 euro (il costo comprende oltre all’attività\, l’ingresso al Villaggio\, alle zone relax e al Bike Park)\nInfo: tel. 0462.340490\n\n  \nScoprite tutte le attività settimanali del Villaggio dei Racconti sull’Alpe Cermis QUI.
URL:https://www.iltrentinodeibambini.it/eventi/laboratorio-di-teatro/2025-09-18/
LOCATION:Alpe Cermis
CATEGORIES:Eventi speciali,Laboratori
END:VEVENT
BEGIN:VEVENT
DTSTART;TZID=Europe/Rome:20250918T143000
DTEND;TZID=Europe/Rome:20250918T160000
DTSTAMP:20260424T005308
CREATED:20250519T111456Z
LAST-MODIFIED:20250519T111456Z
UID:10019427-1758205800-1758211200@www.iltrentinodeibambini.it
SUMMARY:Minatori per un giorno
DESCRIPTION:Caccia al tesoro “Minatori per un giorno”. \n\nQuando: ogni martedì e giovedì dal 21 giugno al 21 settembre 2025 alle ore 14.45\nDove: Villaggio dei Racconti – Alpe Cermis\nCosto: 6 euro (il costo comprende oltre all’attività\, l’ingresso al Villaggio\, alle zone relax e al Bike Park)\nInfo: tel. 0462.340490\n\n  \nScoprite tutte le attività settimanali del Villaggio dei Racconti sull’Alpe Cermis QUI.
URL:https://www.iltrentinodeibambini.it/eventi/minatori-per-un-giorno/2025-09-18/
LOCATION:Alpe Cermis
CATEGORIES:Eventi speciali
END:VEVENT
BEGIN:VEVENT
DTSTART;TZID=Europe/Rome:20250918T160000
DTEND;TZID=Europe/Rome:20250918T170000
DTSTAMP:20260424T005308
CREATED:20250701T070717Z
LAST-MODIFIED:20250701T070717Z
UID:10020521-1758211200-1758214800@www.iltrentinodeibambini.it
SUMMARY:Visita al museo Casa De Gasperi
DESCRIPTION:Da Pieve Tesino all’Europa: un viaggio attraverso il Novecento sulle orme di Alcide De Gasperi. Nella sua casa natale rivivono gli ideali che ne hanno fatto un protagonista dell’autonomia trentina\, della ricostruzione democratica dell’Italia e del sogno europeo. \n\nQuando: tutti i giovedì dal 19 giugno al 18 settembre 2025 alle ore 16.00\nDove: ritrovo presso Museo Casa De Gasperi – Pieve Tesino\nCosto: intero 4 euro | ridotto 3 euro\nInfo: prenotazione consigliata tel. 344.2777594 oppure 0461.314247
URL:https://www.iltrentinodeibambini.it/eventi/visita-al-museo-casa-de-gasperi/2025-09-18/
LOCATION:Museo Casa De Gasperi\, Via Alcide De Gasperi\, 1 38050 \, Pieve Tesino 
CATEGORIES:Visite guidate
GEO:46.0677042;11.6127728
X-APPLE-STRUCTURED-LOCATION;VALUE=URI;X-ADDRESS=Museo Casa De Gasperi Via Alcide De Gasperi 1 38050  Pieve Tesino;X-APPLE-RADIUS=500;X-TITLE=Via Alcide De Gasperi\, 1 38050:geo:11.6127728,46.0677042
END:VEVENT
BEGIN:VEVENT
DTSTART;TZID=Europe/Rome:20250918T160000
DTEND;TZID=Europe/Rome:20250918T183000
DTSTAMP:20260424T005308
CREATED:20250412T224306Z
LAST-MODIFIED:20250412T224306Z
UID:10018331-1758211200-1758220200@www.iltrentinodeibambini.it
SUMMARY:Fruttiamo
DESCRIPTION:Camminando lungo la salita al Maso Maserac\, scoprirai dove nascono i piccoli frutti golosi che verranno proposti alla fine del percorso in una merenda gustosa. \nINFO & FAQ:\n \n\nQuando: dal lunedì al giovedì dal 10 luglio al 30 settembre 2025;\norario: ore 16.00\nPrenotazione entro le 12:00 del giorno stesso: clicca QUI\nOrario di ritrovo: ore 16:00;\nPunto di ritrovo: Chiesa di San Lorenzo | Vigo Lomaso (Comano Terme)\nContatti per dettagli su questa escursione:  +39 345 0796009;\nDurata: 2\,5 ore;\nServizi inclusi: Visita guidata alle coltivazioni di piccoli frutti dell’azienda agricola Agriconda – Maso Maserac\, passeggiata lungo la salita al maso e degustazione di piccoli frutti o altri prodotti di stagione;\nAttrezzatura richiesta: scarpe comode\, adatte a camminare su un terreno erboso e irregolari;\nUlteriori Informazioi: Il percorso non è adatto alle carrozzine; l’utilizzo di passeggini è possibile\, ma poco agevole.\n\nConosci Maso Maserac? Si possono fare anche dei meravigliosi picnic: leggi Picnic a Maso Maserac
URL:https://www.iltrentinodeibambini.it/eventi/fruttiamo-2/2025-09-18/
LOCATION:Maso Maserac\, Vigo Lomaso\, Italia
CATEGORIES:In fattoria,Spazi d'incontro
END:VEVENT
BEGIN:VEVENT
DTSTART;TZID=Europe/Rome:20250918T163000
DTEND;TZID=Europe/Rome:20250918T173000
DTSTAMP:20260424T005308
CREATED:20250830T123326Z
LAST-MODIFIED:20250830T123326Z
UID:10021091-1758213000-1758216600@www.iltrentinodeibambini.it
SUMMARY:L’allegro villaggio nel bosco
DESCRIPTION:Un’occasione di gioco libero psicomotorio per famiglie: travestiti e costruisci un fantasioso villaggio di tane nel bosco del Maxi Ooh! \n\nQuando: giovedì 18 settembre 2025 alle ore 16.30\nDove: Maxi Ooh! – Muse\nCosto: 2 euro a partecipante | gratuito per possessori MyMUSE Family & friends\nTarget: 3-6 anni\n\nScoprite tutti gli appuntamenti al Maxi Ooh! QUI.
URL:https://www.iltrentinodeibambini.it/eventi/lallegro-villaggio-nel-bosco/
LOCATION:MUSE\, Italia
CATEGORIES:Al Museo
GEO:46.0700915;11.1197626
END:VEVENT
BEGIN:VEVENT
DTSTART;TZID=Europe/Rome:20250918T163000
DTEND;TZID=Europe/Rome:20250918T173000
DTSTAMP:20260424T005308
CREATED:20250901T095001Z
LAST-MODIFIED:20250901T104847Z
UID:10021101-1758213000-1758216600@www.iltrentinodeibambini.it
SUMMARY:It's story time
DESCRIPTION:Letture ad alta voce in inglese per bambine e bambini dai 3 ai 6 anni. \n\nQuando: giovedì 18 settembre\, 9 ottobre\, 20 novembre e 18 dicembre 2025 alle 16.30\nDove: biblioteca comunale – sede di Mattarello\nCosto: partecipazione libera e gratuita\nInfo: tel. 0461.889868 | e-mail: biblioteca.mattarello@comune.trento.it.\n\nScoprite altre attività nelle biblioteche comunali di Treno QUI.
URL:https://www.iltrentinodeibambini.it/eventi/its-story-time-7/2025-09-18/
LOCATION:Biblioteca di Mattarello\, Mattarello 
CATEGORIES:In biblioteca
GEO:46.0062499;11.1366731
END:VEVENT
BEGIN:VEVENT
DTSTART;TZID=Europe/Rome:20250918T170000
DTEND;TZID=Europe/Rome:20250918T180000
DTSTAMP:20260424T005308
CREATED:20250829T165739Z
LAST-MODIFIED:20250829T165739Z
UID:10021054-1758214800-1758218400@www.iltrentinodeibambini.it
SUMMARY:Prova il baseball - Sport nel verde
DESCRIPTION:Prova il baseball con Trento Baseball ASD. \n\nQuando: giovedì 4\, 11\, 18 e 25 settembre 2025 alle ore 17.00\nDove: Giardino Maria Teresa d’Asburgo – Trento\nCosto: gratuito\nInfo: per bambini\n\nScoprite tutti gli appuntamenti di Sport nel verde QUI.
URL:https://www.iltrentinodeibambini.it/eventi/prova-il-baseball-sport-nel-verde-2/2025-09-18/
LOCATION:Giardino Maria Teresa d’Asburgo\, Via Anna Frank\, Trento
CATEGORIES:Al parco,Eventi speciali
END:VEVENT
BEGIN:VEVENT
DTSTART;TZID=Europe/Rome:20250918T170000
DTEND;TZID=Europe/Rome:20250918T183000
DTSTAMP:20260424T005308
CREATED:20250701T070934Z
LAST-MODIFIED:20250701T070934Z
UID:10020533-1758214800-1758220200@www.iltrentinodeibambini.it
SUMMARY:Visita culturale al Giardino d'Europa
DESCRIPTION:Una passeggiata alla scoperta di bellissime fioriture e dei tanti significati simbolici dell’unico giardino italiano dedicato all’Europa. \n\nQuando: tutti i giovedì dal 19 giugno al 18 settembre 2025 alle ore 17.15\nDove: ritrovo presso Museo Casa De Gasperi – Pieve Tesino\nCosto: intero 4 euro | ridotto 3 euro\nInfo: prenotazione consigliata tel. 344.2777594 oppure 0461.314247
URL:https://www.iltrentinodeibambini.it/eventi/visita-culturale-al-giardino-deuropa/2025-09-18/
LOCATION:Pieve Tesino\, Pieve Tesino
CATEGORIES:Visite guidate
GEO:46.2094504;11.5650253
END:VEVENT
END:VCALENDAR