BEGIN:VCALENDAR
VERSION:2.0
PRODID:-//Il Trentino dei Bambini - ECPv6.13.2//NONSGML v1.0//EN
CALSCALE:GREGORIAN
METHOD:PUBLISH
X-ORIGINAL-URL:https://www.iltrentinodeibambini.it
X-WR-CALDESC:Eventi per Il Trentino dei Bambini
REFRESH-INTERVAL;VALUE=DURATION:PT1H
X-Robots-Tag:noindex
X-PUBLISHED-TTL:PT1H
BEGIN:VTIMEZONE
TZID:Europe/Rome
BEGIN:DAYLIGHT
TZOFFSETFROM:+0100
TZOFFSETTO:+0200
TZNAME:CEST
DTSTART:20250330T010000
END:DAYLIGHT
BEGIN:STANDARD
TZOFFSETFROM:+0200
TZOFFSETTO:+0100
TZNAME:CET
DTSTART:20251026T010000
END:STANDARD
END:VTIMEZONE
BEGIN:VEVENT
DTSTART;VALUE=DATE:20250925
DTEND;VALUE=DATE:20250929
DTSTAMP:20260423T203008
CREATED:20250828T151033Z
LAST-MODIFIED:20250828T151033Z
UID:10021038-1758758400-1759103999@www.iltrentinodeibambini.it
SUMMARY:La gran festa del desmontegar
DESCRIPTION:Dal 25 al 28 settembre 2024 in Primiero quattro giorni per celebrare il ritorno dai pascoli alle stalle del fondovalle. Qui ha luogo la desmontegada più lunga e partecipata di tutto l’arco alpino accompagnata da musica\, tradizioni e attività in stalla per grandi e piccini. \nIl tutto condito da momenti di musica e folklore nei diversi borghi: dalla tradizionale festa della birra a Transacqua ad un momento dedicato alla zucca e ai sapori d’autunno ad Imer\, mentre Fiera di Primiero vi accoglierà con musica e atmosfere contadine. \nTutte le info QUI. \n  \nScoprite altri eventi simili QUI.
URL:https://www.iltrentinodeibambini.it/eventi/la-gran-festa-del-desmontegar-2/
LOCATION:Primiero\, Primiero\, 	38054\, Italia
CATEGORIES:Eventi speciali,Feste
GEO:46.1757686;11.8283805
END:VEVENT
BEGIN:VEVENT
DTSTART;TZID=Europe/Rome:20250926T143000
DTEND;TZID=Europe/Rome:20250926T170000
DTSTAMP:20260423T203008
CREATED:20250915T064610Z
LAST-MODIFIED:20250915T064610Z
UID:10021198-1758897000-1758906000@www.iltrentinodeibambini.it
SUMMARY:Spazio giochi da tavolo
DESCRIPTION:Uno spazio dedicato a chi ha voglia di cimentarsi con i giochi da tavolo\, senza limiti d’età. \n\nQuando: tutti i venerdì dalle ore 14.30\nDove: biblioteca comunale – sede di Povo\nCosto: partecipazione libera e gratuita\nInfo: tel. 0461-889918 | e-mail biblioteca.povo@comune.trento.it\n\nScoprite tutti gli eventi per bambini e ragazzi nelle biblioteche comunali di Trento QUI.
URL:https://www.iltrentinodeibambini.it/eventi/spazio-giochi-da-tavolo-4/2025-09-26/
LOCATION:biblioteca di Povo\, Via Don Tommaso Dallafior
CATEGORIES:Eventi speciali,In biblioteca
END:VEVENT
BEGIN:VEVENT
DTSTART;TZID=Europe/Rome:20250926T153000
DTEND;TZID=Europe/Rome:20250926T170000
DTSTAMP:20260423T203008
CREATED:20250828T193143Z
LAST-MODIFIED:20250828T193143Z
UID:10021049-1758900600-1758906000@www.iltrentinodeibambini.it
SUMMARY:Parchi per crescere
DESCRIPTION:Una proposta a partecipazione gratuita senza bisogno di prenotazione rivolta alle famiglie con bambini da 0 a 6 anni. Si tratta di incontri di gioco\, lettura\, attività creative\, che hanno luogo in diversi parchi della città. Ecco tutti gli appuntamenti di settembre: \n\nmercoledì 3 settembre alle ore 10.00 presso il parco di San Marco\nvenerdì 5 settembre alle ore 15.30 al parco in Clarina\nmartedì 9 settembre alle ore 15.30 al parco di Melta\, nella zona dei giochi in legno\nmercoledì 10 settembre alle ore 10.00 al giardino Fratelli Bernardi sul lungo Fersina\nvenerdì 12 settembre alle ore 15.30 al parco delle Albere nella zona teleferica\nmartedì 16 settembre alle ore 15.30 al parco di Melta\, nella zona dei giochi in legno\nmercoledì 17 settembre alle ore 10.00 a Cognola\, nel parco sotto la chiesa\nvenerdì 19 settembre alle ore 15.30 al parco di Villazzano\, all’altezza del bar Terzo Tempo\nmartedì 23 settembre alle ore 15.30 al parco di Melta\, nella zona dei giochi in legno\nmercoledì 24 settembre alle ore 10.00 al parco di Mattarello\nvenerdì 26 settembre alle ore 15.30 al parco Langer\n\nScoprite tutte le attività dedicate a bambini e famiglie a Trento QUI.
URL:https://www.iltrentinodeibambini.it/eventi/parchi-per-crescere-2/2025-09-26/
LOCATION:Trento\, Italia
CATEGORIES:Al parco,Eventi speciali
END:VEVENT
BEGIN:VEVENT
DTSTART;TZID=Europe/Rome:20250926T160000
DTEND;TZID=Europe/Rome:20250926T220000
DTSTAMP:20260423T203008
CREATED:20250912T134025Z
LAST-MODIFIED:20250912T134025Z
UID:10021191-1758902400-1758924000@www.iltrentinodeibambini.it
SUMMARY:Il bramito del cervo a Pinzolo
DESCRIPTION:Un’escursione guidata\, in compagnia di Mountain Friends – Guide e Accompagnatori Pinzolo Val Rendena\, ai piedi delle Dolomiti di Brenta\, nel Parco Naturale Adamello Brenta\, per ascoltare il bramito del cervo\, il potente suono emesso dagli esemplari maschi per esprimere la loro potenza e conquistare il proprio harem di femmine. \n\nvenerdì 19 e 26 settembre 2025 e venerdì 3 ottobre 2025 | ore 16.00| ritrovo a Pinzolo | rientro previsto per le 21.00. | Cena al sacco | Costo: 50 euro | Info ed iscrizioni QUI\n\nScopri qui tutti gli altri appuntamenti in Trentino per assistere al bramito del cervo: Ascolta il bramito del cervo
URL:https://www.iltrentinodeibambini.it/eventi/il-bramito-del-cervo-a-pinzolo-2/2025-09-26/
LOCATION:Pinzolo\, Pinzolo\, 38086
CATEGORIES:Al parco,Escursioni,Eventi speciali
GEO:46.1597701;10.7650269
END:VEVENT
BEGIN:VEVENT
DTSTART;TZID=Europe/Rome:20250926T163000
DTEND;TZID=Europe/Rome:20250926T183000
DTSTAMP:20260423T203008
CREATED:20250908T101852Z
LAST-MODIFIED:20250908T101852Z
UID:10021132-1758904200-1758911400@www.iltrentinodeibambini.it
SUMMARY:Laboratori urbani
DESCRIPTION:Laboratori urbani – A giocar con l’ombra propone “Ombra trovata\, ombra riparata”: cantiere ludico di pensiero e progettazione. Due squadre armate di mattoncini colorati si ritrovano all’ombra delle Torri di Madonna Bianca per riparare crepe nei muri e sbeccature negli angoli. I più piccoli 0-5 anni potranno giocare accompagnati nello spazio adiacente al laboratorio. \n\nQuando: venerdì 26 settembre 2025 alle ore 16.30\nDove: spazio verde sotto la Torre 14 di Madonna Bianca\nCosto: partecipazione libera e gratuita\nInfo: durata 2 ore | target 5-12 anni | ufficio.cultura-turismo@comune.trento.it\n\nScoprite tutti gli eventi e attività per bambini e famiglie a Trento QUI.
URL:https://www.iltrentinodeibambini.it/eventi/laboratori-urbani-13/
LOCATION:Madonna Bianca\, Trento
CATEGORIES:Al parco,Laboratori
END:VEVENT
BEGIN:VEVENT
DTSTART;TZID=Europe/Rome:20250926T170000
DTEND;TZID=Europe/Rome:20250926T180000
DTSTAMP:20260423T203008
CREATED:20250821T141047Z
LAST-MODIFIED:20250821T141047Z
UID:10020983-1758906000-1758909600@www.iltrentinodeibambini.it
SUMMARY:Divoratori di libri
DESCRIPTION:Gruppo di lettura per ragazzi e ragazze di età tra gli 11 e i 14 anni. Ciascun partecipante porta in gruppo la propria esperienza di lettura e ha la possibilità di confrontarsi con gli altri membri del gruppo.  È un’occasione per mettersi in gioco\, scambiarsi i consigli di lettura e conoscere delle novità editoriali presenti nel catalogo. Appuntamento mensile. \n\nQuando: venerdì 26 settembre\, 24 ottobre\, 21 novembre e 19 dicembre 2025 alle ore 17.00\nDove: Biblioteca dei ragazzi – Palazzina Liberty\nCosto: attività gratuita\nInfo: tel. 0461.889559 | e-mail: biblioteca.ragazzi@comune.trento.it\n\nScoprite tutti gli appuntamenti nelle biblioteche comunali dedicati a bambini e ragazzi QUI
URL:https://www.iltrentinodeibambini.it/eventi/divoratori-di-libri-2/2025-09-26/
LOCATION:palazzina Liberty\, Piazza Dante\, Trento
CATEGORIES:In biblioteca
END:VEVENT
BEGIN:VEVENT
DTSTART;TZID=Europe/Rome:20250926T170000
DTEND;TZID=Europe/Rome:20250926T180000
DTSTAMP:20260423T203008
CREATED:20250901T110122Z
LAST-MODIFIED:20250901T110122Z
UID:10021118-1758906000-1758909600@www.iltrentinodeibambini.it
SUMMARY:Letture animate con la Signorina Sinforosa
DESCRIPTION:Letture animate per bambini e bambine dai 3 anni. \n\nQuando: 26 settembre 2025 alle 17.00\nDove: oratorio di Ravina\nCosto: partecipazione gratuita\nInfo: tel. 0461-889786 | e-mail: biblioteca.ravina@comune.trento.it\n\nLe date possono subire delle modifiche tenetevi aggiornati consultando l’agenda sul sito della biblioteca e la pagina Facebook. Per scoprire tutti gli eventi per bambini e ragazzi nelle biblioteche comunali cliccate QUI.
URL:https://www.iltrentinodeibambini.it/eventi/letture-animate-con-la-signorina-sinforosa/
LOCATION:Ravina\, piazza della Cricoscrizione\, Ravina\, Italia
CATEGORIES:Eventi speciali
END:VEVENT
BEGIN:VEVENT
DTSTART;TZID=Europe/Rome:20250926T180000
DTEND;TZID=Europe/Rome:20250926T220000
DTSTAMP:20260423T203008
CREATED:20250912T133701Z
LAST-MODIFIED:20250912T133701Z
UID:10021186-1758909600-1758924000@www.iltrentinodeibambini.it
SUMMARY:Ascolta il bramito del cervo - Paneveggio
DESCRIPTION:l Parco Naturale Paneveggio – Pale di San Martino è una delle aree del Trentino con il maggior numero di ungulati. Ritornano anche nell’autunno 2025 le escursioni “Ascolta il bramito del cervo” organizzate dal Parco. Un’esperienza emozionante anche grazie all’utilizzo della telecamera a infrarossi\, che permette di osservare i movimenti degli animali nel buio della notte. \n\nvenerdì 26 e sabato 27 settembre e venerdì 3 e sabato 4 ottobre 2025 | ore 18.00 | ritrovo: Centro Visitatori del Parco a Paneveggio| Quota di partecipazione: 15 euro adulti (15+)\, 10 euro bambini dai 7 ai 14 anni accompagnati (gratuito per bambini di età inferiore ai 7 anni\, accompagnati) | Iscrizioni online QUI \, oppure contattando il Centro Visitatori via mail: visitatori@parcopan.org \n\nScopri tutti gli appuntamenti per ascoltare il bramito del cervo: Ascolta il bramito del cervo
URL:https://www.iltrentinodeibambini.it/eventi/ascolta-il-bramito-del-cervo-paneveggio-2/2025-09-26/
LOCATION:Centro Visitatori Paneveggio – Predazzo\, SS50\, 11\, Predazzo\, Trentino\, 38037\, Italia
CATEGORIES:Escursioni,Eventi speciali,Visite guidate
END:VEVENT
BEGIN:VEVENT
DTSTART;TZID=Europe/Rome:20250926T190000
DTEND;TZID=Europe/Rome:20250926T220000
DTSTAMP:20260423T203008
CREATED:20250418T220930Z
LAST-MODIFIED:20251104T180901Z
UID:10018853-1758913200-1758924000@www.iltrentinodeibambini.it
SUMMARY:Picnic al tramonto da Agriconda
DESCRIPTION:Immagina un picnic in un angolino confortevole tra il verde dei frutteti di Maso Agriconda\, e una selezione di prodotti  a km 0 che troverai nel tuo cestino. Piccoli frutti\, conserve\, pane di montagna\, salumi locali\, puoi scegliere il tuo cesto preferito: cesto di Comano\, Cesto di Maserac\, Cesto dei Bambini e Cesto Picnic Romantico\, in versione classica o deluxe in base alla scelta della bevanda. \n\nPrenotazione entro le 12:00 del giorno stesso; clicca QUI per prenotare\nQuando: prenotabile tutti i giorni dal 9 giugno al 30 settembre 2025: ore 20:00 (1° giugno – 16 luglio) | ore 19:30 (17 luglio – 13 agosto) | ore 19:00 (14 agosto – 30 settembre);\nPunto di ritrovo: Salita al Maso Agriconda | Vigo Lomaso (Comano Terme)\nDurata: 3 ore;\nServizi inclusi: cestino da picnic con prodotti a km 0\, “salottino” riservato con vista tra i vigneti e le coltivazioni di lamponi\, allestito con tutto il necessario per goderti il tuo picnic\nCosto: cesti a partire da 30 euro. Inoltre con Garda Guest Card hai diritto a un prodotto gratuito dallo shop.\n\n\n\n\n\n\n\n\nContatti:\n\n\n\n\n\nAGRICONDA – farm experience\nLocalità Maserac\, 81 81 – 38077 Comano Terme\ntel. 348.1435785\nSito web\n\n\n\n\n\nCi siamo stati anche noi: Picnic a Maso Agriconda nel Lomaso
URL:https://www.iltrentinodeibambini.it/eventi/picnic-al-tramonto-da-agriconda/2025-09-26/
LOCATION:Maso Maserac\, Vigo Lomaso\, Italia
CATEGORIES:Al parco,In fattoria
END:VEVENT
BEGIN:VEVENT
DTSTART;TZID=Europe/Rome:20250926T190000
DTEND;TZID=Europe/Rome:20250926T220000
DTSTAMP:20260423T203008
CREATED:20250530T191715Z
LAST-MODIFIED:20250530T191722Z
UID:10019911-1758913200-1758924000@www.iltrentinodeibambini.it
SUMMARY:Picnic al tramonto da Agriconda
DESCRIPTION:Immagina un picnic in un angolino confortevole tra il verde dei frutteti di Maso Agriconda\, e una selezione di prodotti  a km 0 che troverai nel tuo cestino. Piccoli frutti\, conserve\, pane di montagna\, salumi locali\, puoi scegliere il tuo cesto preferito: cesto di Comano\, Cesto di Maserac\, Cesto dei Bambini e Cesto Picnic Romantico\, in versione classica o deluxe in base alla scelta della bevanda. \n\nPrenotazione entro le 12:00 del giorno stesso; clicca QUI per prenotare\nQuando: prenotabile tutti i giorni dal 9 giugno al 30 settembre 2025: ore 20:00 (1° giugno – 16 luglio) | ore 19:30 (17 luglio – 13 agosto) | ore 19:00 (14 agosto – 30 settembre);\nPunto di ritrovo: Salita al Maso Agriconda | Vigo Lomaso (Comano Terme)\nDurata: 3 ore;\nServizi inclusi: cestino da picnic con prodotti a km 0\, “salottino” riservato con vista tra i vigneti e le coltivazioni di lamponi\, allestito con tutto il necessario per goderti il tuo picnic\nCosto: cesti a partire da 30 euro. Inoltre con Garda Guest Card hai diritto a un prodotto gratuito dallo shop.\n\n\n\n\n\n\n\n\nContatti:\n\n\n\n\n\nAGRICONDA – farm experience\nLocalità Maserac\, 81 81 – 38077 Comano Terme\ntel. 348.1435785\nSito web\n\n\n\n\n\nCi siamo stati anche noi: Picnic a Maso Agriconda nel Lomaso
URL:https://www.iltrentinodeibambini.it/eventi/picnic-al-tramonto-da-agriconda-2/2025-09-26/
LOCATION:Maso Maserac\, Vigo Lomaso\, Italia
CATEGORIES:Al parco,In fattoria
END:VEVENT
BEGIN:VEVENT
DTSTART;TZID=Europe/Rome:20250926T190000
DTEND;TZID=Europe/Rome:20250926T223000
DTSTAMP:20260423T203008
CREATED:20250912T132938Z
LAST-MODIFIED:20250912T132938Z
UID:10021179-1758913200-1758925800@www.iltrentinodeibambini.it
SUMMARY:Ascolta il bramito del cervo
DESCRIPTION:Una cena a base di piatti della tradizione trentina\, seguita da un’escursione serale guidata fra i boschi di Vallarsa o del Monte Baldo.  Qui potrete ascoltare il bramito dei cervi e\, con un po’ di fortuna\, vederli pascolare. \n\n\nVENERDI’ 19 settembre 2025 | Vallarsa | ritrovo ore 19.00 all’Albergo Al Passo per la cena | menu: bis di gnocchi di fioretta al burro fuso e salvia e risotto ai  funghi\, polenta con formaggio fuso\, sopressa\, pasta di salsiccia\, speck\, torta di mele\, caffè (variante vegetariana su richiesta / menu bambini disponibile: cotoletta con patatine fritte) acqua | variazione vegetariana senza insaccati (altre eventuali bevande non incluse |dopo la cena escursione guidata nel bosco\nVENERDI’ 26 settembre 2025 | Monte Baldo | ritrovo ore 19 presso il Ristorante Pizzeria Pineta per la cena | Menu: assaggini di carne salada trentina\, crostino di pane con crema di zenzero\, salamella della Val Rendena al sugo\, fetta di polenta\, cavolo cappuccio\, crostata ai frutti di bosco (variante vegetariana su richiesta)  Dopo cena escursione guidata nel bosco in ascolto del bramito del cervo.\nCosto dell’attività: adulti 35 euro\, bambini (6-10 anni) 17 euro. Puoi prenotare le esperienze in Vallarsa e sul Monte Baldo cliccando QUI\n\nScopri tutti gli appuntamenti con il bramito del cervo in Trentino: Ascolta il bramito del cervo
URL:https://www.iltrentinodeibambini.it/eventi/ascolta-il-bramito-del-cervo/2025-09-26/
LOCATION:Monte Baldo\, Malcesine\, 37018\, Italia
CATEGORIES:Escursioni,Eventi speciali,Visite guidate
GEO:45.7642335;10.8100928
END:VEVENT
BEGIN:VEVENT
DTSTART;TZID=Europe/Rome:20250926T190000
DTEND;TZID=Europe/Rome:20250926T230000
DTSTAMP:20260423T203008
CREATED:20250912T133356Z
LAST-MODIFIED:20250912T133356Z
UID:10021182-1758913200-1758927600@www.iltrentinodeibambini.it
SUMMARY:Il bramito del cervo -  Pejo e Rabbi
DESCRIPTION:Un’esperienza unica vi attende nel cuore del Parco Nazionale dello Stelvio. Dopo essersi ritrovati\, con i propri mezzi si raggiunge la malga per una deliziosa cena dai sapori autunnali. In seguito\, indossata la pila frontale e un abbigliamento adatto\, ci si sposterà  con i propri mezzi fino a punto d’inizio dell’escursione. L’esperto del Parco vi accompagnerà in sicurezza nel bosco\, insegnandovi a porre attenzione a rumori e segnali. Particolare la dotazione: sarà possibile infatti usufruire di una speciale termocamera a raggi infrarossi\, capace di rilevare la presenza di animali nel buio della notte grazie al calore prodotto dai loro corpi. Esperienza adatta alle famiglie amanti della natura con bambini di almeno 8 anni. Lunghezza dei percorsi circa 4\,5 chilometri con un dislivello massimo di 250 metri in salita. \n\nsabato 20 e sabato 27 settembre e sabato 4 ottobre 2025 | ore 19.00 | punto di ritrovo: Centro Visitatori del Parco a Cogolo di Peio | tel. 0463.909773\nvenerdì 19 e 26 settembre e venerdì 3 ottobre 2025 | ore 19.00 | punto di ritrovo: Punto Info Parco a Rabbi Fonti | tel. 0463.909774\n\nScopri qui tutti gli appuntamenti in Trentino con il bramito del cervo: Ascolta il bramito del cervo
URL:https://www.iltrentinodeibambini.it/eventi/il-bramito-del-cervo-pejo-e-rabbi/2025-09-26/
LOCATION:Centro Visitatori Parco Nazionale dello Stelvio\, Peio Fonti
CATEGORIES:Escursioni,Eventi speciali
GEO:46.4075169;10.8079071
END:VEVENT
BEGIN:VEVENT
DTSTART;TZID=Europe/Rome:20250926T213000
DTEND;TZID=Europe/Rome:20250926T230000
DTSTAMP:20260423T203008
CREATED:20250609T062331Z
LAST-MODIFIED:20250609T062331Z
UID:10020082-1758922200-1758927600@www.iltrentinodeibambini.it
SUMMARY:A tu per tu con le stelle
DESCRIPTION:Partiamo per un meraviglioso viaggio nel Cosmo tra costellazioni e pianeti\, galassie e nebulose\, con i telescopi dell’osservatorio astronomico. Grazie alla guida di esperti operatori le finestre dell’Universo si aprono per tutti. \n\nQuando: 6\, 13\, 20\, 27 giugno dalle 21.30 alle 23.30 | 4 e 11 luglio | 8\, 15 e 22 agosto | 5\, 12\, 19 e 26 settembre dalle 21.30 alle 23.00\nDove: Terrazza delle Stelle – Monte Bondone\nCosto: intero 3\,50 euro | ridotto 2\,50 euro | famiglia 7 euro\nInfo: target 8+\n\nScoprite tutti gli appuntamenti alla Terrazza delle Stelle QUI.
URL:https://www.iltrentinodeibambini.it/eventi/a-tu-per-tu-con-le-stelle-4/2025-09-26/
LOCATION:Terrazza delle stelle\, loc. Vason\, Trento 
CATEGORIES:Al Museo,Eventi speciali
GEO:46.0700915;11.1197626
X-APPLE-STRUCTURED-LOCATION;VALUE=URI;X-ADDRESS=Terrazza delle stelle loc. Vason Trento;X-APPLE-RADIUS=500;X-TITLE=loc. Vason:geo:11.1197626,46.0700915
END:VEVENT
END:VCALENDAR