BEGIN:VCALENDAR
VERSION:2.0
PRODID:-//Il Trentino dei Bambini - ECPv6.13.2//NONSGML v1.0//EN
CALSCALE:GREGORIAN
METHOD:PUBLISH
X-WR-CALNAME:Il Trentino dei Bambini
X-ORIGINAL-URL:https://www.iltrentinodeibambini.it
X-WR-CALDESC:Eventi per Il Trentino dei Bambini
REFRESH-INTERVAL;VALUE=DURATION:PT1H
X-Robots-Tag:noindex
X-PUBLISHED-TTL:PT1H
BEGIN:VTIMEZONE
TZID:Europe/Rome
BEGIN:DAYLIGHT
TZOFFSETFROM:+0100
TZOFFSETTO:+0200
TZNAME:CEST
DTSTART:20250330T010000
END:DAYLIGHT
BEGIN:STANDARD
TZOFFSETFROM:+0200
TZOFFSETTO:+0100
TZNAME:CET
DTSTART:20251026T010000
END:STANDARD
END:VTIMEZONE
BEGIN:VEVENT
DTSTART;VALUE=DATE:20250925
DTEND;VALUE=DATE:20250929
DTSTAMP:20260423T203022
CREATED:20250828T151033Z
LAST-MODIFIED:20250828T151033Z
UID:10021038-1758758400-1759103999@www.iltrentinodeibambini.it
SUMMARY:La gran festa del desmontegar
DESCRIPTION:Dal 25 al 28 settembre 2024 in Primiero quattro giorni per celebrare il ritorno dai pascoli alle stalle del fondovalle. Qui ha luogo la desmontegada più lunga e partecipata di tutto l’arco alpino accompagnata da musica\, tradizioni e attività in stalla per grandi e piccini. \nIl tutto condito da momenti di musica e folklore nei diversi borghi: dalla tradizionale festa della birra a Transacqua ad un momento dedicato alla zucca e ai sapori d’autunno ad Imer\, mentre Fiera di Primiero vi accoglierà con musica e atmosfere contadine. \nTutte le info QUI. \n  \nScoprite altri eventi simili QUI.
URL:https://www.iltrentinodeibambini.it/eventi/la-gran-festa-del-desmontegar-2/
LOCATION:Primiero\, Primiero\, 	38054\, Italia
CATEGORIES:Eventi speciali,Feste
GEO:46.1757686;11.8283805
END:VEVENT
BEGIN:VEVENT
DTSTART;VALUE=DATE:20250927
DTEND;VALUE=DATE:20250929
DTSTAMP:20260423T203022
CREATED:20250918T172511Z
LAST-MODIFIED:20250918T172511Z
UID:10021215-1758931200-1759103999@www.iltrentinodeibambini.it
SUMMARY:Fiera di San Michele
DESCRIPTION:Sabato 27 settembre torna a Ledro l’appuntamento con una delle fiere più antiche del territorio\, le cui origini affondano nel Medioevo. \nPROGRAMMA SABATO 27 settembre 2025 \n\n9.30: SFILATA DELLE MUCCHE\n10.00: VENDITA BIGLIETTI PER IL PRANZO E VENDITA TORTE\n10.30: DOG COMEDY SHOW con Matteo\, Freccia e Charlotte e bolle giganti\nIL SENSO DEI FORMAGGI laboratorio e degustazione sensoriale dei formaggi a cura di Stefania De Carli\ndalle 12.00 PRANZO con POLENTA E SPIEDO\n12.30: PREMIAZIONE MUCCA PIU’ BELLA\n14.00: PARTENZA SFILATA dei TRATTORI E AUTO D’EPOCA\n14.30: INCONTRIAMO E CONOSCIAMO DA VICINO GLI ASINI\, a cura dell’ASSOCIAZIONE ORECCHIE VIOLA\nTRUCCABIMBI con Martina\n17.00 CONCERTO del Corpo Bandistico Valle Di Ledro\n18.30: BALLI DI GRUPPO\n19.00: CENA SOTTO IL TENDONE\n20.00 MUSICA DAL VIVO con OLTREVERSO\n23.00: SERATA DJ con DJ MIGHE by Climax\n\nInoltre\, domenica 28 settembre “Una polenta per la pace”\, dalle ore 10.30 alle ore 18.00\, presso campo sportivo di Pieve\, e per tutta la giornata\, mercatino con prodotti e sapori tipici e nel centro di Pieve bancarelle e mercatini dell’usato e della creatività. \nCONTATTI \nPRO LOCO PIEVE DI LEDRO\nTel: 366.3616319\n\nPer maggiori info clicca QUI
URL:https://www.iltrentinodeibambini.it/eventi/fiera-di-san-michele-2/
LOCATION:Pieve di Ledro\, Piazza Müllheim\, Pieve di Ledro\, 38067
CATEGORIES:Eventi speciali,Feste
GEO:45.889924;10.732034
X-APPLE-STRUCTURED-LOCATION;VALUE=URI;X-ADDRESS=Pieve di Ledro Piazza Müllheim Pieve di Ledro 38067;X-APPLE-RADIUS=500;X-TITLE=Piazza Müllheim:geo:10.732034,45.889924
END:VEVENT
BEGIN:VEVENT
DTSTART;TZID=Europe/Rome:20250927T080000
DTEND;TZID=Europe/Rome:20250927T120000
DTSTAMP:20260423T203022
CREATED:20250412T212144Z
LAST-MODIFIED:20250412T212144Z
UID:10018212-1758960000-1758974400@www.iltrentinodeibambini.it
SUMMARY:Colazione in fattoria
DESCRIPTION:Inizia la giornata con una buona colazione a base di prodotti della fattoria e del Garda Trentino e poi vai a conoscere gli animali! \nLa colazione è disponibile a partire dalle 8.00\, mentre l’attività in fattoria comincia alle 10.30. Gli adulti partecipanti possono scegliere se trasformare la colazione in un brunch o seguire i più piccoli alla scoperta della fattoria. \nDOVE:  Azienda Agricola Agrisalus\, Pratosaiano (Arco)\, Via Fibbie\, 22;\nQUANDO: dalle ore 8:00\, tutti i sabati e le domeniche fino al 31 gennaio 2026\nDURATA:  2 ore\nPRENOTAZIONE: obbligatoria entro le 16:00 del giorno prima. Clicca QUI per prenotare online\nCOSA E’ INCLUSO: colazione contadina con prodotti della fattoria e del Garda Trentino\, visita della fattoria didattica (mucche\, maiali\, galline\, conigli)\, possibilità per gli adulti di trasformare la colazione in un brunch.\nCOSTO: 25 euro per i bambini dai 3 agli 11 anni (colazione + visita in fattoria)\, colazione accompagnatori 15 euro\, colazione bambini 3-11 anni 10 euro\, gratis bambini sotto i 2 anni. Sconto per possessori Guest Card. \nAl momento della prenotazione specificare eventuali allergie o intolleranze alimentari. Indossare scarpe comode e  adatte alla campagna. \nINFORMAZIONI\nAGRISALUS\nVia Fibbie\, 22 Arco (TN)\ntel.  379 1179271 \nLa colazione in fattoria da Agrisalus è un’experience promossa da APT Garda Dolomiti. Ci siamo stati anche noi: leggi Colazione in fattoria da Agrisalus \nPer maggiori informazioni potete visitare anche il sito di APT Garda Dolomiti QUI
URL:https://www.iltrentinodeibambini.it/eventi/colazione-in-fattoria-2/2025-09-27/
LOCATION:Agrisalus\, via Fibbie\, 22 - Pratosaiano\, Arco\, 38062\, Italia
CATEGORIES:In fattoria,Visite guidate
END:VEVENT
BEGIN:VEVENT
DTSTART;TZID=Europe/Rome:20250927T090000
DTEND;TZID=Europe/Rome:20250927T110000
DTSTAMP:20260423T203022
CREATED:20250503T081742Z
LAST-MODIFIED:20250710T102215Z
UID:10019057-1758963600-1758970800@www.iltrentinodeibambini.it
SUMMARY:Sulle tracce dei dinosauri ai Lavini
DESCRIPTION:In attesa della conclusione dei lavori di riqualificazione e messa in sicurezza del sito paleontologico dei Lavini di Marco\, tra i più importanti e spettacolari in Europa\, dove sono visibili le orme di dinosauri carnivori ed erbivori vissuti all’inizio del Giurassico (circa 200 milioni di anni fa\, le visite guidate riprendono e sono possibili\, almeno per un primo momento\, grazie all’accompagnamento da parte di personale addetto alla sicurezza. \nCALENDARIO 2025 – dalle 8.30 alle 10.30\n▪️ sabato 26 aprile\n▪️ sabato 10 maggio\n▪️ sabato 24 maggio\n▪️ sabato 14 giugno\n▪️ sabato 12 luglio\n▪️ sabato 9 agosto\n▪️ sabato 13 settembre\n▪️ sabato 27 settembre\n▪️ sabato 11 ottobre\n▪️ sabato 25 ottobre \nDOVE: sito paleontologico in zona Lavini di Marco (Rovereto) – da raggiungere con mezzi propri \nPUNTO DI RITROVO: Parcheggio della Baita Alpini Damiano Chiesa.\nPRENOTAZIONE: Prenotazione obbligatoria entro le 17 del giorno precedente. PRENOTA QUI\nTARIFFA: La tariffa di partecipazione è di euro 7 a persona. \nInfo e prenotazioni: 0464 452800 – museo@fondazionemcr.it \nClicca QUI per scoprire la Fondazione Museo Civico di Rovereto. \nVoi conoscere un po’ di più sul sito archeologico dei Lavini di Marco? Ne abbiamo parlato QUI
URL:https://www.iltrentinodeibambini.it/eventi/sulle-tracce-dei-dinosauri-ai-lavini/2025-09-27/
LOCATION:Lavini di Marco\, Marco
CATEGORIES:Escursioni,Visite guidate
END:VEVENT
BEGIN:VEVENT
DTSTART;TZID=Europe/Rome:20250927T090000
DTEND;TZID=Europe/Rome:20250927T120000
DTSTAMP:20260423T203022
CREATED:20250922T105955Z
LAST-MODIFIED:20250922T105955Z
UID:10021243-1758963600-1758974400@www.iltrentinodeibambini.it
SUMMARY:Visita al Mulino Zeni
DESCRIPTION:Visita guidata ad uno dei pochi mulini storici del Trentino ancora perfettamente in funzione. \nFondamentale per l’economia rurale\, il mulino “vitruviano” a palmenti si trovava un po’ ovunque nelle valli del Trentino\, presso piccoli e grandi corsi d’acqua. Veniva utilizzato soprattutto per lo spezzettamento dei mangimi. \n\nTutti i sabati mattina fino al 4 ottobre 2025\nOrario: tra le ore 9.00 e le ore 12.00 (da concordare in fase di prenotazione)\nDurata: 45 minuti\nRitrovo: al Mulino Zeni in località Sorne\nIscrizioni entro le 12 del giorno precedente l’iniziativa.  Attività gratuita con iscrizione online obbligatoria: clicca QUI\nPossibilità di acquistare la farina in loco\n\nPer maggiori informazioni: \nUfficio turistico di Brentonico\nVia Filzi\, 37 – 38060 Brentonico\ntel: 0464 395149\ne-mail: brentonico@visitrovereto.it\nweb: www.visitrovereto.it
URL:https://www.iltrentinodeibambini.it/eventi/visita-al-mulino-zeni-3/2025-09-27/
LOCATION:Mulino Zeni\, Sorne di Brentonico\, Trentino\, 38060\, Italia
CATEGORIES:Visite guidate
GEO:45.8079404;10.9503175
X-APPLE-STRUCTURED-LOCATION;VALUE=URI;X-ADDRESS=Mulino Zeni Sorne di Brentonico Trentino 38060 Italia;X-APPLE-RADIUS=500;X-TITLE=Sorne di Brentonico:geo:10.9503175,45.8079404
END:VEVENT
BEGIN:VEVENT
DTSTART;TZID=Europe/Rome:20250927T090000
DTEND;TZID=Europe/Rome:20250928T190000
DTSTAMP:20260423T203022
CREATED:20250820T112825Z
LAST-MODIFIED:20250820T112825Z
UID:10020978-1758963600-1759086000@www.iltrentinodeibambini.it
SUMMARY:Judicaria Eco Festival 2025
DESCRIPTION:Si rinnova anche per il 2025 l’appuntamento con lo Judicaria Eco Festival\, che si terrà a Tione il 27 e 28 settembre 2025. Un fitto calendario di eventi e appuntamenti tra gusto\, tradizione e attenzione per l’ambiente\, con tanti laboratori anche per i più piccoli. Ecco il programma: \nSABATO 27 SETTEMBRE 2025 \n\nOre 9.00 – Piazza Cesare Battisti: Apertura Festival.\nDalle ore 9.00 alle ore 19.00: esposizione mezzi dei pompieri.\nViale dei Sapori:\n\nMercato contadino e stand. A cura di artigiani\, agricoltori e associazioni locali.\nMostra micologica: Porta i funghi raccolti\, l’esperto li valuta!A cura del gruppo micologico don Giovanni Corradi.\nMostra delle sementi. A cura degli Orti Giudicariesi.\n\n\n\n\nOre 10.00 – Palco La Foglia: Inaugurazione del Festival con autorità e Banda Sociale di Tione.\nDalle ore 10.00 alle ore 17.00 – Viale dei Sapori: Resta lucido. Escape Room educativa. Sensibilizzazione sull’uso e abuso di alcolici e i suoi effetti (dai 15 anni). A cura di Croce Rossa.\nDalle ore 10.00 alle ore 18.00 – Piazza dei giochi: Laboratori\, animazione e attività sportive. A cura di Incontra s.c.s. e A.S.D. Virtus Giudicariese.\nOre 11.00 – Palaorso: Proiezioni per bambini cura del Trento Film Festival\nDalle ore 11.00 alle ore 15.00 – Viale dei Sapori: Laboratorio creativo! (5 – 10 anni). A cura di Croce Rossa.\nOre 12.00 – Piazza del Gusto: Passaporto del gusto degustazioni. A pagamento.\nOre 14.00 – Palco La Foglia: My Healthy Plate Laboratorio in inglese (4 – 7 anni). A cura di Duckling Baby Parking.\nOre 14.00: Piazza del Gusto: Don’t speak conoscere la disabilità uditiva Laboratorio (8 – 80 anni). A cura di Cooperativa Sociale Abilnova | Stand Bontadi: Caffè che Passione!Laboratorio. Max 15 partecipanti\, durata 1 h. A cura di Bontadi Caffè.\nOre 14.30 – Palaorso: Stampe Selvatiche Laboratorio (6 – 11 anni). A cura del Parco Naturale Adamello Brenta Geopark.\nOre 15.00 – Stand Croce Rossa: Chiamata all 1-1-2 Laboratorio (5 – 10 anni). A Cura di Croce Rossa.\nOre 15.30: Palco La Foglia: Move Like a… Laboratorio in inglese (4 – 7 anni). A cura di Duckling Baby Parking. | Piazza del Gusto: Don’t speak conoscere la disabilità uditiva Laboratorio (8 – 80 anni). A cura di Cooperativa Sociale Abilnova.\nOre 16.00: Palaorso:  Aiutami a fare da solo Laboratorio. Attività pratiche ispirate al metodo Montessori (3 – 5 anni). A cura del Circolo Culturale Sella Giudicarie. | Stand Api e Terre: La biodiversità agricola svelata: un viaggio tra semi\, suoli e saperi Laboratorio (dai 18 anni). A cura di Az. Agricola Api e Terre.\nOre 17.00: Palaorso: Aiutami a fare da solo Laboratorio. Attività pratiche ispirate al metodo Montessori (6 – 9 anni). A cura del Circolo Culturale Sella Giudicarie. | Piazza del Gusto:\n\nCocktail analcolici Laboratorio. A cura del CFP ENAIP di Tione di Trento.\nAperitivo in musica con i prodotti locali e le note della Pras Band\, gruppo itinerante.\n\n\nOre 21.00 – Cinema Comunale: Mario Manica – Arrampicare per Viaggiare di Luca Rapetti. Proiezione film Italia / 2024 / 45’ A cura di Trento Film Festival 365.\n\nDOMENICA  28 SETTEMBRE 2025 \n\n.Ore 8.30 SuperPark – Visioni d’autore: Escursione a pagamento in Val Breguzzo con Enrico Galiano. Prenotazione online o presso Azienda per il Turismo.\nOre 9.00 – Piazza Cesare Battisti: Apertura Festival.\nDalle ore 9.00 alle ore 19.00 – Viale dei sapori:\n\nMercato contadino e stand. A cura di artigiani\, agricoltori e associazioni locali.\nMostra micologica: Porta i funghi raccolti\, l’esperto li valuta!A cura del gruppo micologico don Giovanni Corradi.\nMostra delle sementi. A cura degli Orti Giudicariesi.\n\n\nOre 10.00: Piazza del Gusto: Estrazione biglietti vincenti Lotteria per Judicaria Eco Festival. A cura dell’Associazione Commercianti Tione di Trento e Pro Loco Tione. | Palco la Foglia: My Healthy Plate Laboratorio in inglese (4 – 7 anni). A cura di Duckling Baby Parking.\nDalle ore 10.00 alle ore 17.00 – Viale dei Sapori: La Pompierissima – Percorso di abilità per bambini (3 – 12 anni). A cura dei Vigili del Fuoco di Tione di Trento | Resta lucido. Escape Room educativa. Sensibilizzazione sull’uso e abuso dialcolici e i suoi effetti (dai 15 anni). A cura di Croce Rossa.\nDalle ore 10.00 alle ore 18.00 – Piazza dei giochi: Laboratori\, animazione e attività sportive. A cura di Incontra s.c.s. e A.S.D. Virtus Giudicariese.\nDalle ore 11.00 alle ore 15.00 – Viale dei Sapori: Laboratorio creativo! (5 – 10 anni). A cura di Croce Rossa.\nOre 11.30: Palco la Foglia: Move Like a… Laboratorio in inglese (4 – 7 anni). A cura di Duckling Baby Parking. | Palaorso: Traccia l’animale! Laboratorio (6 – 11 anni). A cura del Parco Naturale Adamello Brenta Geopark.\nOre 12.30 – Piazza del Gusto: Pranzo a base di polenta carbonera e capuc’. A cura del gruppo Alpini e Fanti di Tione di Trento. A pagamento.\nOre 14.30 – Palaorso: Pittura su tela Laboratorio (6 – 13 anni). A cura dell’Associazione Speranza di Vita.\nOre 15.00: Stand Croce Rossa: Chiamata all 1-1-2 Laboratorio (5 – 10 anni). A Cura di Croce Rossa | Palco la Foglia: Meglio veri che perfetti Incontro con Enrico Galiano. Ingresso libero fino a esaurimento posti. (In caso di maltempo l’evento si terrà al cinema comunale).\nOre 15.30 – Piazza del Gusto: Don’t speak conoscere la disabilità uditiva Laboratorio (8 – 80 anni). A cura di Cooperativa Sociale Abilnova.\nOre 16.30 – Piazza dei Giochi: Merenda con prodotti locali.\nOre 17.00: Stand Laboratorio del Gusto: I fiori e le erbe spontanee di montagna: come usarle in cucina e le loro proprietà laboratorio (dai 18 anni). A cura di Laboratorio del Gusto | Piazza del Gusto: Don’t speak conoscere la disabilità uditiva Laboratorio (8 – 80 anni) . A cura di Cooperativa Sociale Abilnova.\nOre 19.00: Chiusura stand e manifestazione.\n\nPotete consultare il programma completo anche QUI \nNatourism srl\ntel. 333 4567980\ne-mail: consulenza@natourism.it\nweb: www.natourism.it \nScopri di più leggendo il nostro articolo: Judicaria Eco Festival a Tione
URL:https://www.iltrentinodeibambini.it/eventi/judicaria-eco-festival-2025/
LOCATION:Tione\, Trentino\, 38079\, Italia
CATEGORIES:Eventi speciali
GEO:46.0191963;10.749764
END:VEVENT
BEGIN:VEVENT
DTSTART;TZID=Europe/Rome:20250927T093000
DTEND;TZID=Europe/Rome:20250927T180000
DTSTAMP:20260423T203022
CREATED:20250926T073114Z
LAST-MODIFIED:20250926T073114Z
UID:10021277-1758965400-1758996000@www.iltrentinodeibambini.it
SUMMARY:Festa dello sport
DESCRIPTION:In quest’occasione sarà possibile provare numerose attività sportive pensate anche per persone con disabilità. Nel pomeriggio anche spettacoli ed esibizioni di danza e arti marziali. \n\nQuando: sabato 27 settembre 2025 dalle ore 9.30\nDove: parco di Mattarello – Trento\nCosto: partecipazione libera e gratuita\n\n 
URL:https://www.iltrentinodeibambini.it/eventi/festa-dello-sport/
LOCATION:Parco di Mattarello\, Trento
CATEGORIES:Eventi speciali
GEO:46.0700915;11.1197626
END:VEVENT
BEGIN:VEVENT
DTSTART;TZID=Europe/Rome:20250927T100000
DTEND;TZID=Europe/Rome:20250927T113000
DTSTAMP:20260423T203022
CREATED:20250922T113231Z
LAST-MODIFIED:20250922T113231Z
UID:10021245-1758967200-1758972600@www.iltrentinodeibambini.it
SUMMARY:Artisti sull'erba
DESCRIPTION:Sabato 27 settembre 2025 ore 10.00 presso il parco della biblioteca si svolgerà un laboratorio artistico per bambini dai 5 ai 12 anni\, a cura dell’artista alense Giuseppe Debiasi. \nPer iscrizioni: ala@biblio.tn.it oppure via telefono: 0464 671120 \nScopri la biblioteca di Ala
URL:https://www.iltrentinodeibambini.it/eventi/artisti-sullerba-2/
LOCATION:Biblioteca di Ala\, Via Roma 40\, Ala\, 38061\, Italia
CATEGORIES:Al parco,In biblioteca,Laboratori
END:VEVENT
BEGIN:VEVENT
DTSTART;TZID=Europe/Rome:20250927T100000
DTEND;TZID=Europe/Rome:20250927T120000
DTSTAMP:20260423T203022
CREATED:20250903T074452Z
LAST-MODIFIED:20250903T074452Z
UID:10021125-1758967200-1758974400@www.iltrentinodeibambini.it
SUMMARY:Crea il tuo vaso
DESCRIPTION:Atelier di ceramica guidato dall’artista Stefania Simeoni per la realizzazione di un vaso lavorato con tecnica a colombino\, come quelli che Tommaso Bortolotti utilizzava per coltivare le sue amate piante di agrumi. Non sono necessarie competenze specifiche per partecipare. Due incontri con un massimo 12 coppie partecipanti per gruppo: il primo per conoscere e mettere in pratica la tecnica di modellazione a colombino; nel secondo si decorerà il vaso con la tecnica ad ingobbio. Seguirà un lento tempo di asciugatura e la cottura in forno. \nIn conclusione\, sabato 11 ottobre alle ore 16.00\, ogni vaso verrà esposto in mostra al giardino dei Ciucioi. \n\nQuando: primo gruppo sabato 6 e 13 settembre 2025 alle ore 10.00 | secondo gruppo sabato 20 e 27 settembre 2025 alle ore 10.00\nDove: Giardino dei Ciucioi – Lavis\nCosto: 15 euro per coppia adulto-bambino comprensivo del materiale\, della cottura\, della partecipazione alla mostra e successiva riconsegna\nInfo: prenotazione obbligatoria online QUI | posti limitati\nTarget: da 6 a 11-12 anni\, accompagnati da un adulto
URL:https://www.iltrentinodeibambini.it/eventi/crea-il-tuo-vaso/2025-09-27/
LOCATION:Giardino dei Ciucioi\, Italia
CATEGORIES:Eventi speciali,Laboratori
END:VEVENT
BEGIN:VEVENT
DTSTART;TZID=Europe/Rome:20250927T180000
DTEND;TZID=Europe/Rome:20250927T220000
DTSTAMP:20260423T203022
CREATED:20250912T133701Z
LAST-MODIFIED:20250912T133701Z
UID:10021187-1758996000-1759010400@www.iltrentinodeibambini.it
SUMMARY:Ascolta il bramito del cervo - Paneveggio
DESCRIPTION:l Parco Naturale Paneveggio – Pale di San Martino è una delle aree del Trentino con il maggior numero di ungulati. Ritornano anche nell’autunno 2025 le escursioni “Ascolta il bramito del cervo” organizzate dal Parco. Un’esperienza emozionante anche grazie all’utilizzo della telecamera a infrarossi\, che permette di osservare i movimenti degli animali nel buio della notte. \n\nvenerdì 26 e sabato 27 settembre e venerdì 3 e sabato 4 ottobre 2025 | ore 18.00 | ritrovo: Centro Visitatori del Parco a Paneveggio| Quota di partecipazione: 15 euro adulti (15+)\, 10 euro bambini dai 7 ai 14 anni accompagnati (gratuito per bambini di età inferiore ai 7 anni\, accompagnati) | Iscrizioni online QUI \, oppure contattando il Centro Visitatori via mail: visitatori@parcopan.org \n\nScopri tutti gli appuntamenti per ascoltare il bramito del cervo: Ascolta il bramito del cervo
URL:https://www.iltrentinodeibambini.it/eventi/ascolta-il-bramito-del-cervo-paneveggio-2/2025-09-27/
LOCATION:Centro Visitatori Paneveggio – Predazzo\, SS50\, 11\, Predazzo\, Trentino\, 38037\, Italia
CATEGORIES:Escursioni,Eventi speciali,Visite guidate
END:VEVENT
BEGIN:VEVENT
DTSTART;TZID=Europe/Rome:20250927T190000
DTEND;TZID=Europe/Rome:20250927T230000
DTSTAMP:20260423T203022
CREATED:20250912T133356Z
LAST-MODIFIED:20250912T133356Z
UID:10021183-1758999600-1759014000@www.iltrentinodeibambini.it
SUMMARY:Il bramito del cervo -  Pejo e Rabbi
DESCRIPTION:Un’esperienza unica vi attende nel cuore del Parco Nazionale dello Stelvio. Dopo essersi ritrovati\, con i propri mezzi si raggiunge la malga per una deliziosa cena dai sapori autunnali. In seguito\, indossata la pila frontale e un abbigliamento adatto\, ci si sposterà  con i propri mezzi fino a punto d’inizio dell’escursione. L’esperto del Parco vi accompagnerà in sicurezza nel bosco\, insegnandovi a porre attenzione a rumori e segnali. Particolare la dotazione: sarà possibile infatti usufruire di una speciale termocamera a raggi infrarossi\, capace di rilevare la presenza di animali nel buio della notte grazie al calore prodotto dai loro corpi. Esperienza adatta alle famiglie amanti della natura con bambini di almeno 8 anni. Lunghezza dei percorsi circa 4\,5 chilometri con un dislivello massimo di 250 metri in salita. \n\nsabato 20 e sabato 27 settembre e sabato 4 ottobre 2025 | ore 19.00 | punto di ritrovo: Centro Visitatori del Parco a Cogolo di Peio | tel. 0463.909773\nvenerdì 19 e 26 settembre e venerdì 3 ottobre 2025 | ore 19.00 | punto di ritrovo: Punto Info Parco a Rabbi Fonti | tel. 0463.909774\n\nScopri qui tutti gli appuntamenti in Trentino con il bramito del cervo: Ascolta il bramito del cervo
URL:https://www.iltrentinodeibambini.it/eventi/il-bramito-del-cervo-pejo-e-rabbi/2025-09-27/
LOCATION:Centro Visitatori Parco Nazionale dello Stelvio\, Peio Fonti
CATEGORIES:Escursioni,Eventi speciali
GEO:46.4075169;10.8079071
END:VEVENT
BEGIN:VEVENT
DTSTART;TZID=Europe/Rome:20250927T193000
DTEND;TZID=Europe/Rome:20250927T213000
DTSTAMP:20260423T203022
CREATED:20250825T113231Z
LAST-MODIFIED:20250825T113231Z
UID:10021022-1759001400-1759008600@www.iltrentinodeibambini.it
SUMMARY:Il cane infernale - Festival dei Burattini
DESCRIPTION:Spettacolo per famiglie preceduto (un’ora prima) da un laboratorio a tema per bambini. Giuseppe Verdi e Richard Wagner durante una passeggiata in città discutono di melodramma e tragedia. Verdi si accalora un po’ troppo andandosene in malo modo e così Wagner decide di dare una lezione a lui e a tutta la città sguinzagliando il suo feroce cane… \n\nQuando: sabato 27 settembre 2025 alle ore 20.30\nDove: METS – Museo etnografico trentino San Michele\nCosto: 1 euro\nInfo: tel. 0461.650314\n\nTutti gli appuntamenti del Festival dei Burattini in musica QUI.
URL:https://www.iltrentinodeibambini.it/eventi/il-cane-infernale-festival-dei-burattini/
LOCATION:METS Museo etnografico trentino\, Via Edmondo Mach\, 2\, San Michele All'adige\, Trentino\, 38010\, Italia
CATEGORIES:Al Museo,Spettacoli
GEO:46.1878653;11.1330423
X-APPLE-STRUCTURED-LOCATION;VALUE=URI;X-ADDRESS=METS Museo etnografico trentino Via Edmondo Mach 2 San Michele All'adige Trentino 38010 Italia;X-APPLE-RADIUS=500;X-TITLE=Via Edmondo Mach\, 2:geo:11.1330423,46.1878653
END:VEVENT
END:VCALENDAR