BEGIN:VCALENDAR
VERSION:2.0
PRODID:-//Il Trentino dei Bambini - ECPv6.13.2//NONSGML v1.0//EN
CALSCALE:GREGORIAN
METHOD:PUBLISH
X-ORIGINAL-URL:https://www.iltrentinodeibambini.it
X-WR-CALDESC:Eventi per Il Trentino dei Bambini
REFRESH-INTERVAL;VALUE=DURATION:PT1H
X-Robots-Tag:noindex
X-PUBLISHED-TTL:PT1H
BEGIN:VTIMEZONE
TZID:Europe/Rome
BEGIN:DAYLIGHT
TZOFFSETFROM:+0100
TZOFFSETTO:+0200
TZNAME:CEST
DTSTART:20250330T010000
END:DAYLIGHT
BEGIN:STANDARD
TZOFFSETFROM:+0200
TZOFFSETTO:+0100
TZNAME:CET
DTSTART:20251026T010000
END:STANDARD
END:VTIMEZONE
BEGIN:VEVENT
DTSTART;TZID=Europe/Rome:20250929T160000
DTEND;TZID=Europe/Rome:20250929T183000
DTSTAMP:20260423T173555
CREATED:20250412T224306Z
LAST-MODIFIED:20250412T224306Z
UID:10018336-1759161600-1759170600@www.iltrentinodeibambini.it
SUMMARY:Fruttiamo
DESCRIPTION:Camminando lungo la salita al Maso Maserac\, scoprirai dove nascono i piccoli frutti golosi che verranno proposti alla fine del percorso in una merenda gustosa. \nINFO & FAQ:\n \n\nQuando: dal lunedì al giovedì dal 10 luglio al 30 settembre 2025;\norario: ore 16.00\nPrenotazione entro le 12:00 del giorno stesso: clicca QUI\nOrario di ritrovo: ore 16:00;\nPunto di ritrovo: Chiesa di San Lorenzo | Vigo Lomaso (Comano Terme)\nContatti per dettagli su questa escursione:  +39 345 0796009;\nDurata: 2\,5 ore;\nServizi inclusi: Visita guidata alle coltivazioni di piccoli frutti dell’azienda agricola Agriconda – Maso Maserac\, passeggiata lungo la salita al maso e degustazione di piccoli frutti o altri prodotti di stagione;\nAttrezzatura richiesta: scarpe comode\, adatte a camminare su un terreno erboso e irregolari;\nUlteriori Informazioi: Il percorso non è adatto alle carrozzine; l’utilizzo di passeggini è possibile\, ma poco agevole.\n\nConosci Maso Maserac? Si possono fare anche dei meravigliosi picnic: leggi Picnic a Maso Maserac
URL:https://www.iltrentinodeibambini.it/eventi/fruttiamo-2/2025-09-29/
LOCATION:Maso Maserac\, Vigo Lomaso\, Italia
CATEGORIES:In fattoria,Spazi d'incontro
END:VEVENT
BEGIN:VEVENT
DTSTART;TZID=Europe/Rome:20250929T190000
DTEND;TZID=Europe/Rome:20250929T220000
DTSTAMP:20260423T173555
CREATED:20250418T220930Z
LAST-MODIFIED:20251104T180901Z
UID:10018854-1759172400-1759183200@www.iltrentinodeibambini.it
SUMMARY:Picnic al tramonto da Agriconda
DESCRIPTION:Immagina un picnic in un angolino confortevole tra il verde dei frutteti di Maso Agriconda\, e una selezione di prodotti  a km 0 che troverai nel tuo cestino. Piccoli frutti\, conserve\, pane di montagna\, salumi locali\, puoi scegliere il tuo cesto preferito: cesto di Comano\, Cesto di Maserac\, Cesto dei Bambini e Cesto Picnic Romantico\, in versione classica o deluxe in base alla scelta della bevanda. \n\nPrenotazione entro le 12:00 del giorno stesso; clicca QUI per prenotare\nQuando: prenotabile tutti i giorni dal 9 giugno al 30 settembre 2025: ore 20:00 (1° giugno – 16 luglio) | ore 19:30 (17 luglio – 13 agosto) | ore 19:00 (14 agosto – 30 settembre);\nPunto di ritrovo: Salita al Maso Agriconda | Vigo Lomaso (Comano Terme)\nDurata: 3 ore;\nServizi inclusi: cestino da picnic con prodotti a km 0\, “salottino” riservato con vista tra i vigneti e le coltivazioni di lamponi\, allestito con tutto il necessario per goderti il tuo picnic\nCosto: cesti a partire da 30 euro. Inoltre con Garda Guest Card hai diritto a un prodotto gratuito dallo shop.\n\n\n\n\n\n\n\n\nContatti:\n\n\n\n\n\nAGRICONDA – farm experience\nLocalità Maserac\, 81 81 – 38077 Comano Terme\ntel. 348.1435785\nSito web\n\n\n\n\n\nCi siamo stati anche noi: Picnic a Maso Agriconda nel Lomaso
URL:https://www.iltrentinodeibambini.it/eventi/picnic-al-tramonto-da-agriconda/2025-09-29/
LOCATION:Maso Maserac\, Vigo Lomaso\, Italia
CATEGORIES:Al parco,In fattoria
END:VEVENT
BEGIN:VEVENT
DTSTART;TZID=Europe/Rome:20250929T190000
DTEND;TZID=Europe/Rome:20250929T220000
DTSTAMP:20260423T173555
CREATED:20250530T191715Z
LAST-MODIFIED:20250530T191722Z
UID:10019912-1759172400-1759183200@www.iltrentinodeibambini.it
SUMMARY:Picnic al tramonto da Agriconda
DESCRIPTION:Immagina un picnic in un angolino confortevole tra il verde dei frutteti di Maso Agriconda\, e una selezione di prodotti  a km 0 che troverai nel tuo cestino. Piccoli frutti\, conserve\, pane di montagna\, salumi locali\, puoi scegliere il tuo cesto preferito: cesto di Comano\, Cesto di Maserac\, Cesto dei Bambini e Cesto Picnic Romantico\, in versione classica o deluxe in base alla scelta della bevanda. \n\nPrenotazione entro le 12:00 del giorno stesso; clicca QUI per prenotare\nQuando: prenotabile tutti i giorni dal 9 giugno al 30 settembre 2025: ore 20:00 (1° giugno – 16 luglio) | ore 19:30 (17 luglio – 13 agosto) | ore 19:00 (14 agosto – 30 settembre);\nPunto di ritrovo: Salita al Maso Agriconda | Vigo Lomaso (Comano Terme)\nDurata: 3 ore;\nServizi inclusi: cestino da picnic con prodotti a km 0\, “salottino” riservato con vista tra i vigneti e le coltivazioni di lamponi\, allestito con tutto il necessario per goderti il tuo picnic\nCosto: cesti a partire da 30 euro. Inoltre con Garda Guest Card hai diritto a un prodotto gratuito dallo shop.\n\n\n\n\n\n\n\n\nContatti:\n\n\n\n\n\nAGRICONDA – farm experience\nLocalità Maserac\, 81 81 – 38077 Comano Terme\ntel. 348.1435785\nSito web\n\n\n\n\n\nCi siamo stati anche noi: Picnic a Maso Agriconda nel Lomaso
URL:https://www.iltrentinodeibambini.it/eventi/picnic-al-tramonto-da-agriconda-2/2025-09-29/
LOCATION:Maso Maserac\, Vigo Lomaso\, Italia
CATEGORIES:Al parco,In fattoria
END:VEVENT
END:VCALENDAR