BEGIN:VCALENDAR
VERSION:2.0
PRODID:-//Il Trentino dei Bambini - ECPv6.13.2//NONSGML v1.0//EN
CALSCALE:GREGORIAN
METHOD:PUBLISH
X-ORIGINAL-URL:https://www.iltrentinodeibambini.it
X-WR-CALDESC:Eventi per Il Trentino dei Bambini
REFRESH-INTERVAL;VALUE=DURATION:PT1H
X-Robots-Tag:noindex
X-PUBLISHED-TTL:PT1H
BEGIN:VTIMEZONE
TZID:Europe/Rome
BEGIN:DAYLIGHT
TZOFFSETFROM:+0100
TZOFFSETTO:+0200
TZNAME:CEST
DTSTART:20250330T010000
END:DAYLIGHT
BEGIN:STANDARD
TZOFFSETFROM:+0200
TZOFFSETTO:+0100
TZNAME:CET
DTSTART:20251026T010000
END:STANDARD
END:VTIMEZONE
BEGIN:VEVENT
DTSTART;TZID=Europe/Rome:20251002T100000
DTEND;TZID=Europe/Rome:20251002T170000
DTSTAMP:20260423T173558
CREATED:20251001T132743Z
LAST-MODIFIED:20251001T132743Z
UID:10021357-1759399200-1759424400@www.iltrentinodeibambini.it
SUMMARY:Festa dei nonni
DESCRIPTION:Giovedì 2 ottobre 2025\, in occasione della Festa dei nonni\, l’ingresso per tutti i nonni che accompagneranno i nipoti al Castello del Buonconsiglio o nelle sedi distaccate di Castel Thun\, Castel Beseno\, Castel Stenico e Castel Caldes sarà gratuito. \n  \nDomenica 5 ottobre 2025 riparte anche l’iniziativa domenica al museo che consente l’ingresso gratuito ogni prima domenica del mese nei castelli e musei provinciali. Maggiori info QUI.
URL:https://www.iltrentinodeibambini.it/eventi/festa-dei-nonni/
LOCATION:Trentino
CATEGORIES:Al Museo,Eventi speciali
END:VEVENT
BEGIN:VEVENT
DTSTART;TZID=Europe/Rome:20251002T163000
DTEND;TZID=Europe/Rome:20251002T173000
DTSTAMP:20260423T173558
CREATED:20250830T123451Z
LAST-MODIFIED:20250830T123451Z
UID:10021092-1759422600-1759426200@www.iltrentinodeibambini.it
SUMMARY:Racconti che abbracciano
DESCRIPTION:Quant’è bello ascoltare le storie! E lo è ancora di più se fatto tra le braccia della nonna o del nonno. Un invito a trascorrere del tempo di qualità tra due generazioni che sono una ricchezza l’una per l’altra. \n\nQuando: giovedì 2 ottobre 2025 alle 16.30\nDove: Maxi Ooh! – Muse\nCosto: 2 euro a partecipante | gratuito per possessori MyMUSE Family & friends\nTarget: 1-6 anni\n\nScoprite tutti gli appuntamenti al Maxi Ooh! QUI.
URL:https://www.iltrentinodeibambini.it/eventi/racconti-che-abbracciano/
LOCATION:MUSE\, Italia
CATEGORIES:Al Museo
GEO:46.0700915;11.1197626
END:VEVENT
END:VCALENDAR