BEGIN:VCALENDAR
VERSION:2.0
PRODID:-//Il Trentino dei Bambini - ECPv6.13.2//NONSGML v1.0//EN
CALSCALE:GREGORIAN
METHOD:PUBLISH
X-WR-CALNAME:Il Trentino dei Bambini
X-ORIGINAL-URL:https://www.iltrentinodeibambini.it
X-WR-CALDESC:Eventi per Il Trentino dei Bambini
REFRESH-INTERVAL;VALUE=DURATION:PT1H
X-Robots-Tag:noindex
X-PUBLISHED-TTL:PT1H
BEGIN:VTIMEZONE
TZID:Europe/Rome
BEGIN:DAYLIGHT
TZOFFSETFROM:+0100
TZOFFSETTO:+0200
TZNAME:CEST
DTSTART:20250330T010000
END:DAYLIGHT
BEGIN:STANDARD
TZOFFSETFROM:+0200
TZOFFSETTO:+0100
TZNAME:CET
DTSTART:20251026T010000
END:STANDARD
END:VTIMEZONE
BEGIN:VEVENT
DTSTART;VALUE=DATE:20251003
DTEND;VALUE=DATE:20251006
DTSTAMP:20260423T173515
CREATED:20250912T151950Z
LAST-MODIFIED:20250912T151950Z
UID:10021195-1759449600-1759708799@www.iltrentinodeibambini.it
SUMMARY:Desmontegada de le vache
DESCRIPTION:Dal 3 al 5 ottobre 2025 ritornano a Predazzo in Val di Fiemme la “Desmontegada de le vache” e il  Festival del Gusto. Un weekend che vede protagonisti in piazza SS. Filippo e Giacomo i prodotti di alta qualità del territorio. A far da cornice\, un ricco corollario di attività e spettacoli\, in attesa della suggestiva sfilata delle mucche di domenica 5 ottobre. \nLa piazza SS Filippo e Giacomo a Predazzo ospita per l’intero weekend il festival del gusto. L’occasione perfetta per fare uno shopping di qualità e portare a casa ottimi prodotti locali. Ma non solo: ci saranno anche una serie di attività per far conoscere i prodotti locali a grandi e piccini. \n\nNon può mancare l’appuntamento con il Treno del Gusto a bordo del quale scoprire la filiera casearia locale\nDurante la manifestazione verranno proposti laboratori e attività per i più piccoli a tema. Anche il Museo Geologico di Predazzo partecipa attivamente: per l’occasione domenica 5 ottobre organizzerà un laboratorio per i più piccoli nel quale seguire un filo di lana che racconta la storia del territorio e poi trasformarlo in un prezioso gioiello di lana da portare a casa. info QUI\n\n APPUNTAMENTI PER FAMIGLIE: \nSabato 4 ottobre 2025 \n\nOre 9.00 | Apertura del festival del Gusto | stand gastronomici\, mercato agricolo e laboratori\nOre 9.30 – Ore 14.00 – Ore 16.30 | TRENO DEL GUSTO | Tutti in carrozza\, il treno del gusto è in partenza alla scoperta della filiera del Puzzone di Moena DOP! Prima fermata una visita in stalla\, destinazione d’arrivo il nuovo ed accogliente Bistrot Shop & Bar del Caseificio di Predazzo e Moena. Qui un vero e proprio guru del formaggio\, assaggiatore ONAF\, ti condurrà in un cheese tasting alla scoperta dei formaggi del Caseificio di Predazzo e Moena sotto forma di uno sfizioso aperitivo (€15 adulti\, €12 bambini fino ai 12 anni. Info e prenotazioni qui o in loco allo stand del Caseificio di Predazzo\nOre 10.30 | IL PICCOLO CASARO | Piazza SS. Filippo e Giacomo | Come si trasforma il latte in formaggio? Non serve essere esperti di magia\, ma bastano gli insegnamenti della nostra simpatica casara e un ottimo latte proveniente dagli alpeggi e stalle della Val di Fiemme e Fassa. Un momento ludico e didattico dedicato ai bambini\, dove imparare segreti e curiosità di un’arte antica ma sempre attuale… il formaggio lo farete proprio voi\, come dei grandi casari per un giorno! Gratuito\, durata 45 min circa | max 20 bambini | Info e prenotazioni qui o in loco\n\nDomenica 5 ottobre 2025 \n\nOre 09.00 |  Apertura del festival del Gusto | stand gastronomici\, mercato agricolo e laboratori\nOre 10.00 e ore 12.00 | LANALAB | Museo Geologico Delle Dolomiti | Scalda la tua domenica con un gioiello di lana. Un laboratorio per allenare la creatività con la lana infeltrita. Bambini/e a partire dai 6 anni. Gratuito con Fiemme Cembra Guest Card\, senza card € 5.\nOre 11.00 | LA DESMONTEGADA DE LE VACHE | Predazzo si prepara ad accogliere gli allevatori con le loro mucche addobbate a festa per il rientro dall’alpeggio estivo: sfilata per le vie del centro e conclusione al tendone dell’Ottagono.\nDalle ore 12.00 | GASTRONOMIA DELLA DESMONTEGADA e STREET FOOD CON MUSICA\nPRANZO DELLA DESMONTEGADA  | Pranzo alpino e intrattenimento musicale con la Dolomiten Bier Band presso il tendone dell’Ottagono (vicino alla piscina e al minigolf).\nOre 11.00 e 15.00 | COLORIAMO CON I LEGNI | Con Silvia scoprirai colori e profumi dei legni realizzando una decorazione da portare a casa. Età minima 4 anni\, accompagnati da un adulto. Iscrizioni presso lo stand al Festival del Gusto (offerta libera)\n\nInoltre… \n\nNella giornata di domenica\, ingresso libero e gratuito al Museo Geologico delle Dolomiti di Predazzo.\nGruppo modellismo ferroviario B51 di Predazzo |Presso LA STAZIONE – Destinazione Cultura di Predazzo\nMostra dedicata alla ex ferrovia Ora-Predazzo a cura dell’associazione B51.\nLa mostra è visitabile sabato 4 ottobre dalle ore 15.00 alle 17.00 e domenica 5 ottobre dalle ore 10.00 alle 12.00 e 15.00 fino alle 17.00\n\nIl centro di Predazzo viene chiuso al traffico. Alcune attività e laboratori sono su prenotazioni e a pagamento\, maggiori dettagli QUI. \nContatti: APT Fiemme – Predazzo | Tel. 0462.241111 \nLeggi l’articolo completo: Fiemme: desmontegada & festival del gusto
URL:https://www.iltrentinodeibambini.it/eventi/desmontegada-de-le-vache/
LOCATION:Predazzo\, Italia
CATEGORIES:Eventi speciali,Feste
GEO:41.87194;12.56738
END:VEVENT
BEGIN:VEVENT
DTSTART;TZID=Europe/Rome:20251003T143000
DTEND;TZID=Europe/Rome:20251003T170000
DTSTAMP:20260423T173515
CREATED:20250915T064610Z
LAST-MODIFIED:20250915T064610Z
UID:10021199-1759501800-1759510800@www.iltrentinodeibambini.it
SUMMARY:Spazio giochi da tavolo
DESCRIPTION:Uno spazio dedicato a chi ha voglia di cimentarsi con i giochi da tavolo\, senza limiti d’età. \n\nQuando: tutti i venerdì dalle ore 14.30\nDove: biblioteca comunale – sede di Povo\nCosto: partecipazione libera e gratuita\nInfo: tel. 0461-889918 | e-mail biblioteca.povo@comune.trento.it\n\nScoprite tutti gli eventi per bambini e ragazzi nelle biblioteche comunali di Trento QUI.
URL:https://www.iltrentinodeibambini.it/eventi/spazio-giochi-da-tavolo-4/2025-10-03/
LOCATION:biblioteca di Povo\, Via Don Tommaso Dallafior
CATEGORIES:Eventi speciali,In biblioteca
END:VEVENT
BEGIN:VEVENT
DTSTART;TZID=Europe/Rome:20251003T143000
DTEND;TZID=Europe/Rome:20251003T183000
DTSTAMP:20260423T173515
CREATED:20250923T150526Z
LAST-MODIFIED:20250923T150526Z
UID:10021255-1759501800-1759516200@www.iltrentinodeibambini.it
SUMMARY:Spazio giochi da tavolo
DESCRIPTION:Uno spazio dedicato ai giochi da tavolo per bambini da 3 a 6 anni. \n\nQuando: ogni primo venerdì del mese da settembre 2025 a giugno 2026 dalle ore 14.30\nDove: biblioteca dei Ragazzi – palazzina Liberty\nCosto: partecipazione libera e gratuita\nInfo: tel. 0461 889559 | email: biblioteca.ragazzi@comune.trento.it\n\nScoprite tutti gli eventi per bambini e ragazzi nelle biblioteche comunali di Trento QUI.
URL:https://www.iltrentinodeibambini.it/eventi/spazio-giochi-da-tavolo-5/2025-10-03/
LOCATION:palazzina Liberty\, Piazza Dante\, Trento
CATEGORIES:In biblioteca
END:VEVENT
BEGIN:VEVENT
DTSTART;TZID=Europe/Rome:20251003T160000
DTEND;TZID=Europe/Rome:20251003T220000
DTSTAMP:20260423T173515
CREATED:20250912T134025Z
LAST-MODIFIED:20250912T134025Z
UID:10021192-1759507200-1759528800@www.iltrentinodeibambini.it
SUMMARY:Il bramito del cervo a Pinzolo
DESCRIPTION:Un’escursione guidata\, in compagnia di Mountain Friends – Guide e Accompagnatori Pinzolo Val Rendena\, ai piedi delle Dolomiti di Brenta\, nel Parco Naturale Adamello Brenta\, per ascoltare il bramito del cervo\, il potente suono emesso dagli esemplari maschi per esprimere la loro potenza e conquistare il proprio harem di femmine. \n\nvenerdì 19 e 26 settembre 2025 e venerdì 3 ottobre 2025 | ore 16.00| ritrovo a Pinzolo | rientro previsto per le 21.00. | Cena al sacco | Costo: 50 euro | Info ed iscrizioni QUI\n\nScopri qui tutti gli altri appuntamenti in Trentino per assistere al bramito del cervo: Ascolta il bramito del cervo
URL:https://www.iltrentinodeibambini.it/eventi/il-bramito-del-cervo-a-pinzolo-2/2025-10-03/
LOCATION:Pinzolo\, Pinzolo\, 38086
CATEGORIES:Al parco,Escursioni,Eventi speciali
GEO:46.1597701;10.7650269
END:VEVENT
BEGIN:VEVENT
DTSTART;TZID=Europe/Rome:20251003T180000
DTEND;TZID=Europe/Rome:20251003T200000
DTSTAMP:20260423T173515
CREATED:20250922T152843Z
LAST-MODIFIED:20250922T152843Z
UID:10021246-1759514400-1759521600@www.iltrentinodeibambini.it
SUMMARY:Immagini per Crescere: inaugurazione
DESCRIPTION:Vengono inaugurate le mostre dedicate agli ottant’anni di Pippi Calzelunghe e alle illustrazioni degli “strani eroi” di Babalibri. Durante la serata ci saranno i discorsi delle autorità\, alcune visite guidate alle mostre e un momento di convivialità aperto alla cittadinanza. \n\nQuando: 3 ottobre 2025 alle 18.00\nDove: palazzo de Maffei – Lavis\nCosto: partecipazione libera e gratuita\nInfo: maggiori dettagli e programma completo QUI\n\nTutti gli appuntamenti per bambini e famiglie di Immagini per Crescere QUI.
URL:https://www.iltrentinodeibambini.it/eventi/immagini-per-crescere-inaugurazione/
LOCATION:Palazzo Maffei\, Via Matteotti \, Lavis 
CATEGORIES:Eventi speciali
GEO:46.1390331;11.1126789
X-APPLE-STRUCTURED-LOCATION;VALUE=URI;X-ADDRESS=Palazzo Maffei Via Matteotti  Lavis;X-APPLE-RADIUS=500;X-TITLE=Via Matteotti:geo:11.1126789,46.1390331
END:VEVENT
BEGIN:VEVENT
DTSTART;TZID=Europe/Rome:20251003T180000
DTEND;TZID=Europe/Rome:20251003T220000
DTSTAMP:20260423T173515
CREATED:20250912T133701Z
LAST-MODIFIED:20250912T133701Z
UID:10021188-1759514400-1759528800@www.iltrentinodeibambini.it
SUMMARY:Ascolta il bramito del cervo - Paneveggio
DESCRIPTION:l Parco Naturale Paneveggio – Pale di San Martino è una delle aree del Trentino con il maggior numero di ungulati. Ritornano anche nell’autunno 2025 le escursioni “Ascolta il bramito del cervo” organizzate dal Parco. Un’esperienza emozionante anche grazie all’utilizzo della telecamera a infrarossi\, che permette di osservare i movimenti degli animali nel buio della notte. \n\nvenerdì 26 e sabato 27 settembre e venerdì 3 e sabato 4 ottobre 2025 | ore 18.00 | ritrovo: Centro Visitatori del Parco a Paneveggio| Quota di partecipazione: 15 euro adulti (15+)\, 10 euro bambini dai 7 ai 14 anni accompagnati (gratuito per bambini di età inferiore ai 7 anni\, accompagnati) | Iscrizioni online QUI \, oppure contattando il Centro Visitatori via mail: visitatori@parcopan.org \n\nScopri tutti gli appuntamenti per ascoltare il bramito del cervo: Ascolta il bramito del cervo
URL:https://www.iltrentinodeibambini.it/eventi/ascolta-il-bramito-del-cervo-paneveggio-2/2025-10-03/
LOCATION:Centro Visitatori Paneveggio – Predazzo\, SS50\, 11\, Predazzo\, Trentino\, 38037\, Italia
CATEGORIES:Escursioni,Eventi speciali,Visite guidate
END:VEVENT
BEGIN:VEVENT
DTSTART;TZID=Europe/Rome:20251003T190000
DTEND;TZID=Europe/Rome:20251003T220000
DTSTAMP:20260423T173515
CREATED:20250418T220930Z
LAST-MODIFIED:20251104T180901Z
UID:10018856-1759518000-1759528800@www.iltrentinodeibambini.it
SUMMARY:Picnic al tramonto da Agriconda
DESCRIPTION:Immagina un picnic in un angolino confortevole tra il verde dei frutteti di Maso Agriconda\, e una selezione di prodotti  a km 0 che troverai nel tuo cestino. Piccoli frutti\, conserve\, pane di montagna\, salumi locali\, puoi scegliere il tuo cesto preferito: cesto di Comano\, Cesto di Maserac\, Cesto dei Bambini e Cesto Picnic Romantico\, in versione classica o deluxe in base alla scelta della bevanda. \n\nPrenotazione entro le 12:00 del giorno stesso; clicca QUI per prenotare\nQuando: prenotabile tutti i giorni dal 9 giugno al 30 settembre 2025: ore 20:00 (1° giugno – 16 luglio) | ore 19:30 (17 luglio – 13 agosto) | ore 19:00 (14 agosto – 30 settembre);\nPunto di ritrovo: Salita al Maso Agriconda | Vigo Lomaso (Comano Terme)\nDurata: 3 ore;\nServizi inclusi: cestino da picnic con prodotti a km 0\, “salottino” riservato con vista tra i vigneti e le coltivazioni di lamponi\, allestito con tutto il necessario per goderti il tuo picnic\nCosto: cesti a partire da 30 euro. Inoltre con Garda Guest Card hai diritto a un prodotto gratuito dallo shop.\n\n\n\n\n\n\n\n\nContatti:\n\n\n\n\n\nAGRICONDA – farm experience\nLocalità Maserac\, 81 81 – 38077 Comano Terme\ntel. 348.1435785\nSito web\n\n\n\n\n\nCi siamo stati anche noi: Picnic a Maso Agriconda nel Lomaso
URL:https://www.iltrentinodeibambini.it/eventi/picnic-al-tramonto-da-agriconda/2025-10-03/
LOCATION:Maso Maserac\, Vigo Lomaso\, Italia
CATEGORIES:Al parco,In fattoria
END:VEVENT
BEGIN:VEVENT
DTSTART;TZID=Europe/Rome:20251003T190000
DTEND;TZID=Europe/Rome:20251003T230000
DTSTAMP:20260423T173515
CREATED:20250912T133356Z
LAST-MODIFIED:20250912T133356Z
UID:10021184-1759518000-1759532400@www.iltrentinodeibambini.it
SUMMARY:Il bramito del cervo -  Pejo e Rabbi
DESCRIPTION:Un’esperienza unica vi attende nel cuore del Parco Nazionale dello Stelvio. Dopo essersi ritrovati\, con i propri mezzi si raggiunge la malga per una deliziosa cena dai sapori autunnali. In seguito\, indossata la pila frontale e un abbigliamento adatto\, ci si sposterà  con i propri mezzi fino a punto d’inizio dell’escursione. L’esperto del Parco vi accompagnerà in sicurezza nel bosco\, insegnandovi a porre attenzione a rumori e segnali. Particolare la dotazione: sarà possibile infatti usufruire di una speciale termocamera a raggi infrarossi\, capace di rilevare la presenza di animali nel buio della notte grazie al calore prodotto dai loro corpi. Esperienza adatta alle famiglie amanti della natura con bambini di almeno 8 anni. Lunghezza dei percorsi circa 4\,5 chilometri con un dislivello massimo di 250 metri in salita. \n\nsabato 20 e sabato 27 settembre e sabato 4 ottobre 2025 | ore 19.00 | punto di ritrovo: Centro Visitatori del Parco a Cogolo di Peio | tel. 0463.909773\nvenerdì 19 e 26 settembre e venerdì 3 ottobre 2025 | ore 19.00 | punto di ritrovo: Punto Info Parco a Rabbi Fonti | tel. 0463.909774\n\nScopri qui tutti gli appuntamenti in Trentino con il bramito del cervo: Ascolta il bramito del cervo
URL:https://www.iltrentinodeibambini.it/eventi/il-bramito-del-cervo-pejo-e-rabbi/2025-10-03/
LOCATION:Centro Visitatori Parco Nazionale dello Stelvio\, Peio Fonti
CATEGORIES:Escursioni,Eventi speciali
GEO:46.4075169;10.8079071
END:VEVENT
BEGIN:VEVENT
DTSTART;TZID=Europe/Rome:20251003T220000
DTEND;TZID=Europe/Rome:20251005T183000
DTSTAMP:20260423T173515
CREATED:20250928T134740Z
LAST-MODIFIED:20250928T134740Z
UID:10021282-1759528800-1759689000@www.iltrentinodeibambini.it
SUMMARY:Festa della patata e dei sapori d'autunno 2025
DESCRIPTION:Come da tradizione\, il mese di ottobre in Val di Non si apre con Festa della Patata e dei Sapori d’Autunno\, che celebra l’arrivo della nuova stagione e la raccolta del prezioso “frutto della terra”.Un momento per riscoprire antichi sapori e piatti della tradizione a base di patate. Non mancheranno le bancarelle di prodotti locali e del tempo libero\, un simpatico mercatino delle pulci\, degli hobbisti e un’area dedicata ai più piccoli. \n\nProgramma\nVenerdì 3 ottobre\nNel tendone riscaldato\nOre 22.00: serata con Gian DJ \nSabato 4 ottobre\nNel tendone riscaldato\nOre 14.00: apertura della festa con mercatino di prodotti tipici\, servizio bar e intrattenimento per bambini con gonfiabili e truccabimbi\nOre 17.00: aperitivo con musica live\nOre 19.00: cena tipica a base di patate\nOre 21.30: concerto live con i Busi dei Cui\nOre 23.30: continuazione della serata con DJ Alezz \nDomenica 5 ottobre\nDalle ore 10.00: espositori con prodotti tipici\, hobbisti\, mercatino delle pulci\, tante attività di intrattenimento per bambini e adulti: fattoria didattica\, go kart a pedali\, laboratorio a tema patata al Giardino della Rosa e molto altro!\nOre 12.00: pranzo tipico a base di patate\nOre 15.30: spettacolo di danza Suite da “Pandora” a cura di Esteka APS\nOre 17.00: estrazione della lotteria \nInoltre\, sempre domenica 5 ottobre si potranno visitare gratuitamente il Giardino della Rosa\, il Museo di Ronzone e la chiesetta di S. Antonio\, dove è in programma una visita guidata alle 15.00! \n\nInformazioni\n\n\n\n\n\nPro Loco Ronzone\nMail: ronzone.proloco@gmail.com\nTel: 371.3936613
URL:https://www.iltrentinodeibambini.it/eventi/festa-della-patata-e-dei-sapori-dautunno-2025/
LOCATION:Ronzone\, piazzale dei Musei\, Ronzone\, Trentino\, 38010\, Italia
CATEGORIES:Eventi speciali,Feste
GEO:46.425693;11.1494699
X-APPLE-STRUCTURED-LOCATION;VALUE=URI;X-ADDRESS=Ronzone piazzale dei Musei Ronzone Trentino 38010 Italia;X-APPLE-RADIUS=500;X-TITLE=piazzale dei Musei:geo:11.1494699,46.425693
END:VEVENT
END:VCALENDAR