BEGIN:VCALENDAR
VERSION:2.0
PRODID:-//Il Trentino dei Bambini - ECPv6.13.2//NONSGML v1.0//EN
CALSCALE:GREGORIAN
METHOD:PUBLISH
X-WR-CALNAME:Il Trentino dei Bambini
X-ORIGINAL-URL:https://www.iltrentinodeibambini.it
X-WR-CALDESC:Eventi per Il Trentino dei Bambini
REFRESH-INTERVAL;VALUE=DURATION:PT1H
X-Robots-Tag:noindex
X-PUBLISHED-TTL:PT1H
BEGIN:VTIMEZONE
TZID:Europe/Rome
BEGIN:DAYLIGHT
TZOFFSETFROM:+0100
TZOFFSETTO:+0200
TZNAME:CEST
DTSTART:20250330T010000
END:DAYLIGHT
BEGIN:STANDARD
TZOFFSETFROM:+0200
TZOFFSETTO:+0100
TZNAME:CET
DTSTART:20251026T010000
END:STANDARD
END:VTIMEZONE
BEGIN:VEVENT
DTSTART;TZID=Europe/Rome:20251009T090000
DTEND;TZID=Europe/Rome:20251009T113000
DTSTAMP:20260423T173513
CREATED:20251007T110229Z
LAST-MODIFIED:20251007T110229Z
UID:10021427-1760000400-1760009400@www.iltrentinodeibambini.it
SUMMARY:Centro genitori bambini in biblioteca
DESCRIPTION:Uno spazio dedicato a genitori e bambini da o a 3 anni dove possono condividere momenti di gioco\, musica\, lettura e coccole. \n\nQuando: tutti i giovedì e i venerdì dalle 9.00 alle 11.45\nDove: biblioteca Ragazzi – palazzina Liberty\nCosto: partecipazione gratuita\nInfo: tel. 0461.889559 | biblioteca.ragazzi@comune.trento.it\n\nScoprite tutti gli appuntamenti per bambini e ragazzi nelle biblioteche del comune di Trento QUI.
URL:https://www.iltrentinodeibambini.it/eventi/centro-genitori-bambini-in-biblioteca-3/2025-10-09/
LOCATION:palazzina Liberty\, Piazza Dante\, Trento
CATEGORIES:Eventi speciali,In biblioteca
END:VEVENT
BEGIN:VEVENT
DTSTART;TZID=Europe/Rome:20251009T163000
DTEND;TZID=Europe/Rome:20251009T173000
DTSTAMP:20260423T173513
CREATED:20250901T095001Z
LAST-MODIFIED:20250901T104847Z
UID:10021114-1760027400-1760031000@www.iltrentinodeibambini.it
SUMMARY:It's story time
DESCRIPTION:Letture ad alta voce in inglese per bambine e bambini dai 3 ai 6 anni. \n\nQuando: giovedì 18 settembre\, 9 ottobre\, 20 novembre e 18 dicembre 2025 alle 16.30\nDove: biblioteca comunale – sede di Mattarello\nCosto: partecipazione libera e gratuita\nInfo: tel. 0461.889868 | e-mail: biblioteca.mattarello@comune.trento.it.\n\nScoprite altre attività nelle biblioteche comunali di Treno QUI.
URL:https://www.iltrentinodeibambini.it/eventi/its-story-time-7/2025-10-09/
LOCATION:Biblioteca di Mattarello\, Mattarello 
CATEGORIES:In biblioteca
GEO:46.0062499;11.1366731
END:VEVENT
BEGIN:VEVENT
DTSTART;TZID=Europe/Rome:20251009T183000
DTEND;TZID=Europe/Rome:20251012T190000
DTSTAMP:20260423T173513
CREATED:20240910T065821Z
LAST-MODIFIED:20250926T070903Z
UID:10006101-1760034600-1760295600@www.iltrentinodeibambini.it
SUMMARY:Festival dello sport
DESCRIPTION:Si terrà a Trento dal 9 al 12 ottobre 2025 il Festival dello Sport e il consiglio è di non perderlo per nessun motivo\, che voi siate o non siate sportivi! Partiamo intanto con il dirvi che il titolo sarà “Adrenalina pura” e che si svolgerà nei teatri e palazzi storici\, nelle piazze\, nei musei e nei cortili con un palinsesto ricco di talk\, interviste\, eventi live\, mostre ed eventi speciali. \nNel nostro articolo tutti i dettagli e tanti buoni motivi per partecipare a questa manifestazione\, leggete QUI.
URL:https://www.iltrentinodeibambini.it/eventi/festival-dello-sport/
LOCATION:Centro Storico Trento\, piazza Duomo \, Trento
CATEGORIES:Eventi speciali
GEO:46.0676;11.121798
X-APPLE-STRUCTURED-LOCATION;VALUE=URI;X-ADDRESS=Centro Storico Trento piazza Duomo  Trento;X-APPLE-RADIUS=500;X-TITLE=piazza Duomo:geo:11.121798,46.0676
END:VEVENT
END:VCALENDAR