BEGIN:VCALENDAR
VERSION:2.0
PRODID:-//Il Trentino dei Bambini - ECPv6.13.2//NONSGML v1.0//EN
CALSCALE:GREGORIAN
METHOD:PUBLISH
X-WR-CALNAME:Il Trentino dei Bambini
X-ORIGINAL-URL:https://www.iltrentinodeibambini.it
X-WR-CALDESC:Eventi per Il Trentino dei Bambini
REFRESH-INTERVAL;VALUE=DURATION:PT1H
X-Robots-Tag:noindex
X-PUBLISHED-TTL:PT1H
BEGIN:VTIMEZONE
TZID:Europe/Rome
BEGIN:DAYLIGHT
TZOFFSETFROM:+0100
TZOFFSETTO:+0200
TZNAME:CEST
DTSTART:20250330T010000
END:DAYLIGHT
BEGIN:STANDARD
TZOFFSETFROM:+0200
TZOFFSETTO:+0100
TZNAME:CET
DTSTART:20251026T010000
END:STANDARD
END:VTIMEZONE
BEGIN:VEVENT
DTSTART;TZID=Europe/Rome:20251021T100000
DTEND;TZID=Europe/Rome:20251021T180000
DTSTAMP:20260423T173515
CREATED:20251016T070040Z
LAST-MODIFIED:20251016T070619Z
UID:10021486-1761040800-1761069600@www.iltrentinodeibambini.it
SUMMARY:Display: mostra interattiva
DESCRIPTION:Display è il progetto di Fondazione Caritro che porta la propria collezione d’arte (oltre 300 opere) fuori dalle sedi istituzionali in formato digitale\, rendendola accessibile a tutti. Tra pannelli narrativi\, schermi interattivi e spazi per dare vita al proprio catalogo personale\, l’esperienza sarà davvero coinvolgente anche per bambini e famiglie. Maggiori info QUI. \nIn mostra fino alla fine di novembre presso la biblioteca comunale di Pinzolo\, nei seguenti orari:  \n\nlunedì dalle ore 14.00 alle 18.00\nda martedì a venerdì dalle ore 10.00 alle 12.00 e dalle ore 14.00 alle 18.00\nsabato dalle ore 10.00 alle 12.00
URL:https://www.iltrentinodeibambini.it/eventi/display-mostra-interattiva-2/2025-10-21/
LOCATION:bilbioteca di Pinzolo\, Via al Sole\, 30\, Pinzolo
CATEGORIES:Eventi speciali
END:VEVENT
BEGIN:VEVENT
DTSTART;TZID=Europe/Rome:20251021T163000
DTEND;TZID=Europe/Rome:20251021T173000
DTSTAMP:20260423T173515
CREATED:20250922T154140Z
LAST-MODIFIED:20250922T154512Z
UID:10021254-1761064200-1761067800@www.iltrentinodeibambini.it
SUMMARY:Immagini per Crescere
DESCRIPTION:Questo terzo weekend porta i partecipanti nel cuore dell’avventura: attraverso spettacoli\, laboratori e percorsi immersivi\, i bambini sperimenteranno il significato di affrontare paure\, risolvere enigmi e collaborare con i propri alleati. Ecco gli eventi per bambini e famiglie da non perdere: \n\nvenerdì 17 ottobre 2025 alle ore 16.30 | Palazzo de Maffei | “Storie di Pippi”: laboratorio di letture espressive | target: 6+ | ingresso libero\nsabato 18 ottobre 2025 alle ore 10.00 | Palazzo de Maffei | un viaggio nel catalogo di Baba Musica con un cantastorie d’eccezione | target: 3-8 anni | ingresso libero\nsabato 18 ottobre 2025 alle ore 16.00 | Auditorium di Lavis | spettacolo di storie dette\, lette\ne fatte | target: 4+ | costo 3 euro a persona\nsabato 18 ottobre 2025 alle ore 16.30 | Palazzo de Maffei | “prendi la mia mano”: percorso simbolico con la Fondazione ABIO | target: 3-10 anni | costo: 3 euro a bambino\ndomenica 19 ottobre 2025 alle ore 10.00 | Oratorio di Pressano | spettacolo di burattini che mescola due versioni della celebre fiaba “Hansel e Gretel” | target: 4+ | ingresso libero\ndomenica 19 ottobre 2025 alle ore 14.00 | Biblioteca di Lavis | lettura di albi illustrati e laboratorio creativo | target: 3-8 anni | costo: 3 euro a bambino\nmartedì 21 ottobre 2025 alle ore 16.30 | Biblioteca di Zambana | letture di albi illustrati e laboratorio creativo | target: 5+ | ingresso gratuito con prenotazione QUI\n\nTutti gli appuntamenti di Immagini per Crescere QUI.
URL:https://www.iltrentinodeibambini.it/eventi/immagini-per-crescere-2-2/2025-10-21/
LOCATION:Lavis\, piazzetta degli Alpini\, Lavis 
CATEGORIES:A teatro,Eventi speciali,In biblioteca,Spettacoli
END:VEVENT
END:VCALENDAR