BEGIN:VCALENDAR
VERSION:2.0
PRODID:-//Il Trentino dei Bambini - ECPv6.13.2//NONSGML v1.0//EN
CALSCALE:GREGORIAN
METHOD:PUBLISH
X-WR-CALNAME:Il Trentino dei Bambini
X-ORIGINAL-URL:https://www.iltrentinodeibambini.it
X-WR-CALDESC:Eventi per Il Trentino dei Bambini
REFRESH-INTERVAL;VALUE=DURATION:PT1H
X-Robots-Tag:noindex
X-PUBLISHED-TTL:PT1H
BEGIN:VTIMEZONE
TZID:Europe/Rome
BEGIN:DAYLIGHT
TZOFFSETFROM:+0100
TZOFFSETTO:+0200
TZNAME:CEST
DTSTART:20250330T010000
END:DAYLIGHT
BEGIN:STANDARD
TZOFFSETFROM:+0200
TZOFFSETTO:+0100
TZNAME:CET
DTSTART:20251026T010000
END:STANDARD
END:VTIMEZONE
BEGIN:VEVENT
DTSTART;TZID=Europe/Rome:20251024T090000
DTEND;TZID=Europe/Rome:20251024T113000
DTSTAMP:20260423T173516
CREATED:20251007T110229Z
LAST-MODIFIED:20251007T110229Z
UID:10021432-1761296400-1761305400@www.iltrentinodeibambini.it
SUMMARY:Centro genitori bambini in biblioteca
DESCRIPTION:Uno spazio dedicato a genitori e bambini da o a 3 anni dove possono condividere momenti di gioco\, musica\, lettura e coccole. \n\nQuando: tutti i giovedì e i venerdì dalle 9.00 alle 11.45\nDove: biblioteca Ragazzi – palazzina Liberty\nCosto: partecipazione gratuita\nInfo: tel. 0461.889559 | biblioteca.ragazzi@comune.trento.it\n\nScoprite tutti gli appuntamenti per bambini e ragazzi nelle biblioteche del comune di Trento QUI.
URL:https://www.iltrentinodeibambini.it/eventi/centro-genitori-bambini-in-biblioteca-3/2025-10-24/
LOCATION:palazzina Liberty\, Piazza Dante\, Trento
CATEGORIES:Eventi speciali,In biblioteca
END:VEVENT
BEGIN:VEVENT
DTSTART;TZID=Europe/Rome:20251024T100000
DTEND;TZID=Europe/Rome:20251024T180000
DTSTAMP:20260423T173516
CREATED:20251016T070040Z
LAST-MODIFIED:20251016T070619Z
UID:10021489-1761300000-1761328800@www.iltrentinodeibambini.it
SUMMARY:Display: mostra interattiva
DESCRIPTION:Display è il progetto di Fondazione Caritro che porta la propria collezione d’arte (oltre 300 opere) fuori dalle sedi istituzionali in formato digitale\, rendendola accessibile a tutti. Tra pannelli narrativi\, schermi interattivi e spazi per dare vita al proprio catalogo personale\, l’esperienza sarà davvero coinvolgente anche per bambini e famiglie. Maggiori info QUI. \nIn mostra fino alla fine di novembre presso la biblioteca comunale di Pinzolo\, nei seguenti orari:  \n\nlunedì dalle ore 14.00 alle 18.00\nda martedì a venerdì dalle ore 10.00 alle 12.00 e dalle ore 14.00 alle 18.00\nsabato dalle ore 10.00 alle 12.00
URL:https://www.iltrentinodeibambini.it/eventi/display-mostra-interattiva-2/2025-10-24/
LOCATION:bilbioteca di Pinzolo\, Via al Sole\, 30\, Pinzolo
CATEGORIES:Eventi speciali
END:VEVENT
BEGIN:VEVENT
DTSTART;TZID=Europe/Rome:20251024T140000
DTEND;TZID=Europe/Rome:20251024T190000
DTSTAMP:20260423T173516
CREATED:20251017T065246Z
LAST-MODIFIED:20251017T065509Z
UID:10021547-1761314400-1761332400@www.iltrentinodeibambini.it
SUMMARY:Bio Verde Salus
DESCRIPTION:Bio Verde Salus – Festival del benessere\, dell’alimentazione biologica\, degli ecoprodotti e della salute ambientale si svolge a Trento Expo Fiere da venerdì 24 a domenica 26 ottobre 2025. Un’edizione piena di energia e nuove proposte dedicate a tutti. Vi aspetta un ricco programma ad ingresso gratuito. \nIn particolare per bambini e ragazzi due belle attività: \n\npotranno piantare delle giovani conifere\npartecipare a un laboratorio di modellazione creativa\n\nMaggiori dettagli QUI.
URL:https://www.iltrentinodeibambini.it/eventi/bio-verde-salus/2025-10-24/
LOCATION:Trento Fiere\, Via Briamasco\, 2\, Trento\, 38121
CATEGORIES:Eventi speciali
GEO:46.0650949;11.1167675
X-APPLE-STRUCTURED-LOCATION;VALUE=URI;X-ADDRESS=Trento Fiere Via Briamasco 2 Trento 38121;X-APPLE-RADIUS=500;X-TITLE=Via Briamasco\, 2:geo:11.1167675,46.0650949
END:VEVENT
BEGIN:VEVENT
DTSTART;TZID=Europe/Rome:20251024T143000
DTEND;TZID=Europe/Rome:20251024T170000
DTSTAMP:20260423T173516
CREATED:20250915T064610Z
LAST-MODIFIED:20250915T064610Z
UID:10021202-1761316200-1761325200@www.iltrentinodeibambini.it
SUMMARY:Spazio giochi da tavolo
DESCRIPTION:Uno spazio dedicato a chi ha voglia di cimentarsi con i giochi da tavolo\, senza limiti d’età. \n\nQuando: tutti i venerdì dalle ore 14.30\nDove: biblioteca comunale – sede di Povo\nCosto: partecipazione libera e gratuita\nInfo: tel. 0461-889918 | e-mail biblioteca.povo@comune.trento.it\n\nScoprite tutti gli eventi per bambini e ragazzi nelle biblioteche comunali di Trento QUI.
URL:https://www.iltrentinodeibambini.it/eventi/spazio-giochi-da-tavolo-4/2025-10-24/
LOCATION:biblioteca di Povo\, Via Don Tommaso Dallafior
CATEGORIES:Eventi speciali,In biblioteca
END:VEVENT
BEGIN:VEVENT
DTSTART;TZID=Europe/Rome:20251024T150000
DTEND;TZID=Europe/Rome:20251024T173000
DTSTAMP:20260423T173516
CREATED:20251007T105739Z
LAST-MODIFIED:20251007T105739Z
UID:10021422-1761318000-1761327000@www.iltrentinodeibambini.it
SUMMARY:Centro genitori bambini in biblioteca
DESCRIPTION:Uno spazio dedicato a genitori e bambini fino a 6 anni dove possono condividere momenti di gioco\, musica\, lettura e coccole. \n\nQuando: il venerdì\, ogni 2 settimane\, dalle ore 15.00\nDove: biblioteca comunale – sede di Meano\nCosto: partecipazione gratuita\nInfo: tel. 0461.889559\n\nScoprite tutti gli appuntamenti per bambini e ragazzi nelle biblioteche del comune di Trento QUI.
URL:https://www.iltrentinodeibambini.it/eventi/centro-genitori-bambini-in-biblioteca-2/2025-10-24/
LOCATION:Biblioteca di Meano\, Via delle Sugarine\, 26\, Meano 
CATEGORIES:Eventi speciali,In biblioteca
GEO:46.1262652;11.1167911
X-APPLE-STRUCTURED-LOCATION;VALUE=URI;X-ADDRESS=Biblioteca di Meano Via delle Sugarine 26 Meano;X-APPLE-RADIUS=500;X-TITLE=Via delle Sugarine\, 26:geo:11.1167911,46.1262652
END:VEVENT
BEGIN:VEVENT
DTSTART;TZID=Europe/Rome:20251024T160000
DTEND;TZID=Europe/Rome:20251026T180000
DTSTAMP:20260423T173516
CREATED:20250922T154347Z
LAST-MODIFIED:20250922T154347Z
UID:10021251-1761321600-1761501600@www.iltrentinodeibambini.it
SUMMARY:Immagini per Crescere
DESCRIPTION:In questo ultimo weekend si celebrano le conquiste dei piccoli viaggiatori\, condividendo con la comunità tutto ciò che hanno imparato e creato. Ecco gli appuntamenti per bambini e famiglie: \n\nvenerdì 24 ottobre 2025 alle ore 16.00 | Palazzo de Maffei | letture animate e laboratorio creativo | target: 5+ | ingresso gratuito con prenotazione QUI\ndomenica 26 ottobre 2025 alle ore 10.00 | Sorni | “fiabe in volo”: spettacolo ispirato ad alcune fiabe di Hans Christian Andersen | target: 4+ | ingresso libero\ndomenica 26 ottobre 2025 alle ore 16.00 | Biblioteca di Lavis | letture e laboratorio dei libri felini | target: 4-6 anni | costo: 3 euro a bambino\ngiovedì 30 ottobre 2025 alle ore 17.30 | Biblioteca di Zambana | un pomeriggio un po’ strampalato e pieno di fantasia\, proprio come Pippi Calzelunghe | target: 6-10 anni | ingresso gratuito con prenotazione\n\nTutti gli appuntamenti di Immagini per Crescere QUI.
URL:https://www.iltrentinodeibambini.it/eventi/immagini-per-crescere-2-2-2/2025-10-24/
LOCATION:Lavis\, piazzetta degli Alpini\, Lavis 
CATEGORIES:A teatro,Eventi speciali,In biblioteca,Spettacoli
END:VEVENT
BEGIN:VEVENT
DTSTART;TZID=Europe/Rome:20251024T170000
DTEND;TZID=Europe/Rome:20251024T180000
DTSTAMP:20260423T173516
CREATED:20250821T141047Z
LAST-MODIFIED:20250821T141047Z
UID:10020984-1761325200-1761328800@www.iltrentinodeibambini.it
SUMMARY:Divoratori di libri
DESCRIPTION:Gruppo di lettura per ragazzi e ragazze di età tra gli 11 e i 14 anni. Ciascun partecipante porta in gruppo la propria esperienza di lettura e ha la possibilità di confrontarsi con gli altri membri del gruppo.  È un’occasione per mettersi in gioco\, scambiarsi i consigli di lettura e conoscere delle novità editoriali presenti nel catalogo. Appuntamento mensile. \n\nQuando: venerdì 26 settembre\, 24 ottobre\, 21 novembre e 19 dicembre 2025 alle ore 17.00\nDove: Biblioteca dei ragazzi – Palazzina Liberty\nCosto: attività gratuita\nInfo: tel. 0461.889559 | e-mail: biblioteca.ragazzi@comune.trento.it\n\nScoprite tutti gli appuntamenti nelle biblioteche comunali dedicati a bambini e ragazzi QUI
URL:https://www.iltrentinodeibambini.it/eventi/divoratori-di-libri-2/2025-10-24/
LOCATION:palazzina Liberty\, Piazza Dante\, Trento
CATEGORIES:In biblioteca
END:VEVENT
BEGIN:VEVENT
DTSTART;TZID=Europe/Rome:20251024T190000
DTEND;TZID=Europe/Rome:20251024T220000
DTSTAMP:20260423T173516
CREATED:20250418T220930Z
LAST-MODIFIED:20251104T180901Z
UID:10018865-1761332400-1761343200@www.iltrentinodeibambini.it
SUMMARY:Picnic al tramonto da Agriconda
DESCRIPTION:Immagina un picnic in un angolino confortevole tra il verde dei frutteti di Maso Agriconda\, e una selezione di prodotti  a km 0 che troverai nel tuo cestino. Piccoli frutti\, conserve\, pane di montagna\, salumi locali\, puoi scegliere il tuo cesto preferito: cesto di Comano\, Cesto di Maserac\, Cesto dei Bambini e Cesto Picnic Romantico\, in versione classica o deluxe in base alla scelta della bevanda. \n\nPrenotazione entro le 12:00 del giorno stesso; clicca QUI per prenotare\nQuando: prenotabile tutti i giorni dal 9 giugno al 30 settembre 2025: ore 20:00 (1° giugno – 16 luglio) | ore 19:30 (17 luglio – 13 agosto) | ore 19:00 (14 agosto – 30 settembre);\nPunto di ritrovo: Salita al Maso Agriconda | Vigo Lomaso (Comano Terme)\nDurata: 3 ore;\nServizi inclusi: cestino da picnic con prodotti a km 0\, “salottino” riservato con vista tra i vigneti e le coltivazioni di lamponi\, allestito con tutto il necessario per goderti il tuo picnic\nCosto: cesti a partire da 30 euro. Inoltre con Garda Guest Card hai diritto a un prodotto gratuito dallo shop.\n\n\n\n\n\n\n\n\nContatti:\n\n\n\n\n\nAGRICONDA – farm experience\nLocalità Maserac\, 81 81 – 38077 Comano Terme\ntel. 348.1435785\nSito web\n\n\n\n\n\nCi siamo stati anche noi: Picnic a Maso Agriconda nel Lomaso
URL:https://www.iltrentinodeibambini.it/eventi/picnic-al-tramonto-da-agriconda/2025-10-24/
LOCATION:Maso Maserac\, Vigo Lomaso\, Italia
CATEGORIES:Al parco,In fattoria
END:VEVENT
BEGIN:VEVENT
DTSTART;TZID=Europe/Rome:20251024T200000
DTEND;TZID=Europe/Rome:20251024T233000
DTSTAMP:20260423T173516
CREATED:20250416T064048Z
LAST-MODIFIED:20250416T064048Z
UID:10018350-1761336000-1761348600@www.iltrentinodeibambini.it
SUMMARY:Nanna al Muse
DESCRIPTION:Un’opportunità speciale per tutta la famiglia che per un’intera notte può trasferirsi al museo e partecipare alle attività laboratoriali\, divertirsi con gli spettacoli\, partecipare a una caccia al tesoro alla scoperta dei segreti del museo e\, infine\, coricarsi sognando avventure scientifiche. \n\nQuando: 28 febbraio | 18 aprile | 30 maggio | 24 ottobre | 5 dicembre 2025 dalle ore 20.00\nDove: Muse – Trento\nCosto: euro 50 | acquistate il biglietto QUI\nInfo: terget 4-12 anni con adulto accompagnatore\n\nIl programma completo dell’evento\, le tariffe\, le date e tutte le informazioni QUI.
URL:https://www.iltrentinodeibambini.it/eventi/nanna-al-muse-4/2025-10-24/
LOCATION:MUSE\, Italia
CATEGORIES:Al Museo,Eventi speciali
GEO:46.0700915;11.1197626
END:VEVENT
END:VCALENDAR