BEGIN:VCALENDAR
VERSION:2.0
PRODID:-//Il Trentino dei Bambini - ECPv6.13.2//NONSGML v1.0//EN
CALSCALE:GREGORIAN
METHOD:PUBLISH
X-ORIGINAL-URL:https://www.iltrentinodeibambini.it
X-WR-CALDESC:Eventi per Il Trentino dei Bambini
REFRESH-INTERVAL;VALUE=DURATION:PT1H
X-Robots-Tag:noindex
X-PUBLISHED-TTL:PT1H
BEGIN:VTIMEZONE
TZID:Europe/Rome
BEGIN:DAYLIGHT
TZOFFSETFROM:+0100
TZOFFSETTO:+0200
TZNAME:CEST
DTSTART:20250330T010000
END:DAYLIGHT
BEGIN:STANDARD
TZOFFSETFROM:+0200
TZOFFSETTO:+0100
TZNAME:CET
DTSTART:20251026T010000
END:STANDARD
END:VTIMEZONE
BEGIN:VEVENT
DTSTART;TZID=Europe/Rome:20251101T080000
DTEND;TZID=Europe/Rome:20251101T120000
DTSTAMP:20260423T143536
CREATED:20250412T212144Z
LAST-MODIFIED:20250412T212144Z
UID:10018222-1761984000-1761998400@www.iltrentinodeibambini.it
SUMMARY:Colazione in fattoria
DESCRIPTION:Inizia la giornata con una buona colazione a base di prodotti della fattoria e del Garda Trentino e poi vai a conoscere gli animali! \nLa colazione è disponibile a partire dalle 8.00\, mentre l’attività in fattoria comincia alle 10.30. Gli adulti partecipanti possono scegliere se trasformare la colazione in un brunch o seguire i più piccoli alla scoperta della fattoria. \nDOVE:  Azienda Agricola Agrisalus\, Pratosaiano (Arco)\, Via Fibbie\, 22;\nQUANDO: dalle ore 8:00\, tutti i sabati e le domeniche fino al 31 gennaio 2026\nDURATA:  2 ore\nPRENOTAZIONE: obbligatoria entro le 16:00 del giorno prima. Clicca QUI per prenotare online\nCOSA E’ INCLUSO: colazione contadina con prodotti della fattoria e del Garda Trentino\, visita della fattoria didattica (mucche\, maiali\, galline\, conigli)\, possibilità per gli adulti di trasformare la colazione in un brunch.\nCOSTO: 25 euro per i bambini dai 3 agli 11 anni (colazione + visita in fattoria)\, colazione accompagnatori 15 euro\, colazione bambini 3-11 anni 10 euro\, gratis bambini sotto i 2 anni. Sconto per possessori Guest Card. \nAl momento della prenotazione specificare eventuali allergie o intolleranze alimentari. Indossare scarpe comode e  adatte alla campagna. \nINFORMAZIONI\nAGRISALUS\nVia Fibbie\, 22 Arco (TN)\ntel.  379 1179271 \nLa colazione in fattoria da Agrisalus è un’experience promossa da APT Garda Dolomiti. Ci siamo stati anche noi: leggi Colazione in fattoria da Agrisalus \nPer maggiori informazioni potete visitare anche il sito di APT Garda Dolomiti QUI
URL:https://www.iltrentinodeibambini.it/eventi/colazione-in-fattoria-2/2025-11-01/
LOCATION:Agrisalus\, via Fibbie\, 22 - Pratosaiano\, Arco\, 38062\, Italia
CATEGORIES:In fattoria,Visite guidate
END:VEVENT
BEGIN:VEVENT
DTSTART;TZID=Europe/Rome:20251101T100000
DTEND;TZID=Europe/Rome:20251101T120000
DTSTAMP:20260423T143536
CREATED:20251016T070735Z
LAST-MODIFIED:20251016T071007Z
UID:10021538-1761991200-1761998400@www.iltrentinodeibambini.it
SUMMARY:Display: mostra interattiva
DESCRIPTION:Display è il progetto di Fondazione Caritro che porta la propria collezione d’arte (oltre 300 opere) fuori dalle sedi istituzionali in formato digitale\, rendendola accessibile a tutti. Tra pannelli narrativi\, schermi interattivi e spazi per dare vita al proprio catalogo personale\, l’esperienza sarà davvero coinvolgente anche per bambini e famiglie. Maggiori info QUI. \nIn mostra fino alla fine di novembre presso la biblioteca comunale di Pinzolo\, nei seguenti orari:  \n\nlunedì dalle ore 14.00 alle 18.00\nda martedì a venerdì dalle ore 10.00 alle 12.00 e dalle ore 14.00 alle 18.00\nsabato dalle ore 10.00 alle 12.00
URL:https://www.iltrentinodeibambini.it/eventi/display-mostra-interattiva-2-2/2025-11-01/
LOCATION:bilbioteca di Pinzolo\, Via al Sole\, 30\, Pinzolo
CATEGORIES:Eventi speciali
END:VEVENT
BEGIN:VEVENT
DTSTART;TZID=Europe/Rome:20251101T100000
DTEND;TZID=Europe/Rome:20251101T170000
DTSTAMP:20260423T143536
CREATED:20251001T194746Z
LAST-MODIFIED:20251001T194746Z
UID:10021364-1761991200-1762016400@www.iltrentinodeibambini.it
SUMMARY:Caccia al tesoro di Halloween al Castello di Avio
DESCRIPTION:Dal 29 ottobre al 2 novembre 2025 dalle ore 10.00 alle 17.00 la caccia al tesoro del Castello di Avio si tinge di mistero! Un’attività da fare in autonomia con la famiglia e gli amici\, particolarmente intrigante per i bambini dai 4 ai 12 anni. Al momento dell’ingresso riceverete una mappa: seguite le indicazioni per trovare gli enigmi da risolvere e scoprire così il lato più misterioso di questo suggestivo castello trentino. \nSi può prenotare l’ingresso con la caccia al tesoro anche online QUI  \nLa caccia al tesoro è compresa nel prezzo del biglietto d’ingresso! \nCastello di Avio\ntel. 0464-684453\ne-mail: faiavio@fondoambiente.it \nClicca e scopri tutti gli eventi di Halloween al castello di Avio
URL:https://www.iltrentinodeibambini.it/eventi/caccia-al-tesoro-di-halloween-al-castello-di-avio/2025-11-01/
LOCATION:Castello di Avio\, Loc. Sabbionaria\, Avio\, 38063\, Italia
CATEGORIES:Al Museo,Eventi speciali
GEO:45.7327794;10.9397993
X-APPLE-STRUCTURED-LOCATION;VALUE=URI;X-ADDRESS=Castello di Avio Loc. Sabbionaria Avio 38063 Italia;X-APPLE-RADIUS=500;X-TITLE=Loc. Sabbionaria:geo:10.9397993,45.7327794
END:VEVENT
BEGIN:VEVENT
DTSTART;TZID=Europe/Rome:20251101T100000
DTEND;TZID=Europe/Rome:20251101T190000
DTSTAMP:20260423T143536
CREATED:20251007T053548Z
LAST-MODIFIED:20251007T053548Z
UID:10021392-1761991200-1762023600@www.iltrentinodeibambini.it
SUMMARY:Halloween al Parco Avventura Pradastagn
DESCRIPTION:Dal 31 ottobre al 2 novembre 2025 il bosco di Malosco si trasforma in un luogo magico e spaventoso\, popolato da mostri\, ragnatele e sorprese da brivido! Apertura straordinaria fino alle 19.00 \n\nGara delle Zucche: porta la tua zucca intagliata e partecipa al concorso più pauroso dell’anno!\nMerende al Chiosco nel Bosco: waffle caldi e croccanti\, pop corn e tante golosità per grandi e piccini.\n\n  \n\nDove: Parco Avventura Pradastagn – Malosco (Borgo d’Anaunia)\nQuando : dal 31 ottobre al 2 novembre\, dalle 10.00 alle 19.00\n\nInfo e prenotazioni: Parco Avventura Pradastagn 340. 5586023 \nScopri qui il Parco Avventura PradastagnParco Avventura Pradastagn
URL:https://www.iltrentinodeibambini.it/eventi/halloween-al-parco-avventura-pradastagn/2025-11-01/
LOCATION:Parco Avventura Pradastagn\, località Regole di Malosco\, Borgo d’Anaunia\, TN\, Italia
CATEGORIES:Al parco,Eventi speciali
END:VEVENT
BEGIN:VEVENT
DTSTART;TZID=Europe/Rome:20251101T103000
DTEND;TZID=Europe/Rome:20251101T120000
DTSTAMP:20260423T143536
CREATED:20250721T055013Z
LAST-MODIFIED:20251023T124136Z
UID:10021574-1761993000-1761998400@www.iltrentinodeibambini.it
SUMMARY:EsplorAZIONIalCASTELLO
DESCRIPTION:Una visita guidata alla scoperta di ambienti affascinanti\, di segreti e curiosità nel Castello del Buonconsiglio. La visita è pensata per grandi e piccini\, con un linguaggio semplice e momenti coinvolgenti per un’esperienza da condividere in famiglia. \n\nQuando: sabato 1 novembre alle ore 10.30 domenica 2 novembre 2025 alle ore 15.00\nDove: Castello del Buonconsiglio – Trento\nCosto: 8 euro a nucleo familiare\nInfo: tel. 0461 492811 | prenotazione online QUI\n\nScoprite tutte le attività per bambini e famiglie al castello del Buonconsiglio QUI.
URL:https://www.iltrentinodeibambini.it/eventi/esplorazioniincastello/2025-11-01/
LOCATION:Castello del Buonconsiglio\, Trento 
CATEGORIES:Al Museo,Visite guidate
GEO:46.0700915;11.1197626
END:VEVENT
BEGIN:VEVENT
DTSTART;TZID=Europe/Rome:20251101T170000
DTEND;TZID=Europe/Rome:20251101T180000
DTSTAMP:20260423T143536
CREATED:20250912T080146Z
LAST-MODIFIED:20250912T080146Z
UID:10021170-1762016400-1762020000@www.iltrentinodeibambini.it
SUMMARY:L'aviatore
DESCRIPTION:SPETTACOLO TEATRALE PER BAMBINI E FAMIGLIE | Un aviatore e un bambino si incontrano nel Sahara\, dove l’uomo è atterrato col suo aereo in avaria. Tra loro nasce una grande amicizia\, che spingerà l’aviatore a chiedere al giovane amico come sia arrivato laggiù. Il bambino misterioso è in realtà il Piccolo Principe.\n \n\nQuando: sabato 1 novembre 2025 alle ore 17.00\nDove: Sala Filarmonica – Rovereto\nCosto: 5 euro | gratuito sotto i 3 anni | acquistate il biglietto QUI\nInfo: adatto dai 3 anni in su\n\nScoprite tutti gli spettacoli del “Festival dei Piccoli” a Rovereto QUI.
URL:https://www.iltrentinodeibambini.it/eventi/laviatore-2/
LOCATION:Sala Filarmonica\, Via Rosmini\, 86\, Rovereto
CATEGORIES:A teatro,Spettacoli
END:VEVENT
BEGIN:VEVENT
DTSTART;TZID=Europe/Rome:20251101T190000
DTEND;TZID=Europe/Rome:20251101T190000
DTSTAMP:20260423T143536
CREATED:20251002T145131Z
LAST-MODIFIED:20251002T145131Z
UID:10021367-1762023600-1762023600@www.iltrentinodeibambini.it
SUMMARY:Divertimento al Paoli Hotel
DESCRIPTION:Il Paoli Hotel a Caldonazzo propone per i mesi di novembre e dicembre delle giornate dedicate alle famiglie e bambini con attività a loro dedicate. \nEcco i prossimi eventi\n\nSABATO 1 NOVEMBRE A CENA (menu’ libero e pizzeria) in compagnia di Laura Truccamime’\nDOMENICA 2 NOVEMBRE A PRANZO (sempre menu’ libero) con AniMacri\nSABATO 13 DICEMBRE A CENA (menu’ libero) arriva Babbo Natale con la sua magia… preparate le letterine\nDOMENICA 14 A PRANZO (menu’ libero) arriva Babbo Natale con la sua magia… preparate le letterine\n\nPasquetta al Paoli Hotel
URL:https://www.iltrentinodeibambini.it/eventi/divertimento-al-paoli-hotel/
LOCATION:Hotel Paoli\, Lochere\, 6\, Caldonazzo\, Trentino\, 38052\, Italia
CATEGORIES:Eventi speciali
GEO:45.9881592;11.2996415
X-APPLE-STRUCTURED-LOCATION;VALUE=URI;X-ADDRESS=Hotel Paoli Lochere 6 Caldonazzo Trentino 38052 Italia;X-APPLE-RADIUS=500;X-TITLE=Lochere\, 6:geo:11.2996415,45.9881592
END:VEVENT
END:VCALENDAR