BEGIN:VCALENDAR
VERSION:2.0
PRODID:-//Il Trentino dei Bambini - ECPv6.13.2//NONSGML v1.0//EN
CALSCALE:GREGORIAN
METHOD:PUBLISH
X-WR-CALNAME:Il Trentino dei Bambini
X-ORIGINAL-URL:https://www.iltrentinodeibambini.it
X-WR-CALDESC:Eventi per Il Trentino dei Bambini
REFRESH-INTERVAL;VALUE=DURATION:PT1H
X-Robots-Tag:noindex
X-PUBLISHED-TTL:PT1H
BEGIN:VTIMEZONE
TZID:Europe/Rome
BEGIN:DAYLIGHT
TZOFFSETFROM:+0100
TZOFFSETTO:+0200
TZNAME:CEST
DTSTART:20250330T010000
END:DAYLIGHT
BEGIN:STANDARD
TZOFFSETFROM:+0200
TZOFFSETTO:+0100
TZNAME:CET
DTSTART:20251026T010000
END:STANDARD
END:VTIMEZONE
BEGIN:VEVENT
DTSTART;TZID=Europe/Rome:20251102T080000
DTEND;TZID=Europe/Rome:20251102T120000
DTSTAMP:20260423T143508
CREATED:20250412T212144Z
LAST-MODIFIED:20250412T212144Z
UID:10018223-1762070400-1762084800@www.iltrentinodeibambini.it
SUMMARY:Colazione in fattoria
DESCRIPTION:Inizia la giornata con una buona colazione a base di prodotti della fattoria e del Garda Trentino e poi vai a conoscere gli animali! \nLa colazione è disponibile a partire dalle 8.00\, mentre l’attività in fattoria comincia alle 10.30. Gli adulti partecipanti possono scegliere se trasformare la colazione in un brunch o seguire i più piccoli alla scoperta della fattoria. \nDOVE:  Azienda Agricola Agrisalus\, Pratosaiano (Arco)\, Via Fibbie\, 22;\nQUANDO: dalle ore 8:00\, tutti i sabati e le domeniche fino al 31 gennaio 2026\nDURATA:  2 ore\nPRENOTAZIONE: obbligatoria entro le 16:00 del giorno prima. Clicca QUI per prenotare online\nCOSA E’ INCLUSO: colazione contadina con prodotti della fattoria e del Garda Trentino\, visita della fattoria didattica (mucche\, maiali\, galline\, conigli)\, possibilità per gli adulti di trasformare la colazione in un brunch.\nCOSTO: 25 euro per i bambini dai 3 agli 11 anni (colazione + visita in fattoria)\, colazione accompagnatori 15 euro\, colazione bambini 3-11 anni 10 euro\, gratis bambini sotto i 2 anni. Sconto per possessori Guest Card. \nAl momento della prenotazione specificare eventuali allergie o intolleranze alimentari. Indossare scarpe comode e  adatte alla campagna. \nINFORMAZIONI\nAGRISALUS\nVia Fibbie\, 22 Arco (TN)\ntel.  379 1179271 \nLa colazione in fattoria da Agrisalus è un’experience promossa da APT Garda Dolomiti. Ci siamo stati anche noi: leggi Colazione in fattoria da Agrisalus \nPer maggiori informazioni potete visitare anche il sito di APT Garda Dolomiti QUI
URL:https://www.iltrentinodeibambini.it/eventi/colazione-in-fattoria-2/2025-11-02/
LOCATION:Agrisalus\, via Fibbie\, 22 - Pratosaiano\, Arco\, 38062\, Italia
CATEGORIES:In fattoria,Visite guidate
END:VEVENT
BEGIN:VEVENT
DTSTART;TZID=Europe/Rome:20251102T100000
DTEND;TZID=Europe/Rome:20251102T110000
DTSTAMP:20260423T143508
CREATED:20250908T123443Z
LAST-MODIFIED:20250908T123443Z
UID:10021138-1762077600-1762081200@www.iltrentinodeibambini.it
SUMMARY:Mi sento Fortunato!
DESCRIPTION:Visita animata alla Casa d’Arte Futurista Depero di Rovereto “Mi sento Fortunato”.  Un percorso alla scoperta dell’arte e della vita di Fortunato Depero basato sull’uso di uno speciale mazzo di carte. I partecipanti potranno pescare la loro carta “fortunata” che li indirizzerà a contenuti e sperimentazioni diverse: dal viaggio dell’artista a New York alle marionette per il teatro\, dalla sua visione della città di Rovereto alla tecnica delle tarsie in panno e in buxus. Attività consigliata per bambini dai 4 ai 10 anni. \nDOVE: Casa Depero – Rovereto\nQUANDO: tutte le prime domeniche del mese\, dalle 10.00 alle 11.00\nCOSTO: 5 euro a bambino\, accompagnatori: gratuito\nADATTO A: bambini 4-12 anni\nPRENOTAZIONI:  education@mart.tn.it. Dal lunedì al venerdì (ore 12.00) | online (vedi QUI) oppure contattando l’Area educazione del Mart: T. 0464 454135-108. Dal venerdì pomeriggio al sabato: biglietteria della Casa d’Arte Futurista Depero\, T. 0464.480273. \n\nScopri il MART e le sue sedi in:  Rovereto: al MART con i bambini;  \nScopri la  Casa d’Arte Futurista Depero
URL:https://www.iltrentinodeibambini.it/eventi/mi-sento-fortunato-3/2025-11-02/
LOCATION:Casa d’Arte Futurista Depero\, Via Portici 38\, Rovereto\, TN\, 38068\, Italia
CATEGORIES:Al Museo,Visite guidate
END:VEVENT
BEGIN:VEVENT
DTSTART;TZID=Europe/Rome:20251102T100000
DTEND;TZID=Europe/Rome:20251102T120000
DTSTAMP:20260423T143508
CREATED:20250821T144408Z
LAST-MODIFIED:20250821T144408Z
UID:10021009-1762077600-1762084800@www.iltrentinodeibambini.it
SUMMARY:I segreti di un'antica fortezza
DESCRIPTION:I segreti di un’antica fortezza | Visita guidata per conoscere la storia del castello di San Giovanni di Bondone\, a picco sul lago d’Idro. \n\nQUANDO: tutte le domeniche fino al 14 settembre\, domenica 5 e 19 ottobre e domenica 2 novembre 2025\nORARIO: ore 10.00 in inglese/ ore 11.00 in italiano\nADATTO A: dagli 8 anni\nCOSTO: inclusa nel biglietto di ingresso\n\nContatti: tel. 338.6527837; e-mail: castellobondone@muse.it
URL:https://www.iltrentinodeibambini.it/eventi/i-segreti-di-unantica-fortezza/2025-11-02/
LOCATION:Castello di Bondone\, Bondone\, Italia
CATEGORIES:Visite guidate
END:VEVENT
BEGIN:VEVENT
DTSTART;TZID=Europe/Rome:20251102T100000
DTEND;TZID=Europe/Rome:20251102T170000
DTSTAMP:20260423T143508
CREATED:20251001T092056Z
LAST-MODIFIED:20251001T092056Z
UID:10021351-1762077600-1762102800@www.iltrentinodeibambini.it
SUMMARY:Domeniche gratis nei musei e castelli
DESCRIPTION:Da domenica 5 ottobre 2025 torna la #domenicalmuseo\, iniziativa che consente l’ingresso gratuito\, ogni prima domenica del mese da ottobre a marzo\, in diversi musei e castelli provinciali. \nLe date interessate saranno: \n\n5 ottobre 2025\n2 novembre 2025\n7 dicembre 2025\n4 gennaio 2026\n1 febbraio 2026\n1 marzo 2026\n\nTra i musei aderenti ricordiamo: \n\nCastello del Buonconsiglio e gli altri castelli del circuito (Castel Beseno\, Castel Caldes\, Castel Stenico e Castel Thun);\nMUSE di Trento\nMuseo delle Palafitte di Ledro\nMART e Casa Depero a Rovereto e Galleria Civica a Trento;\nMuseo Geologico delle Dolomiti di Predazzo\nMuseo Etnografico di San Michele all’Adige;\nMuseo dell’Aeronautica Caproni a Trento\n\nLeggi anche il nostro articolo Domeniche gratis al museo 
URL:https://www.iltrentinodeibambini.it/eventi/domeniche-gratis-nei-musei-e-castelli/2025-11-02/
LOCATION:Trentino
CATEGORIES:Eventi speciali
END:VEVENT
BEGIN:VEVENT
DTSTART;TZID=Europe/Rome:20251102T100000
DTEND;TZID=Europe/Rome:20251102T170000
DTSTAMP:20260423T143508
CREATED:20251001T194746Z
LAST-MODIFIED:20251001T194746Z
UID:10021365-1762077600-1762102800@www.iltrentinodeibambini.it
SUMMARY:Caccia al tesoro di Halloween al Castello di Avio
DESCRIPTION:Dal 29 ottobre al 2 novembre 2025 dalle ore 10.00 alle 17.00 la caccia al tesoro del Castello di Avio si tinge di mistero! Un’attività da fare in autonomia con la famiglia e gli amici\, particolarmente intrigante per i bambini dai 4 ai 12 anni. Al momento dell’ingresso riceverete una mappa: seguite le indicazioni per trovare gli enigmi da risolvere e scoprire così il lato più misterioso di questo suggestivo castello trentino. \nSi può prenotare l’ingresso con la caccia al tesoro anche online QUI  \nLa caccia al tesoro è compresa nel prezzo del biglietto d’ingresso! \nCastello di Avio\ntel. 0464-684453\ne-mail: faiavio@fondoambiente.it \nClicca e scopri tutti gli eventi di Halloween al castello di Avio
URL:https://www.iltrentinodeibambini.it/eventi/caccia-al-tesoro-di-halloween-al-castello-di-avio/2025-11-02/
LOCATION:Castello di Avio\, Loc. Sabbionaria\, Avio\, 38063\, Italia
CATEGORIES:Al Museo,Eventi speciali
GEO:45.7327794;10.9397993
X-APPLE-STRUCTURED-LOCATION;VALUE=URI;X-ADDRESS=Castello di Avio Loc. Sabbionaria Avio 38063 Italia;X-APPLE-RADIUS=500;X-TITLE=Loc. Sabbionaria:geo:10.9397993,45.7327794
END:VEVENT
BEGIN:VEVENT
DTSTART;TZID=Europe/Rome:20251102T100000
DTEND;TZID=Europe/Rome:20251102T190000
DTSTAMP:20260423T143508
CREATED:20251007T053548Z
LAST-MODIFIED:20251007T053548Z
UID:10021393-1762077600-1762110000@www.iltrentinodeibambini.it
SUMMARY:Halloween al Parco Avventura Pradastagn
DESCRIPTION:Dal 31 ottobre al 2 novembre 2025 il bosco di Malosco si trasforma in un luogo magico e spaventoso\, popolato da mostri\, ragnatele e sorprese da brivido! Apertura straordinaria fino alle 19.00 \n\nGara delle Zucche: porta la tua zucca intagliata e partecipa al concorso più pauroso dell’anno!\nMerende al Chiosco nel Bosco: waffle caldi e croccanti\, pop corn e tante golosità per grandi e piccini.\n\n  \n\nDove: Parco Avventura Pradastagn – Malosco (Borgo d’Anaunia)\nQuando : dal 31 ottobre al 2 novembre\, dalle 10.00 alle 19.00\n\nInfo e prenotazioni: Parco Avventura Pradastagn 340. 5586023 \nScopri qui il Parco Avventura PradastagnParco Avventura Pradastagn
URL:https://www.iltrentinodeibambini.it/eventi/halloween-al-parco-avventura-pradastagn/2025-11-02/
LOCATION:Parco Avventura Pradastagn\, località Regole di Malosco\, Borgo d’Anaunia\, TN\, Italia
CATEGORIES:Al parco,Eventi speciali
END:VEVENT
BEGIN:VEVENT
DTSTART;TZID=Europe/Rome:20251102T120000
DTEND;TZID=Europe/Rome:20251102T120000
DTSTAMP:20260423T143508
CREATED:20251002T145338Z
LAST-MODIFIED:20251002T145338Z
UID:10021368-1762084800-1762084800@www.iltrentinodeibambini.it
SUMMARY:Divertimento al Paoli Hotel
DESCRIPTION:Il Paoli Hotel a Caldonazzo propone per i mesi di novembre e dicembre delle giornate dedicate alle famiglie e bambini con attività a loro dedicate. \nEcco i prossimi eventi\n\nDOMENICA 2 NOVEMBRE A PRANZO (sempre menu’ libero) con AniMacri\nSABATO 13 DICEMBRE A CENA (menu’ libero) arriva Babbo Natale con la sua magia… preparate le letterine\nDOMENICA 14 A PRANZO (menu’ libero) arriva Babbo Natale con la sua magia… preparate le letterine\n\nPasquetta al Paoli Hotel
URL:https://www.iltrentinodeibambini.it/eventi/divertimento-al-paoli-hotel-2/
LOCATION:Hotel Paoli\, Lochere\, 6\, Caldonazzo\, Trentino\, 38052\, Italia
CATEGORIES:Eventi speciali
GEO:45.9881592;11.2996415
X-APPLE-STRUCTURED-LOCATION;VALUE=URI;X-ADDRESS=Hotel Paoli Lochere 6 Caldonazzo Trentino 38052 Italia;X-APPLE-RADIUS=500;X-TITLE=Lochere\, 6:geo:11.2996415,45.9881592
END:VEVENT
BEGIN:VEVENT
DTSTART;TZID=Europe/Rome:20251102T140000
DTEND;TZID=Europe/Rome:20251102T160000
DTSTAMP:20260423T143508
CREATED:20251019T072925Z
LAST-MODIFIED:20251019T072925Z
UID:10021555-1762092000-1762099200@www.iltrentinodeibambini.it
SUMMARY:Una stella per Flappi
DESCRIPTION:Come volano i pipistrelli? Come funziona il loro udito? Di cosa si nutrono\, e come vanno a caccia? Esistono costellazioni dedicate ai pipistrelli? E qualcuno di loro si è mai chiesto cosa si vede sopra le loro ali? Stanco delle risposte evasive dei genitori\, Flappi deciderà di lasciare il suo fienile per esplorare il cielo stellato e le meraviglie che contiene.\n\nQUANDO: domenica 2 novembre 2025 ore 14.00 in tedesco ed ore 15.00 in italiano\nDURATA: 50 minuti\nCOSTO: Biglietto famiglia: 14\,00 € / 2 adulti e bambini sotto i 16 anni; Biglietto mini-famiglia: 7\,00 € / 1 adulto e bambini sotto i 16 anni; Adulto: 7\,00 €\nPRENOTAZIONE: obbligatoria online fino a 24 ore precedenti l’evento cliccando QUI\n\n\nADATTO A: dai 5 anni \n\n\n\n\n\n\nPlanetarium Südtirol | Alto Adige\ntel. 0471 610020\ne-mail:  info@planetarium.bz.it\n\nScopri qui il Planetarium Alto Adige
URL:https://www.iltrentinodeibambini.it/eventi/una-stella-per-flappi/
LOCATION:Planetario Alto Adige\, San Valentino in Campo\, 5\, Cornedo all'Isarco (BZ)\, 39053
CATEGORIES:Al Museo,Spettacoli
GEO:46.4498296;11.4807445
X-APPLE-STRUCTURED-LOCATION;VALUE=URI;X-ADDRESS=Planetario Alto Adige San Valentino in Campo 5 Cornedo all'Isarco (BZ) 39053;X-APPLE-RADIUS=500;X-TITLE=San Valentino in Campo\, 5:geo:11.4807445,46.4498296
END:VEVENT
BEGIN:VEVENT
DTSTART;TZID=Europe/Rome:20251102T150000
DTEND;TZID=Europe/Rome:20251102T153000
DTSTAMP:20260423T143508
CREATED:20250928T182105Z
LAST-MODIFIED:20250928T182105Z
UID:10021288-1762095600-1762097400@www.iltrentinodeibambini.it
SUMMARY:Il cielo in una stanza 3.0
DESCRIPTION:Gli esperti del Planetario della Fondazione  Museo Civico di Rovereto vi accompagneranno in un viaggio nel Cosmo\, partendo dalla Terra per esplorare il Sistema Solare\, con approfondimenti sulle missioni spaziali\, fino ad arrivare lontano verso nebulose e altri oggetti celesti\, in un susseguirsi di immagini e video spettacolari e coinvolgenti. \nAl raggiungimento del numero massimo di posti disponibili sarà attivato un secondo turno alle ore 16.30. \nTutte le domeniche alle ore 15.00 e\, se esaurito\, anche alle 16.30\nPosti limitati\, prenotazione obbligatoria entro le 17.00 del giorno precedente l’inizio dell’attività.\nLa tariffa di partecipazione è di euro 7 a persona. Biglietto QUI \nChi partecipa allo spettacolo al Planetario ha diritto a un biglietto di ingresso ridotto al museo (euro 7 + euro 5)\, acquistabile QUI \nInfo: 0464 452800 – museo@fondazionemcr.it \nConosci il Museo di Scienze e Archeologia di Rovereto? Scopri di più QUI
URL:https://www.iltrentinodeibambini.it/eventi/il-cielo-in-una-stanza-3-0-3/2025-11-02/
LOCATION:Museo di Scienze e Archeologia e Planetario\, Borgo Santa Caterina\, 41\, Rovereto\, 38068\, Italia
CATEGORIES:Al Museo,Spettacoli
END:VEVENT
BEGIN:VEVENT
DTSTART;TZID=Europe/Rome:20251102T150000
DTEND;TZID=Europe/Rome:20251102T163000
DTSTAMP:20260423T143508
CREATED:20250721T055013Z
LAST-MODIFIED:20251023T124136Z
UID:10021575-1762095600-1762101000@www.iltrentinodeibambini.it
SUMMARY:EsplorAZIONIalCASTELLO
DESCRIPTION:Una visita guidata alla scoperta di ambienti affascinanti\, di segreti e curiosità nel Castello del Buonconsiglio. La visita è pensata per grandi e piccini\, con un linguaggio semplice e momenti coinvolgenti per un’esperienza da condividere in famiglia. \n\nQuando: sabato 1 novembre alle ore 10.30 domenica 2 novembre 2025 alle ore 15.00\nDove: Castello del Buonconsiglio – Trento\nCosto: 8 euro a nucleo familiare\nInfo: tel. 0461 492811 | prenotazione online QUI\n\nScoprite tutte le attività per bambini e famiglie al castello del Buonconsiglio QUI.
URL:https://www.iltrentinodeibambini.it/eventi/esplorazioniincastello/2025-11-02/
LOCATION:Castello del Buonconsiglio\, Trento 
CATEGORIES:Al Museo,Visite guidate
GEO:46.0700915;11.1197626
END:VEVENT
BEGIN:VEVENT
DTSTART;TZID=Europe/Rome:20251102T150000
DTEND;TZID=Europe/Rome:20251102T163000
DTSTAMP:20260423T143508
CREATED:20251102T084319Z
LAST-MODIFIED:20251102T084319Z
UID:10021653-1762095600-1762101000@www.iltrentinodeibambini.it
SUMMARY:LITTLE MART - Paper Garden
DESCRIPTION:Il tema degli incontri Little Mart? Le mostre e le collezioni del museo o\, più in generale\, temi e tecniche legati all’arte contemporanea. Vere e proprie palestre della creatività con laboratori che coinvolgono bambini e adulti proponendo una partecipazione attiva. \nATTIVITA‘: Paper Garden | laboratorio di papercraft per creare fiori e piante di carta. Ci ispireremo alle piante grasse per montare a incastro sagome di cartoncino\, sulle quali sbocceranno piccole corolle fatte con la carta velina. Oppure creeremo una pianta ricadente tagliando e decorando una cascata di foglie. Ai partecipanti si richiede di portare un vaso di terracotta\, ceramica o plastica che servirà a contenere la pianta di carta. Dai 5 ai 12 anni. \nDOVE: Area Educazione – MART Museo di Arte Moderna e Contemporanea Rovereto\, C.so Bettini 43\, Rovereto\nQUANDO: Domenica 2 novembre 2025\, ore 15.00 – 16.30\nCOSTO: 5 euro a bambino. Accompagnatore gratuito\nADATTO A: bambini 5-12 anni\nPRENOTAZIONI:  dal lunedì al venerdì scrivendo a education@mart.trento.it o telefonando allo 0464 454135-108. Il sabato e la domenica presso la biglietteria del Mart (0464 454240). \nConosci già il MART? Scoprilo meglio\, leggi Al MART coi bambini
URL:https://www.iltrentinodeibambini.it/eventi/little-mart-paper-garden/
LOCATION:MART – Museo ArteModerna e Contemporanea Rovereto\, Corso Bettini 43\, Rovereto\, TN\, 38068\, Italia
CATEGORIES:Al Museo,Laboratori
END:VEVENT
BEGIN:VEVENT
DTSTART;TZID=Europe/Rome:20251102T153000
DTEND;TZID=Europe/Rome:20251102T183000
DTSTAMP:20260423T143508
CREATED:20250919T080927Z
LAST-MODIFIED:20250919T081330Z
UID:10021216-1762097400-1762108200@www.iltrentinodeibambini.it
SUMMARY:La Bianca\, la Blu e la Rossa
DESCRIPTION:SPETTACOLO TEATRALE PER BAMBINI E FAMIGLIE | La Bianca\, la Blu e la Rossa sono tre scoppiettanti clownesse: la Bianca\, trasformandosi e colorandosi\, racconta la storia della Blu la cui vita regolarissima viene sconvolta dall’arrivo dell’incontenibile e giocosa Rossa. Una storia che parla di accoglienza e di quanto l’incontro con qualcuno diverso da noi possa arricchire la nostra vita facendoci scoprire nuove possibilità. \n\nQuando: domenica 2 novembre 2025 alle ore 15.30 e alle 17.30\nDove: Teatro San Marco – Trento\nCosto: adulti 6 euro | bambini fino ai 12 anni 4 euro | terzo figlio gratuito\nInfo: consigliato dai 3 anni | acquistate il biglietto QUI\n\nScoprite tutti gli spettacoli della rassegna “La famiglia va a teatro” QUI.
URL:https://www.iltrentinodeibambini.it/eventi/la-bianca-la-blu-e-la-rossa/
LOCATION:Teatro San Marco\, Via San Bernardino \, 8 \, Tento 
CATEGORIES:A teatro,Spettacoli
GEO:46.0641308;11.1292454
X-APPLE-STRUCTURED-LOCATION;VALUE=URI;X-ADDRESS=Teatro San Marco Via San Bernardino  8  Tento;X-APPLE-RADIUS=500;X-TITLE=Via San Bernardino \, 8:geo:11.1292454,46.0641308
END:VEVENT
BEGIN:VEVENT
DTSTART;TZID=Europe/Rome:20251102T160000
DTEND;TZID=Europe/Rome:20251102T170000
DTSTAMP:20260423T143508
CREATED:20251003T073203Z
LAST-MODIFIED:20251003T075204Z
UID:10021371-1762099200-1762102800@www.iltrentinodeibambini.it
SUMMARY:Prendere il volo
DESCRIPTION:SPETTACOLO TEATRALE PER BAMBINI E FAMIGLIE | Zazì è una giovane artista sempre immersa tra matite e colori\, che per vocazione\, fin da bambina accoglie gli uccellini caduti dal nido e li aiuta a prendere il volo. Attraverso le storie degli uccellini che via via incontrerà\, la protagonista imparerà il significato dell’essere diversi ma anche unici\, il saper lasciare andare senza tenere in gabbia e quindi il valore della libertà e della fiducia nell’altro. \nLo spettacolo è preceduto\, alle ore 15.30\, da una merenda. \n\nQuando: domenica 2 novembre 2025 alle ore 16.00\nDove: Teatro di Meano\nCosto: intero 6 euro | ridotto 5\,50 euro | Card Amici dei Teatri 5 euro | inquilini ITEA 3 euro\nInfo: adatto dai 3 anni in su | acquista il biglietto QUI\n\nScoprite tutti gli spettacoli del Teatro di Meano QUI.
URL:https://www.iltrentinodeibambini.it/eventi/prendere-il-volo/
LOCATION:Teatro di Meano\, via delle Sugarine\, 22 \, Meano\, Trento\, 38121\, Italia
CATEGORIES:A teatro,Spettacoli
GEO:46.1263112;11.116785
X-APPLE-STRUCTURED-LOCATION;VALUE=URI;X-ADDRESS=Teatro di Meano via delle Sugarine 22  Meano Trento 38121 Italia;X-APPLE-RADIUS=500;X-TITLE=via delle Sugarine\, 22:geo:11.116785,46.1263112
END:VEVENT
BEGIN:VEVENT
DTSTART;TZID=Europe/Rome:20251102T160000
DTEND;TZID=Europe/Rome:20251102T170000
DTSTAMP:20260423T143508
CREATED:20251028T094622Z
LAST-MODIFIED:20251028T095838Z
UID:10021617-1762099200-1762102800@www.iltrentinodeibambini.it
SUMMARY:Romanzo d'infanzia
DESCRIPTION:SPETTACOLO TEATRALE PER FAMIGLIE. In scena due danzatori che si alternano tra essere genitori e figli e poi di nuovo padre e figlio e madre e figlia e poi fratelli\, sì\, soprattutto fratelli\, e alternano il subire e il ribellarsi e fuggire e difendere e proteggersi e scappare e tornare e farsi rapire per sempre senza ritorni: insomma vivere.\nUna dedica a tutti coloro che non possono fare a meno dell’amore. \n\nQuando: domenica 2 novembre 2025 alle ore 16.00\nDove: Teatro Sociale – Trento\nCosto: adulti 6 euro | bambini (3-14 anni) o possessori di Euregio Family Pass 4 euro\nInfo: età consigliata: 6+ | durata: 55 minuti | acquistate il biglietto online QUI\n\nScoprite tutti gli spettacoli per bambini e famiglie della rassegna “Scappo a teatro” QUI.
URL:https://www.iltrentinodeibambini.it/eventi/romanzo-dinfanzia-2/
LOCATION:Teatro Sociale\, Trento 
CATEGORIES:A teatro,Spettacoli
GEO:46.0747793;11.1217486
END:VEVENT
END:VCALENDAR