BEGIN:VCALENDAR
VERSION:2.0
PRODID:-//Il Trentino dei Bambini - ECPv6.13.2//NONSGML v1.0//EN
CALSCALE:GREGORIAN
METHOD:PUBLISH
X-ORIGINAL-URL:https://www.iltrentinodeibambini.it
X-WR-CALDESC:Eventi per Il Trentino dei Bambini
REFRESH-INTERVAL;VALUE=DURATION:PT1H
X-Robots-Tag:noindex
X-PUBLISHED-TTL:PT1H
BEGIN:VTIMEZONE
TZID:Europe/Rome
BEGIN:DAYLIGHT
TZOFFSETFROM:+0100
TZOFFSETTO:+0200
TZNAME:CEST
DTSTART:20250330T010000
END:DAYLIGHT
BEGIN:STANDARD
TZOFFSETFROM:+0200
TZOFFSETTO:+0100
TZNAME:CET
DTSTART:20251026T010000
END:STANDARD
END:VTIMEZONE
BEGIN:VEVENT
DTSTART;TZID=Europe/Rome:20251105T100000
DTEND;TZID=Europe/Rome:20251105T180000
DTSTAMP:20260423T143535
CREATED:20251016T070040Z
LAST-MODIFIED:20251016T070619Z
UID:10021495-1762336800-1762365600@www.iltrentinodeibambini.it
SUMMARY:Display: mostra interattiva
DESCRIPTION:Display è il progetto di Fondazione Caritro che porta la propria collezione d’arte (oltre 300 opere) fuori dalle sedi istituzionali in formato digitale\, rendendola accessibile a tutti. Tra pannelli narrativi\, schermi interattivi e spazi per dare vita al proprio catalogo personale\, l’esperienza sarà davvero coinvolgente anche per bambini e famiglie. Maggiori info QUI. \nIn mostra fino alla fine di novembre presso la biblioteca comunale di Pinzolo\, nei seguenti orari:  \n\nlunedì dalle ore 14.00 alle 18.00\nda martedì a venerdì dalle ore 10.00 alle 12.00 e dalle ore 14.00 alle 18.00\nsabato dalle ore 10.00 alle 12.00
URL:https://www.iltrentinodeibambini.it/eventi/display-mostra-interattiva-2/2025-11-05/
LOCATION:bilbioteca di Pinzolo\, Via al Sole\, 30\, Pinzolo
CATEGORIES:Eventi speciali
END:VEVENT
BEGIN:VEVENT
DTSTART;TZID=Europe/Rome:20251105T163000
DTEND;TZID=Europe/Rome:20251105T173000
DTSTAMP:20260423T143535
CREATED:20251024T162933Z
LAST-MODIFIED:20251024T162933Z
UID:10021583-1762360200-1762363800@www.iltrentinodeibambini.it
SUMMARY:Un monte di belle storie
DESCRIPTION:Letture animate di albi illustrati su natura e montagna e laboratorio sensoriale esplorativo per bambine e bambini a partire dai 2 anni\, in occasione della mostra “Prima del Bondone“. \n\nQuando: mercoledì 29 ottobre e 5 novembre 2025 dalle ore 16.30\nDove: biblioteca comunale – sede di Sopramonte\nCosto: gratuito\nInfo: tel. 0461.889897 | email: biblioteca.sopramonte@comune.trento.it\n\nScoprite altri appuntamenti per bambini e famiglie nelle biblioteche del Comune di Trento QUI.
URL:https://www.iltrentinodeibambini.it/eventi/un-monte-di-belle-storie/2025-11-05/
LOCATION:Biblioteca di Sopramonte\, Via di Revolta\,4
CATEGORIES:Eventi speciali,In biblioteca
GEO:46.071704;11.0598191
X-APPLE-STRUCTURED-LOCATION;VALUE=URI;X-ADDRESS=Biblioteca di Sopramonte Via di Revolta4;X-APPLE-RADIUS=500;X-TITLE=Via di Revolta\,4:geo:11.0598191,46.071704
END:VEVENT
BEGIN:VEVENT
DTSTART;TZID=Europe/Rome:20251105T163000
DTEND;TZID=Europe/Rome:20251105T173000
DTSTAMP:20260423T143535
CREATED:20251027T094656Z
LAST-MODIFIED:20251027T094656Z
UID:10021608-1762360200-1762363800@www.iltrentinodeibambini.it
SUMMARY:Scacco matto
DESCRIPTION:Giocare a scacchi in biblioteca con il gruppo “impariamo a giocare”: aiuto per principianti e possibilità di giocare tra partecipanti supportati da un istruttore di scacchi. \n\nQuando: mercoledì 29 ottobre e 5 novembre 2025 alle ore 16.30\nDove: biblioteca comunale – Borgo Valsugana\nCosto: partecipazione gratuita\nInfo: prenotazione obbligatoria | tel. 0461 754052 – email: biblioteca@comune.borgo-valsugana.tn.it
URL:https://www.iltrentinodeibambini.it/eventi/scacco-matto/2025-11-05/
LOCATION:biblioteca comunale di Borgo Valsugana\, Via XXIV Maggio\, 7\, Borgo Valsugana
CATEGORIES:In biblioteca
END:VEVENT
BEGIN:VEVENT
DTSTART;TZID=Europe/Rome:20251105T170000
DTEND;TZID=Europe/Rome:20251105T180000
DTSTAMP:20260423T143535
CREATED:20251007T085653Z
LAST-MODIFIED:20251007T085653Z
UID:10021411-1762362000-1762365600@www.iltrentinodeibambini.it
SUMMARY:Corso di scacchi
DESCRIPTION:Corso base di scacchi per bambini e bambine a partire dai 6 anni\, adolescenti e adulti. Maggiori dettagli QUI. \n\nQuando: tutti i mercoledì alle ore 17.00\nDove: biblioteca comunale di Meano\nCosto: partecipazione gratuita\nInfo: prenotazione consigliata allo 0461.889758 o via e-mail biblioteca.meano@comune.trento.it\n\nScoprite tutti gli appuntamenti per bambini e ragazzi nelle biblioteche comunali di Trento QUI.
URL:https://www.iltrentinodeibambini.it/eventi/corso-di-scacchi-3/2025-11-05/
LOCATION:Biblioteca di Meano\, Via delle Sugarine\, 26\, Meano 
CATEGORIES:In biblioteca
GEO:46.1262652;11.1167911
X-APPLE-STRUCTURED-LOCATION;VALUE=URI;X-ADDRESS=Biblioteca di Meano Via delle Sugarine 26 Meano;X-APPLE-RADIUS=500;X-TITLE=Via delle Sugarine\, 26:geo:11.1167911,46.1262652
END:VEVENT
BEGIN:VEVENT
DTSTART;TZID=Europe/Rome:20251105T190000
DTEND;TZID=Europe/Rome:20251105T220000
DTSTAMP:20260423T143535
CREATED:20250418T220930Z
LAST-MODIFIED:20251104T180901Z
UID:10018870-1762369200-1762380000@www.iltrentinodeibambini.it
SUMMARY:Picnic al tramonto da Agriconda
DESCRIPTION:Immagina un picnic in un angolino confortevole tra il verde dei frutteti di Maso Agriconda\, e una selezione di prodotti  a km 0 che troverai nel tuo cestino. Piccoli frutti\, conserve\, pane di montagna\, salumi locali\, puoi scegliere il tuo cesto preferito: cesto di Comano\, Cesto di Maserac\, Cesto dei Bambini e Cesto Picnic Romantico\, in versione classica o deluxe in base alla scelta della bevanda. \n\nPrenotazione entro le 12:00 del giorno stesso; clicca QUI per prenotare\nQuando: prenotabile tutti i giorni dal 9 giugno al 30 settembre 2025: ore 20:00 (1° giugno – 16 luglio) | ore 19:30 (17 luglio – 13 agosto) | ore 19:00 (14 agosto – 30 settembre);\nPunto di ritrovo: Salita al Maso Agriconda | Vigo Lomaso (Comano Terme)\nDurata: 3 ore;\nServizi inclusi: cestino da picnic con prodotti a km 0\, “salottino” riservato con vista tra i vigneti e le coltivazioni di lamponi\, allestito con tutto il necessario per goderti il tuo picnic\nCosto: cesti a partire da 30 euro. Inoltre con Garda Guest Card hai diritto a un prodotto gratuito dallo shop.\n\n\n\n\n\n\n\n\nContatti:\n\n\n\n\n\nAGRICONDA – farm experience\nLocalità Maserac\, 81 81 – 38077 Comano Terme\ntel. 348.1435785\nSito web\n\n\n\n\n\nCi siamo stati anche noi: Picnic a Maso Agriconda nel Lomaso
URL:https://www.iltrentinodeibambini.it/eventi/picnic-al-tramonto-da-agriconda/2025-11-05/
LOCATION:Maso Maserac\, Vigo Lomaso\, Italia
CATEGORIES:Al parco,In fattoria
END:VEVENT
END:VCALENDAR