BEGIN:VCALENDAR
VERSION:2.0
PRODID:-//Il Trentino dei Bambini - ECPv6.13.2//NONSGML v1.0//EN
CALSCALE:GREGORIAN
METHOD:PUBLISH
X-WR-CALNAME:Il Trentino dei Bambini
X-ORIGINAL-URL:https://www.iltrentinodeibambini.it
X-WR-CALDESC:Eventi per Il Trentino dei Bambini
REFRESH-INTERVAL;VALUE=DURATION:PT1H
X-Robots-Tag:noindex
X-PUBLISHED-TTL:PT1H
BEGIN:VTIMEZONE
TZID:Europe/Rome
BEGIN:DAYLIGHT
TZOFFSETFROM:+0100
TZOFFSETTO:+0200
TZNAME:CEST
DTSTART:20250330T010000
END:DAYLIGHT
BEGIN:STANDARD
TZOFFSETFROM:+0200
TZOFFSETTO:+0100
TZNAME:CET
DTSTART:20251026T010000
END:STANDARD
END:VTIMEZONE
BEGIN:VEVENT
DTSTART;TZID=Europe/Rome:20251109T080000
DTEND;TZID=Europe/Rome:20251109T120000
DTSTAMP:20260423T143506
CREATED:20250412T212144Z
LAST-MODIFIED:20250412T212144Z
UID:10018225-1762675200-1762689600@www.iltrentinodeibambini.it
SUMMARY:Colazione in fattoria
DESCRIPTION:Inizia la giornata con una buona colazione a base di prodotti della fattoria e del Garda Trentino e poi vai a conoscere gli animali! \nLa colazione è disponibile a partire dalle 8.00\, mentre l’attività in fattoria comincia alle 10.30. Gli adulti partecipanti possono scegliere se trasformare la colazione in un brunch o seguire i più piccoli alla scoperta della fattoria. \nDOVE:  Azienda Agricola Agrisalus\, Pratosaiano (Arco)\, Via Fibbie\, 22;\nQUANDO: dalle ore 8:00\, tutti i sabati e le domeniche fino al 31 gennaio 2026\nDURATA:  2 ore\nPRENOTAZIONE: obbligatoria entro le 16:00 del giorno prima. Clicca QUI per prenotare online\nCOSA E’ INCLUSO: colazione contadina con prodotti della fattoria e del Garda Trentino\, visita della fattoria didattica (mucche\, maiali\, galline\, conigli)\, possibilità per gli adulti di trasformare la colazione in un brunch.\nCOSTO: 25 euro per i bambini dai 3 agli 11 anni (colazione + visita in fattoria)\, colazione accompagnatori 15 euro\, colazione bambini 3-11 anni 10 euro\, gratis bambini sotto i 2 anni. Sconto per possessori Guest Card. \nAl momento della prenotazione specificare eventuali allergie o intolleranze alimentari. Indossare scarpe comode e  adatte alla campagna. \nINFORMAZIONI\nAGRISALUS\nVia Fibbie\, 22 Arco (TN)\ntel.  379 1179271 \nLa colazione in fattoria da Agrisalus è un’experience promossa da APT Garda Dolomiti. Ci siamo stati anche noi: leggi Colazione in fattoria da Agrisalus \nPer maggiori informazioni potete visitare anche il sito di APT Garda Dolomiti QUI
URL:https://www.iltrentinodeibambini.it/eventi/colazione-in-fattoria-2/2025-11-09/
LOCATION:Agrisalus\, via Fibbie\, 22 - Pratosaiano\, Arco\, 38062\, Italia
CATEGORIES:In fattoria,Visite guidate
END:VEVENT
BEGIN:VEVENT
DTSTART;TZID=Europe/Rome:20251109T093000
DTEND;TZID=Europe/Rome:20251109T173000
DTSTAMP:20260423T143506
CREATED:20251024T092600Z
LAST-MODIFIED:20251024T092600Z
UID:10021581-1762680600-1762709400@www.iltrentinodeibambini.it
SUMMARY:Festa di San Martino - Castel Thun
DESCRIPTION:Il castello e i suoi giardini si trasformeranno in un vivace scenario di incontri\, profumi e creatività\, con un programma ricco di esperienze per tutte le età. Durante la giornata\, i visitatori potranno partecipare a visite guidate\, laboratori creativi\, show cooking e terminare il pomeriggio con una suggestiva lanternata. Maggiori info QUI. \n\nQuando: domenica 9 novembre 2025 dalle ore 9.30\nDove: Castel Thun – Val di Non\nCosto: adulti 5 euro | gratuito per i minori e per i possessori della membership card “Fuori e Oltre”\nInfo: eventi@buonconsiglio.it – tel. 0461 233770\n\n  \nScoprite tutti gli appuntamenti per bambini e famiglie al Castello del Buonconsiglio QUI.
URL:https://www.iltrentinodeibambini.it/eventi/festa-di-san-martino-castel-thun/
LOCATION:Castel Thun\, Vigo di Ton
CATEGORIES:Al Museo,Eventi speciali
GEO:46.2655852;11.0856808
END:VEVENT
BEGIN:VEVENT
DTSTART;TZID=Europe/Rome:20251109T100000
DTEND;TZID=Europe/Rome:20251109T213000
DTSTAMP:20260423T143506
CREATED:20251014T090311Z
LAST-MODIFIED:20251031T130640Z
UID:10021460-1762682400-1762723800@www.iltrentinodeibambini.it
SUMMARY:Armonie d'inverno
DESCRIPTION:Dall’ 8 novembre al 24 dicembre 2025 a Pergine Valsugana torna Armonie d’inverno: non più il solito mercatino di Natale ma un festival che celebra la socialità attraverso tradizioni\, musica e cultura. Ci saranno tantissimi eventi per bambini e famiglie\, a loro sarà dedicato un’intero spazio con giochi e laboratori! Ovviamente non mancheranno le tipiche casette in legno con artigianato e prodotti locali\, l’area ristoro e appuntamenti per tutti i gusti e le età. Inoltre ogni weekend di apertura avrà un tema! \n\nsabato 8 e domenica 9 novembre – OPENING FESTIVAL | il debutto ufficiale in Piazza Gavazzi alle ore 16.30\, seguono concerti live\, musica itinerante\, menù speciali nei locali e un clima di festa\n\nIn particolare per i bambini: \n\nsabato 8 novembre dalle ore 10.00 alle 12.00 e dalle 15.00 alle 16.30 | laboratorio di illustrazione | Artist Nova Studio D’Arte – Piazza Pachi\nsabato 8 e domenica 9 novembre alle ore 15.00 | CORNICE D’AUTUNNO | crea una cornice unica con zucche\, mais e colori caldi della stagione\n\nInoltre\, sempre in via Crivelli\, dall’8 novembre al 21 dicembre 2025 ogni sabato e domenica\, vivi la magia delle feste in realtà virtuale e il sabato sera concediti un aperitivo e menù pizza. \nProgramma completo e info su Armonie d’inverno QUI.
URL:https://www.iltrentinodeibambini.it/eventi/armonie-dinverno-2/2025-11-09/
LOCATION:Pergine\, Pergine
CATEGORIES:Eventi speciali
END:VEVENT
BEGIN:VEVENT
DTSTART;TZID=Europe/Rome:20251109T150000
DTEND;TZID=Europe/Rome:20251109T153000
DTSTAMP:20260423T143506
CREATED:20250928T182105Z
LAST-MODIFIED:20250928T182105Z
UID:10021289-1762700400-1762702200@www.iltrentinodeibambini.it
SUMMARY:Il cielo in una stanza 3.0
DESCRIPTION:Gli esperti del Planetario della Fondazione  Museo Civico di Rovereto vi accompagneranno in un viaggio nel Cosmo\, partendo dalla Terra per esplorare il Sistema Solare\, con approfondimenti sulle missioni spaziali\, fino ad arrivare lontano verso nebulose e altri oggetti celesti\, in un susseguirsi di immagini e video spettacolari e coinvolgenti. \nAl raggiungimento del numero massimo di posti disponibili sarà attivato un secondo turno alle ore 16.30. \nTutte le domeniche alle ore 15.00 e\, se esaurito\, anche alle 16.30\nPosti limitati\, prenotazione obbligatoria entro le 17.00 del giorno precedente l’inizio dell’attività.\nLa tariffa di partecipazione è di euro 7 a persona. Biglietto QUI \nChi partecipa allo spettacolo al Planetario ha diritto a un biglietto di ingresso ridotto al museo (euro 7 + euro 5)\, acquistabile QUI \nInfo: 0464 452800 – museo@fondazionemcr.it \nConosci il Museo di Scienze e Archeologia di Rovereto? Scopri di più QUI
URL:https://www.iltrentinodeibambini.it/eventi/il-cielo-in-una-stanza-3-0-3/2025-11-09/
LOCATION:Museo di Scienze e Archeologia e Planetario\, Borgo Santa Caterina\, 41\, Rovereto\, 38068\, Italia
CATEGORIES:Al Museo,Spettacoli
END:VEVENT
BEGIN:VEVENT
DTSTART;TZID=Europe/Rome:20251109T150000
DTEND;TZID=Europe/Rome:20251109T163000
DTSTAMP:20260423T143506
CREATED:20251102T084632Z
LAST-MODIFIED:20251102T084632Z
UID:10021654-1762700400-1762705800@www.iltrentinodeibambini.it
SUMMARY:LITTLE MART - Nature
DESCRIPTION:Il tema degli incontri Little Mart? Le mostre e le collezioni del museo o\, più in generale\, temi e tecniche legati all’arte contemporanea. Vere e proprie palestre della creatività con laboratori che coinvolgono bambini e adulti proponendo una partecipazione attiva. \nATTIVITA‘: Nature |Un laboratorio alla scoperta dei paesaggi alpini protagonisti della mostra fotografica Trentino Unexpected. Montagne\, boschi e laghi\, ripresi da diverse prospettive\, compongono un ambiente naturale da osservare e reinterpretare mettendolo in relazione alle figure (umane e animali) che lo abitano. Dai 5 ai 10 anni. \nDOVE: Area Educazione – MART Museo di Arte Moderna e Contemporanea Rovereto\, C.so Bettini 43\, Rovereto\nQUANDO: Domenica 9 novembre 2025\, ore 15.00 – 16.30\nCOSTO: 5 euro a bambino. Accompagnatore gratuito\nADATTO A: bambini 5-10 anni\nPRENOTAZIONI:  dal lunedì al venerdì scrivendo a education@mart.trento.it o telefonando allo 0464 454135-108. Il sabato e la domenica presso la biglietteria del Mart (0464 454240). \nConosci già il MART? Scoprilo meglio\, leggi Al MART coi bambini
URL:https://www.iltrentinodeibambini.it/eventi/little-mart-nature/
LOCATION:MART – Museo ArteModerna e Contemporanea Rovereto\, Corso Bettini 43\, Rovereto\, TN\, 38068\, Italia
CATEGORIES:Al Museo,Laboratori
END:VEVENT
BEGIN:VEVENT
DTSTART;TZID=Europe/Rome:20251109T150000
DTEND;TZID=Europe/Rome:20251109T170000
DTSTAMP:20260423T143506
CREATED:20251023T124702Z
LAST-MODIFIED:20251023T124702Z
UID:10021576-1762700400-1762707600@www.iltrentinodeibambini.it
SUMMARY:Favole al castello
DESCRIPTION:Andiamo a scoprire insieme le favole dipinte nelle lunette della Stua della Famea! Osservando con attenzione gli affreschi\, incontreremo tanti animali curiosi e pieni di storie da raccontare. Dopo aver ascoltato le loro avventure\, ogni famiglia potrà costruire un suo libricino popup.Un laboratorio divertente per creare e giocare con le storie… tutti insieme! \n\nQuando: domenica 9 novembre 2025 alle ore 15.00\nDove: Castello del Buonconsiglio – Trento\nCosto: 8 euro a nucleo familiare\nInfo: tel. 0461 492811 | prenotazione online QUI\n\nScoprite tutte le attività per bambini e famiglie al castello del Buonconsiglio QUI.
URL:https://www.iltrentinodeibambini.it/eventi/favole-al-castello/
LOCATION:Castello del Buonconsiglio\, Trento 
CATEGORIES:Al Museo,Laboratori
GEO:46.0700915;11.1197626
END:VEVENT
BEGIN:VEVENT
DTSTART;TZID=Europe/Rome:20251109T153000
DTEND;TZID=Europe/Rome:20251109T183000
DTSTAMP:20260423T143506
CREATED:20250919T081357Z
LAST-MODIFIED:20250919T081357Z
UID:10021217-1762702200-1762713000@www.iltrentinodeibambini.it
SUMMARY:Fragolina
DESCRIPTION:SPETTACOLO TEATRALE PER BAMBINI E FAMIGLIE | Fragolina vive felice tra muschi\, licheni\, alberi\, animali e altre piante del sottobosco. La vita scorre tranquilla. Forse troppo tranquilla. Ed ecco che l’incontro con Cimice\, cinica e un po’ bizzarra\, scatena la curiosità di Fragolina… \n\nQuando: domenica 9 novembre 2025 alle ore 15.30 e alle 17.30\nDove: Teatro San Marco – Trento\nCosto: adulti 6 euro | bambini fino ai 12 anni 4 euro | terzo figlio gratuito\nInfo: consigliato dai 3 anni | acquistate il biglietto QUI\n\nScoprite tutti gli spettacoli della rassegna “La famiglia va a teatro” QUI.
URL:https://www.iltrentinodeibambini.it/eventi/fragolina/
LOCATION:Teatro San Marco\, Via San Bernardino \, 8 \, Tento 
CATEGORIES:A teatro,Spettacoli
GEO:46.0641308;11.1292454
X-APPLE-STRUCTURED-LOCATION;VALUE=URI;X-ADDRESS=Teatro San Marco Via San Bernardino  8  Tento;X-APPLE-RADIUS=500;X-TITLE=Via San Bernardino \, 8:geo:11.1292454,46.0641308
END:VEVENT
BEGIN:VEVENT
DTSTART;TZID=Europe/Rome:20251109T160000
DTEND;TZID=Europe/Rome:20251109T170000
DTSTAMP:20260423T143506
CREATED:20251021T064906Z
LAST-MODIFIED:20251021T082504Z
UID:10021562-1762704000-1762707600@www.iltrentinodeibambini.it
SUMMARY:Musica da urlo
DESCRIPTION:Sin dal suo titolo\, promette al giovanissimo pubblico (0-4 anni) di poter vivere questa esperienza in libertà\, apprezzandola in compagnia dei propri cari\, muovendosi in sala ed esprimendo le emozioni suscitate dalla musica dal vivo… perfino con qualche gioioso urlo! I tre appuntamenti domenicali saranno un’occasione preziosa per sperimentare fin da piccolissimi l’ebbrezza di un concerto dal vivo e senza paura di disturbare nessuno\, permettendo anche ai genitori di vivere quest’esperienza in relax. \nCliccando sulle date troverete maggiori info sull’evento. \n\nQuando: domenica 26 ottobre\, 9 novembre e 7 dicembre 2025 alle ore 16.00 e alle 17.15\nDove: Sala Filarmonica – Trento\nCosto: 1 euro\nInfo: biglietti acquistabili solo in loco | target 0-4 anni\n\nScoprite tutti gli spettacoli musicali per bambini e famiglie della MiniFilarmonica QUI.
URL:https://www.iltrentinodeibambini.it/eventi/musica-da-urlo/2025-11-09/
LOCATION:Sala Filarmonica Trento\, Via Verdi\, 30\, Trento
CATEGORIES:Spettacoli
END:VEVENT
BEGIN:VEVENT
DTSTART;TZID=Europe/Rome:20251109T160000
DTEND;TZID=Europe/Rome:20251109T173000
DTSTAMP:20260423T143507
CREATED:20250911T081153Z
LAST-MODIFIED:20250911T081858Z
UID:10021160-1762704000-1762709400@www.iltrentinodeibambini.it
SUMMARY:Pippi Calzelunghe
DESCRIPTION:SPETTACOLO TEATRALE PER BAMBINI E RAGAZZI | Bambina anticonvenzionale\, anarchica e ironica\, critica verso il mondo degli adulti e contraria ai pregiudizi. Pippi difende l’immaginazione e il gioco\, un universo infantile magico e svincolato da regole. Lo spettacolo esplora il conflitto tra il suo mondo libero e quello normato degli adulti. \n\nQuando: domenica 9 novembre 2025 alle ore 16.00\nDove: Teatro comunale di Pergine\nCosto: intero 7 euro | ridotto (>65\, <26) 6 euro | card Amici dei Teatri\, convenzionate\, Euregio FamilyPass 5 euro | acquistate il biglietto QUI\nInfo: età consigliata dai 5 anni\n\nLo spettacolo è preceduto\, alle ore 15.00\, da un laboratorio gratuito su prenotazione (inviando una mail a biglietteria@teatrodipergine.it). \nScoprite tutti gli spettacoli della rassegna Teatro Ragazzi QUI.
URL:https://www.iltrentinodeibambini.it/eventi/pippi-calzelunghe-2/
LOCATION:Teatro comunale di Pergine\, Piazza Garibaldi 5G\,  \, Pergine Valsugana\, 38057
CATEGORIES:A teatro
GEO:46.06217;11.23885
X-APPLE-STRUCTURED-LOCATION;VALUE=URI;X-ADDRESS=Teatro comunale di Pergine Piazza Garibaldi 5G   Pergine Valsugana 38057;X-APPLE-RADIUS=500;X-TITLE=Piazza Garibaldi 5G\,:geo:11.23885,46.06217
END:VEVENT
BEGIN:VEVENT
DTSTART;TZID=Europe/Rome:20251109T170000
DTEND;TZID=Europe/Rome:20251109T180000
DTSTAMP:20260423T143507
CREATED:20250912T080324Z
LAST-MODIFIED:20250912T080324Z
UID:10021171-1762707600-1762711200@www.iltrentinodeibambini.it
SUMMARY:Il pentolino rosso
DESCRIPTION:SPETTACOLO TEATRALE PER BAMBINI E FAMIGLIE | Uno storia sulla diversità: Antonino è un bambino che trascina sempre dietro di sé il suo pentolino. Un giorno gli è caduto sulla testa e da allora non è più come tutti gli altri… Uno spettacolo sorprendente\, poetico ed emozionante che ci aiuta a capire le differenze\, le possibilità del diverso\, la ricchezza della diversità. \n\nQuando: domenica 9 novembre 2025 alle ore 17.00\nDove: Sala Filarmonica – Rovereto\nCosto: 5 euro | gratuito sotto i 3 anni | acquistate il biglietto QUI\nInfo: adatto dai 4 anni in su\n\nScoprite tutti gli spettacoli del “Festival dei Piccoli” a Rovereto QUI.
URL:https://www.iltrentinodeibambini.it/eventi/il-pentolino-rosso/
LOCATION:Sala Filarmonica\, Via Rosmini\, 86\, Rovereto
CATEGORIES:A teatro,Spettacoli
END:VEVENT
END:VCALENDAR