BEGIN:VCALENDAR
VERSION:2.0
PRODID:-//Il Trentino dei Bambini - ECPv6.13.2//NONSGML v1.0//EN
CALSCALE:GREGORIAN
METHOD:PUBLISH
X-WR-CALNAME:Il Trentino dei Bambini
X-ORIGINAL-URL:https://www.iltrentinodeibambini.it
X-WR-CALDESC:Eventi per Il Trentino dei Bambini
REFRESH-INTERVAL;VALUE=DURATION:PT1H
X-Robots-Tag:noindex
X-PUBLISHED-TTL:PT1H
BEGIN:VTIMEZONE
TZID:Europe/Rome
BEGIN:DAYLIGHT
TZOFFSETFROM:+0100
TZOFFSETTO:+0200
TZNAME:CEST
DTSTART:20250330T010000
END:DAYLIGHT
BEGIN:STANDARD
TZOFFSETFROM:+0200
TZOFFSETTO:+0100
TZNAME:CET
DTSTART:20251026T010000
END:STANDARD
END:VTIMEZONE
BEGIN:VEVENT
DTSTART;TZID=Europe/Rome:20251110T080000
DTEND;TZID=Europe/Rome:20251110T170000
DTSTAMP:20260423T143441
CREATED:20251106T085401Z
LAST-MODIFIED:20251106T085401Z
UID:10021747-1762761600-1762794000@www.iltrentinodeibambini.it
SUMMARY:Storie d'autunno
DESCRIPTION:Lettura ad alta voce di albi illustrati per bambini e bambine a partire dai 3 anni. \n\nQuando: lunedì 10 novembre alle ore 16.30\nDove: biblioteca comunale – sede di Martignano\nCosto: partecipazione gratuita\nInfo: 0461.828402 | ilcolibri.martignano@gmail.com\n\nScoprite tutti gli appuntamenti per bambini e ragazzi nelle biblioteche del comune di Trento QUI.
URL:https://www.iltrentinodeibambini.it/eventi/storie-dautunno/
LOCATION:Martignano\, 38122\, Italia
CATEGORIES:In biblioteca
END:VEVENT
BEGIN:VEVENT
DTSTART;TZID=Europe/Rome:20251110T140000
DTEND;TZID=Europe/Rome:20251110T180000
DTSTAMP:20260423T143441
CREATED:20251016T065538Z
LAST-MODIFIED:20251016T065538Z
UID:10021477-1762783200-1762797600@www.iltrentinodeibambini.it
SUMMARY:Display: mostra interattiva
DESCRIPTION:Display è il progetto di Fondazione Caritro che porta la propria collezione d’arte (oltre 300 opere) fuori dalle sedi istituzionali in formato digitale\, rendendola accessibile a tutti. Tra pannelli narrativi\, schermi interattivi e spazi per dare vita al proprio catalogo personale\, l’esperienza sarà davvero coinvolgente anche per bambini e famiglie. Maggiori info QUI. \nIn mostra fino alla fine di novembre presso la biblioteca comunale di Pinzolo\, nei seguenti orari:  \n\nlunedì dalle ore 14.00 alle 18.00\nda martedì a venerdì dalle ore 10.00 alle 12.00 e dalle ore 14.00 alle 18.00\nsabato dalle ore 10.00 alle 12.00
URL:https://www.iltrentinodeibambini.it/eventi/display-mostra-interattiva/2025-11-10/
LOCATION:bilbioteca di Pinzolo\, Via al Sole\, 30\, Pinzolo
CATEGORIES:Eventi speciali
END:VEVENT
BEGIN:VEVENT
DTSTART;TZID=Europe/Rome:20251110T190000
DTEND;TZID=Europe/Rome:20251110T220000
DTSTAMP:20260423T143441
CREATED:20250418T220930Z
LAST-MODIFIED:20251104T180901Z
UID:10018872-1762801200-1762812000@www.iltrentinodeibambini.it
SUMMARY:Picnic al tramonto da Agriconda
DESCRIPTION:Immagina un picnic in un angolino confortevole tra il verde dei frutteti di Maso Agriconda\, e una selezione di prodotti  a km 0 che troverai nel tuo cestino. Piccoli frutti\, conserve\, pane di montagna\, salumi locali\, puoi scegliere il tuo cesto preferito: cesto di Comano\, Cesto di Maserac\, Cesto dei Bambini e Cesto Picnic Romantico\, in versione classica o deluxe in base alla scelta della bevanda. \n\nPrenotazione entro le 12:00 del giorno stesso; clicca QUI per prenotare\nQuando: prenotabile tutti i giorni dal 9 giugno al 30 settembre 2025: ore 20:00 (1° giugno – 16 luglio) | ore 19:30 (17 luglio – 13 agosto) | ore 19:00 (14 agosto – 30 settembre);\nPunto di ritrovo: Salita al Maso Agriconda | Vigo Lomaso (Comano Terme)\nDurata: 3 ore;\nServizi inclusi: cestino da picnic con prodotti a km 0\, “salottino” riservato con vista tra i vigneti e le coltivazioni di lamponi\, allestito con tutto il necessario per goderti il tuo picnic\nCosto: cesti a partire da 30 euro. Inoltre con Garda Guest Card hai diritto a un prodotto gratuito dallo shop.\n\n\n\n\n\n\n\n\nContatti:\n\n\n\n\n\nAGRICONDA – farm experience\nLocalità Maserac\, 81 81 – 38077 Comano Terme\ntel. 348.1435785\nSito web\n\n\n\n\n\nCi siamo stati anche noi: Picnic a Maso Agriconda nel Lomaso
URL:https://www.iltrentinodeibambini.it/eventi/picnic-al-tramonto-da-agriconda/2025-11-10/
LOCATION:Maso Maserac\, Vigo Lomaso\, Italia
CATEGORIES:Al parco,In fattoria
END:VEVENT
END:VCALENDAR