BEGIN:VCALENDAR
VERSION:2.0
PRODID:-//Il Trentino dei Bambini - ECPv6.13.2//NONSGML v1.0//EN
CALSCALE:GREGORIAN
METHOD:PUBLISH
X-ORIGINAL-URL:https://www.iltrentinodeibambini.it
X-WR-CALDESC:Eventi per Il Trentino dei Bambini
REFRESH-INTERVAL;VALUE=DURATION:PT1H
X-Robots-Tag:noindex
X-PUBLISHED-TTL:PT1H
BEGIN:VTIMEZONE
TZID:Europe/Rome
BEGIN:DAYLIGHT
TZOFFSETFROM:+0100
TZOFFSETTO:+0200
TZNAME:CEST
DTSTART:20250330T010000
END:DAYLIGHT
BEGIN:STANDARD
TZOFFSETFROM:+0200
TZOFFSETTO:+0100
TZNAME:CET
DTSTART:20251026T010000
END:STANDARD
END:VTIMEZONE
BEGIN:VEVENT
DTSTART;TZID=Europe/Rome:20251114T090000
DTEND;TZID=Europe/Rome:20251114T113000
DTSTAMP:20260423T160919
CREATED:20251007T110229Z
LAST-MODIFIED:20251007T110229Z
UID:10021438-1763110800-1763119800@www.iltrentinodeibambini.it
SUMMARY:Centro genitori bambini in biblioteca
DESCRIPTION:Uno spazio dedicato a genitori e bambini da o a 3 anni dove possono condividere momenti di gioco\, musica\, lettura e coccole. \n\nQuando: tutti i giovedì e i venerdì dalle 9.00 alle 11.45\nDove: biblioteca Ragazzi – palazzina Liberty\nCosto: partecipazione gratuita\nInfo: tel. 0461.889559 | biblioteca.ragazzi@comune.trento.it\n\nScoprite tutti gli appuntamenti per bambini e ragazzi nelle biblioteche del comune di Trento QUI.
URL:https://www.iltrentinodeibambini.it/eventi/centro-genitori-bambini-in-biblioteca-3/2025-11-14/
LOCATION:palazzina Liberty\, Piazza Dante\, Trento
CATEGORIES:Eventi speciali,In biblioteca
END:VEVENT
BEGIN:VEVENT
DTSTART;TZID=Europe/Rome:20251114T100000
DTEND;TZID=Europe/Rome:20251114T180000
DTSTAMP:20260423T160919
CREATED:20251016T070040Z
LAST-MODIFIED:20251016T070619Z
UID:10021501-1763114400-1763143200@www.iltrentinodeibambini.it
SUMMARY:Display: mostra interattiva
DESCRIPTION:Display è il progetto di Fondazione Caritro che porta la propria collezione d’arte (oltre 300 opere) fuori dalle sedi istituzionali in formato digitale\, rendendola accessibile a tutti. Tra pannelli narrativi\, schermi interattivi e spazi per dare vita al proprio catalogo personale\, l’esperienza sarà davvero coinvolgente anche per bambini e famiglie. Maggiori info QUI. \nIn mostra fino alla fine di novembre presso la biblioteca comunale di Pinzolo\, nei seguenti orari:  \n\nlunedì dalle ore 14.00 alle 18.00\nda martedì a venerdì dalle ore 10.00 alle 12.00 e dalle ore 14.00 alle 18.00\nsabato dalle ore 10.00 alle 12.00
URL:https://www.iltrentinodeibambini.it/eventi/display-mostra-interattiva-2/2025-11-14/
LOCATION:bilbioteca di Pinzolo\, Via al Sole\, 30\, Pinzolo
CATEGORIES:Eventi speciali
END:VEVENT
BEGIN:VEVENT
DTSTART;TZID=Europe/Rome:20251114T100000
DTEND;TZID=Europe/Rome:20251116T213000
DTSTAMP:20260423T160919
CREATED:20251014T090519Z
LAST-MODIFIED:20251031T130824Z
UID:10021461-1763114400-1763328600@www.iltrentinodeibambini.it
SUMMARY:Armonie d'inverno
DESCRIPTION:Dall’ 8 novembre al 24 dicembre 2025 a Pergine Valsugana torna Armonie d’inverno: non più il solito mercatino di Natale ma un festival che celebra la socialità attraverso tradizioni\, musica e cultura. Ci saranno tantissimi eventi per bambini e famiglie\, a loro sarà dedicato un’intero spazio con giochi e laboratori! Ovviamente non mancheranno le tipiche casette in legno con artigianato e prodotti locali\, l’area ristoro e appuntamenti per tutti i gusti e le età. Inoltre ogni weekend di apertura avrà un tema! \n\nda venerdì 14 a domenica 16 novembre – PERGINE E LE SUE FRAZIONI\n\nIn particolare per i bambini: \n\nsabato 15 novembre alle ore 15.00 | RACCONTI\, TRADIZIONI E DESIDERI | storie\, tradizioni locali e laboratorio creativo per dare forma ai tuoi sogni\nsabato 15 e domenica 16 novembre dalle 15.00 | laboratorio di illustrazione | Artist Nova Studio D’Arte – Piazza Pachi\ndomenica 16 novembre alle ore 15.00 | L’AMICO DELLA FANTASIA | cartolina con decorazione in legno da colorare e portare con te\n\nInoltre\, sempre in via Crivelli\, dall’8 novembre al 21 dicembre 2025 ogni sabato e domenica\, vivi la magia delle feste in realtà virtuale e il sabato sera concediti un aperitivo e menù pizza. \nProgramma completo e info su Armonie d’inverno QUI.
URL:https://www.iltrentinodeibambini.it/eventi/armonie-dinverno-2-2/
LOCATION:Pergine\, Pergine
CATEGORIES:Eventi speciali
END:VEVENT
BEGIN:VEVENT
DTSTART;TZID=Europe/Rome:20251114T143000
DTEND;TZID=Europe/Rome:20251114T170000
DTSTAMP:20260423T160919
CREATED:20250915T064610Z
LAST-MODIFIED:20250915T064610Z
UID:10021205-1763130600-1763139600@www.iltrentinodeibambini.it
SUMMARY:Spazio giochi da tavolo
DESCRIPTION:Uno spazio dedicato a chi ha voglia di cimentarsi con i giochi da tavolo\, senza limiti d’età. \n\nQuando: tutti i venerdì dalle ore 14.30\nDove: biblioteca comunale – sede di Povo\nCosto: partecipazione libera e gratuita\nInfo: tel. 0461-889918 | e-mail biblioteca.povo@comune.trento.it\n\nScoprite tutti gli eventi per bambini e ragazzi nelle biblioteche comunali di Trento QUI.
URL:https://www.iltrentinodeibambini.it/eventi/spazio-giochi-da-tavolo-4/2025-11-14/
LOCATION:biblioteca di Povo\, Via Don Tommaso Dallafior
CATEGORIES:Eventi speciali,In biblioteca
END:VEVENT
BEGIN:VEVENT
DTSTART;TZID=Europe/Rome:20251114T150000
DTEND;TZID=Europe/Rome:20251114T173000
DTSTAMP:20260423T160919
CREATED:20250830T124408Z
LAST-MODIFIED:20250830T124408Z
UID:10021097-1763132400-1763141400@www.iltrentinodeibambini.it
SUMMARY:Il ladro di foglie
DESCRIPTION:Chi ha rubato le foglie dell’albero del Maxi Ooh? Risolvi il mistero con l’aiuto di uno simpatico scoiattolo e scopri quali foglie “spariscono” dai nostri boschi in autunno. \n\nQuando: venerdì 14 novembre 2025 alle 15.00 e alle 16.30\nDove: Maxi Ooh! – Muse\nCosto: 2 euro a partecipante | gratuito per possessori MyMUSE Family & friends\nTarget: 3-6 anni\n\nScoprite tutti gli appuntamenti al Maxi Ooh! QUI.
URL:https://www.iltrentinodeibambini.it/eventi/il-ladro-di-foglie/
LOCATION:MUSE\, Italia
CATEGORIES:Al Museo
GEO:46.0700915;11.1197626
END:VEVENT
BEGIN:VEVENT
DTSTART;TZID=Europe/Rome:20251114T163000
DTEND;TZID=Europe/Rome:20251114T173000
DTSTAMP:20260423T160919
CREATED:20251106T090144Z
LAST-MODIFIED:20251106T090144Z
UID:10021748-1763137800-1763141400@www.iltrentinodeibambini.it
SUMMARY:Storie che suonano
DESCRIPTION:Letture sonore per bambine e bambini a partire dai 3 anni con Evelin Boccone insegnante di musica e musicoterapeuta. \n\nQuando: venerdì 14 novembre 2025 alle 16.30\nDove: biblioteca comunale – sede di Ravina\nCosto: partecipazione libera e gratuita\nInfo: tel. 0461. 889786 | e-mail: biblioteca.ravina@comune.trento.it.\n\nScoprite altre attività nelle biblioteche comunali di Treno QUI.
URL:https://www.iltrentinodeibambini.it/eventi/storie-che-suonano/
LOCATION:Biblioteca di Ravina\, Ravina di Trento 
CATEGORIES:In biblioteca
GEO:46.0378903;11.1074085
END:VEVENT
BEGIN:VEVENT
DTSTART;TZID=Europe/Rome:20251114T170000
DTEND;TZID=Europe/Rome:20251114T180000
DTSTAMP:20260423T160919
CREATED:20250821T144140Z
LAST-MODIFIED:20250821T144140Z
UID:10021001-1763139600-1763143200@www.iltrentinodeibambini.it
SUMMARY:Divoratori di pagine
DESCRIPTION:Gruppo di lettura per ragazzi e ragazze di età tra gli 11 e i 14 anni. Ciascun partecipante porta in gruppo la propria esperienza di lettura e ha la possibilità di confrontarsi con gli altri membri del gruppo.  È un’occasione per mettersi in gioco\, scambiarsi i consigli di lettura e conoscere delle novità editoriali presenti nel catalogo. Appuntamento mensile. \n\nQuando: venerdì 19 settembre\, 17 ottobre\, 14 novembre e 12 dicembre 2025 alle ore 17.00\nDove: Biblioteca dei ragazzi – Palazzina Liberty\nCosto: attività gratuita\nInfo: tel. 0461.889559 | e-mail: biblioteca.ragazzi@comune.trento.it\n\nScoprite tutti gli appuntamenti nelle biblioteche comunali dedicati a bambini e ragazzi QUI
URL:https://www.iltrentinodeibambini.it/eventi/divoratori-di-pagine-2/2025-11-14/
LOCATION:palazzina Liberty\, Piazza Dante\, Trento
CATEGORIES:In biblioteca
END:VEVENT
BEGIN:VEVENT
DTSTART;TZID=Europe/Rome:20251114T190000
DTEND;TZID=Europe/Rome:20251114T200000
DTSTAMP:20260423T160919
CREATED:20251104T110721Z
LAST-MODIFIED:20251104T110721Z
UID:10021693-1763146800-1763150400@www.iltrentinodeibambini.it
SUMMARY:Luci nella notte
DESCRIPTION:LUCI NELLA NOTTE | venerdì 14 novembre e venerdì 12 dicembre 2025 ore 19.00- 20.00 | Una speciale guida in orario serale per scoprire cosa accade al Museo di notte\, quando le porte si chiudono e le luci si spengono | In italiano | biglietto intero 12 euro\, 6-16 anni 8 euro \nSi può prenotarsi direttamente online cliccando QUI e selezionando l’attività prescelta. \nMuseo Scienze Naturali Alto Adige\ntel. 0471 412 964\ne-mail: info@museonatura.it\nsito: www.museonatura.it
URL:https://www.iltrentinodeibambini.it/eventi/luci-nella-notte-4/2025-11-14/
LOCATION:Museo di Scienze Naturali Alto Adige\, Via Bottai 1\, Bolzano\, 39100\, Italia
CATEGORIES:Al Museo,Visite guidate
GEO:46.5009592;11.3569493
X-APPLE-STRUCTURED-LOCATION;VALUE=URI;X-ADDRESS=Museo di Scienze Naturali Alto Adige Via Bottai 1 Bolzano 39100 Italia;X-APPLE-RADIUS=500;X-TITLE=Via Bottai 1:geo:11.3569493,46.5009592
END:VEVENT
END:VCALENDAR