BEGIN:VCALENDAR
VERSION:2.0
PRODID:-//Il Trentino dei Bambini - ECPv6.13.2//NONSGML v1.0//EN
CALSCALE:GREGORIAN
METHOD:PUBLISH
X-WR-CALNAME:Il Trentino dei Bambini
X-ORIGINAL-URL:https://www.iltrentinodeibambini.it
X-WR-CALDESC:Eventi per Il Trentino dei Bambini
REFRESH-INTERVAL;VALUE=DURATION:PT1H
X-Robots-Tag:noindex
X-PUBLISHED-TTL:PT1H
BEGIN:VTIMEZONE
TZID:Europe/Rome
BEGIN:DAYLIGHT
TZOFFSETFROM:+0100
TZOFFSETTO:+0200
TZNAME:CEST
DTSTART:20250330T010000
END:DAYLIGHT
BEGIN:STANDARD
TZOFFSETFROM:+0200
TZOFFSETTO:+0100
TZNAME:CET
DTSTART:20251026T010000
END:STANDARD
END:VTIMEZONE
BEGIN:VEVENT
DTSTART;TZID=Europe/Rome:20251120T090000
DTEND;TZID=Europe/Rome:20251120T113000
DTSTAMP:20260423T143441
CREATED:20251007T110229Z
LAST-MODIFIED:20251007T110229Z
UID:10021439-1763629200-1763638200@www.iltrentinodeibambini.it
SUMMARY:Centro genitori bambini in biblioteca
DESCRIPTION:Uno spazio dedicato a genitori e bambini da o a 3 anni dove possono condividere momenti di gioco\, musica\, lettura e coccole. \n\nQuando: tutti i giovedì e i venerdì dalle 9.00 alle 11.45\nDove: biblioteca Ragazzi – palazzina Liberty\nCosto: partecipazione gratuita\nInfo: tel. 0461.889559 | biblioteca.ragazzi@comune.trento.it\n\nScoprite tutti gli appuntamenti per bambini e ragazzi nelle biblioteche del comune di Trento QUI.
URL:https://www.iltrentinodeibambini.it/eventi/centro-genitori-bambini-in-biblioteca-3/2025-11-20/
LOCATION:palazzina Liberty\, Piazza Dante\, Trento
CATEGORIES:Eventi speciali,In biblioteca
END:VEVENT
BEGIN:VEVENT
DTSTART;TZID=Europe/Rome:20251120T100000
DTEND;TZID=Europe/Rome:20251120T180000
DTSTAMP:20260423T143441
CREATED:20251016T070040Z
LAST-MODIFIED:20251016T070619Z
UID:10021504-1763632800-1763661600@www.iltrentinodeibambini.it
SUMMARY:Display: mostra interattiva
DESCRIPTION:Display è il progetto di Fondazione Caritro che porta la propria collezione d’arte (oltre 300 opere) fuori dalle sedi istituzionali in formato digitale\, rendendola accessibile a tutti. Tra pannelli narrativi\, schermi interattivi e spazi per dare vita al proprio catalogo personale\, l’esperienza sarà davvero coinvolgente anche per bambini e famiglie. Maggiori info QUI. \nIn mostra fino alla fine di novembre presso la biblioteca comunale di Pinzolo\, nei seguenti orari:  \n\nlunedì dalle ore 14.00 alle 18.00\nda martedì a venerdì dalle ore 10.00 alle 12.00 e dalle ore 14.00 alle 18.00\nsabato dalle ore 10.00 alle 12.00
URL:https://www.iltrentinodeibambini.it/eventi/display-mostra-interattiva-2/2025-11-20/
LOCATION:bilbioteca di Pinzolo\, Via al Sole\, 30\, Pinzolo
CATEGORIES:Eventi speciali
END:VEVENT
BEGIN:VEVENT
DTSTART;TZID=Europe/Rome:20251120T100000
DTEND;TZID=Europe/Rome:20251122T180000
DTSTAMP:20260423T143441
CREATED:20231107T125548Z
LAST-MODIFIED:20251031T134450Z
UID:10005444-1763632800-1763834400@www.iltrentinodeibambini.it
SUMMARY:Festival della famiglia
DESCRIPTION:Il Festival della Famiglia\, si svolgerà a Trento dal 20 al 22 novembre 2025: un’edizione completamente rinnovata\, nei contenuti e nella forma. La manifestazione lancia come tema centrale “Costruire il domani”. Tra le novità la “Cittadella della famiglia” presso la Fondazione Caritro e tanti laboratori ed attività ricreative per famiglie e bambini. \n  \nTutti i dettagli QUI.
URL:https://www.iltrentinodeibambini.it/eventi/festival-della-famiglia/
LOCATION:Trento\, Italia
CATEGORIES:Eventi speciali
END:VEVENT
BEGIN:VEVENT
DTSTART;TZID=Europe/Rome:20251120T153000
DTEND;TZID=Europe/Rome:20251120T170000
DTSTAMP:20260423T143441
CREATED:20251105T073450Z
LAST-MODIFIED:20251105T073450Z
UID:10021706-1763652600-1763658000@www.iltrentinodeibambini.it
SUMMARY:Letture - Baby Geolabs
DESCRIPTION:Storie reali sul nostro fantastico mondo\, seguite da mini attività che lasciano il segno. \n\nQuando: 6\, 13\, 20 e 27 novembre 2025 alle ore 15.30\nDove: Museo Geologico delle Dolomiti – Predazzo\nCosto: gratuito\nInfo: target 3-6 anni | attività su prenotazione QUI 
URL:https://www.iltrentinodeibambini.it/eventi/letture-baby-geolabs/2025-11-20/
LOCATION:Museo Geologico delle Dolomiti\, Piazza SS. Filippo e Giacomo 1\, Predazzo 
CATEGORIES:Al Museo,Laboratori
GEO:46.3128605;11.602666
X-APPLE-STRUCTURED-LOCATION;VALUE=URI;X-ADDRESS=Museo Geologico delle Dolomiti Piazza SS. Filippo e Giacomo 1 Predazzo;X-APPLE-RADIUS=500;X-TITLE=Piazza SS. Filippo e Giacomo 1:geo:11.602666,46.3128605
END:VEVENT
BEGIN:VEVENT
DTSTART;TZID=Europe/Rome:20251120T163000
DTEND;TZID=Europe/Rome:20251120T173000
DTSTAMP:20260423T143441
CREATED:20250901T095001Z
LAST-MODIFIED:20250901T104847Z
UID:10021115-1763656200-1763659800@www.iltrentinodeibambini.it
SUMMARY:It's story time
DESCRIPTION:Letture ad alta voce in inglese per bambine e bambini dai 3 ai 6 anni. \n\nQuando: giovedì 18 settembre\, 9 ottobre\, 20 novembre e 18 dicembre 2025 alle 16.30\nDove: biblioteca comunale – sede di Mattarello\nCosto: partecipazione libera e gratuita\nInfo: tel. 0461.889868 | e-mail: biblioteca.mattarello@comune.trento.it.\n\nScoprite altre attività nelle biblioteche comunali di Treno QUI.
URL:https://www.iltrentinodeibambini.it/eventi/its-story-time-7/2025-11-20/
LOCATION:Biblioteca di Mattarello\, Mattarello 
CATEGORIES:In biblioteca
GEO:46.0062499;11.1366731
END:VEVENT
BEGIN:VEVENT
DTSTART;TZID=Europe/Rome:20251120T163000
DTEND;TZID=Europe/Rome:20251120T173000
DTSTAMP:20260423T143441
CREATED:20250929T150734Z
LAST-MODIFIED:20251020T114217Z
UID:10021343-1763656200-1763659800@www.iltrentinodeibambini.it
SUMMARY:Letture in cinese
DESCRIPTION:Lettura ad alta voce in lingua cinese per bambini e bambine dai 3 anni. \n\nQuando: sabato 25 ottobre\, 22 novembre e 20 dicembre 2025 alle ore 16.30\nDove: biblioteca dei ragazzi – palazzina Liberty\nCosto: partecipazione gratuita\nInfo: 0461.889559 | biblioteca.ragazzi@comune.trento.it\n\nScoprite tutti gli appuntamenti per bambini e ragazzi nelle biblioteche del comune di Trento QUI.
URL:https://www.iltrentinodeibambini.it/eventi/letture-in-cinese-2/2025-11-20/
LOCATION:palazzina Liberty\, Piazza Dante\, Trento
CATEGORIES:In biblioteca
END:VEVENT
BEGIN:VEVENT
DTSTART;TZID=Europe/Rome:20251120T163000
DTEND;TZID=Europe/Rome:20251120T173000
DTSTAMP:20260423T143441
CREATED:20251106T092001Z
LAST-MODIFIED:20251106T092001Z
UID:10021751-1763656200-1763659800@www.iltrentinodeibambini.it
SUMMARY:Tante storie da ascoltare
DESCRIPTION:Letture ad alta voce di albi illustrati per bambine e bambini dai 3 anni. \n\nQuando: giovedì 20 novembre 2025 alle 16.30\nDove: biblioteca comunale – sede di Povo\nCosto: partecipazione gratuita\nInfo: tel. 0461.889918 | biblioteca.povo@comune.trento.it\n\nTutti gli appuntamenti per bambini e ragazzi nelle biblioteche del comune di Trento QUI.
URL:https://www.iltrentinodeibambini.it/eventi/tante-storie-da-ascoltare-2/
LOCATION:biblioteca di Povo\, Via Don Tommaso Dallafior
CATEGORIES:In biblioteca
END:VEVENT
BEGIN:VEVENT
DTSTART;TZID=Europe/Rome:20251120T173000
DTEND;TZID=Europe/Rome:20251120T200000
DTSTAMP:20260423T143441
CREATED:20251104T111130Z
LAST-MODIFIED:20251104T111130Z
UID:10021696-1763659800-1763668800@www.iltrentinodeibambini.it
SUMMARY:La natura al microscopio - i coralli
DESCRIPTION:LA NATURA AL MICROSCOPIO – I CORALLI | giovedì 20 novembre 2025 ore 17.30-20.00 | Per gli amanti del microscopio e delle barriere coralline l’emozionante scoperta degli animali più affascinanti dell’acquario: i coralli | In italiano | Biglietto 12 euro a persona (consigliato dai 12 anni) \nSi può prenotarsi direttamente online cliccando QUI e selezionando l’attività prescelta. \nMuseo Scienze Naturali Alto Adige\ntel. 0471 412 964\ne-mail: info@museonatura.it\nsito: www.museonatura.it
URL:https://www.iltrentinodeibambini.it/eventi/la-natura-al-microscopio-i-coralli/
LOCATION:Museo di Scienze Naturali Alto Adige\, Via Bottai 1\, Bolzano\, 39100\, Italia
CATEGORIES:Al Museo,Laboratori,Visite guidate
GEO:46.5009592;11.3569493
X-APPLE-STRUCTURED-LOCATION;VALUE=URI;X-ADDRESS=Museo di Scienze Naturali Alto Adige Via Bottai 1 Bolzano 39100 Italia;X-APPLE-RADIUS=500;X-TITLE=Via Bottai 1:geo:11.3569493,46.5009592
END:VEVENT
END:VCALENDAR