BEGIN:VCALENDAR
VERSION:2.0
PRODID:-//Il Trentino dei Bambini - ECPv6.13.2//NONSGML v1.0//EN
CALSCALE:GREGORIAN
METHOD:PUBLISH
X-ORIGINAL-URL:https://www.iltrentinodeibambini.it
X-WR-CALDESC:Eventi per Il Trentino dei Bambini
REFRESH-INTERVAL;VALUE=DURATION:PT1H
X-Robots-Tag:noindex
X-PUBLISHED-TTL:PT1H
BEGIN:VTIMEZONE
TZID:Europe/Rome
BEGIN:DAYLIGHT
TZOFFSETFROM:+0100
TZOFFSETTO:+0200
TZNAME:CEST
DTSTART:20250330T010000
END:DAYLIGHT
BEGIN:STANDARD
TZOFFSETFROM:+0200
TZOFFSETTO:+0100
TZNAME:CET
DTSTART:20251026T010000
END:STANDARD
END:VTIMEZONE
BEGIN:VEVENT
DTSTART;TZID=Europe/Rome:20251120T100000
DTEND;TZID=Europe/Rome:20251122T180000
DTSTAMP:20260423T143535
CREATED:20231107T125548Z
LAST-MODIFIED:20251031T134450Z
UID:10005444-1763632800-1763834400@www.iltrentinodeibambini.it
SUMMARY:Festival della famiglia
DESCRIPTION:Il Festival della Famiglia\, si svolgerà a Trento dal 20 al 22 novembre 2025: un’edizione completamente rinnovata\, nei contenuti e nella forma. La manifestazione lancia come tema centrale “Costruire il domani”. Tra le novità la “Cittadella della famiglia” presso la Fondazione Caritro e tanti laboratori ed attività ricreative per famiglie e bambini. \n  \nTutti i dettagli QUI.
URL:https://www.iltrentinodeibambini.it/eventi/festival-della-famiglia/
LOCATION:Trento\, Italia
CATEGORIES:Eventi speciali
END:VEVENT
BEGIN:VEVENT
DTSTART;TZID=Europe/Rome:20251121T090000
DTEND;TZID=Europe/Rome:20251121T113000
DTSTAMP:20260423T143535
CREATED:20251007T110229Z
LAST-MODIFIED:20251007T110229Z
UID:10021440-1763715600-1763724600@www.iltrentinodeibambini.it
SUMMARY:Centro genitori bambini in biblioteca
DESCRIPTION:Uno spazio dedicato a genitori e bambini da o a 3 anni dove possono condividere momenti di gioco\, musica\, lettura e coccole. \n\nQuando: tutti i giovedì e i venerdì dalle 9.00 alle 11.45\nDove: biblioteca Ragazzi – palazzina Liberty\nCosto: partecipazione gratuita\nInfo: tel. 0461.889559 | biblioteca.ragazzi@comune.trento.it\n\nScoprite tutti gli appuntamenti per bambini e ragazzi nelle biblioteche del comune di Trento QUI.
URL:https://www.iltrentinodeibambini.it/eventi/centro-genitori-bambini-in-biblioteca-3/2025-11-21/
LOCATION:palazzina Liberty\, Piazza Dante\, Trento
CATEGORIES:Eventi speciali,In biblioteca
END:VEVENT
BEGIN:VEVENT
DTSTART;TZID=Europe/Rome:20251121T100000
DTEND;TZID=Europe/Rome:20251121T180000
DTSTAMP:20260423T143535
CREATED:20251016T070040Z
LAST-MODIFIED:20251016T070619Z
UID:10021505-1763719200-1763748000@www.iltrentinodeibambini.it
SUMMARY:Display: mostra interattiva
DESCRIPTION:Display è il progetto di Fondazione Caritro che porta la propria collezione d’arte (oltre 300 opere) fuori dalle sedi istituzionali in formato digitale\, rendendola accessibile a tutti. Tra pannelli narrativi\, schermi interattivi e spazi per dare vita al proprio catalogo personale\, l’esperienza sarà davvero coinvolgente anche per bambini e famiglie. Maggiori info QUI. \nIn mostra fino alla fine di novembre presso la biblioteca comunale di Pinzolo\, nei seguenti orari:  \n\nlunedì dalle ore 14.00 alle 18.00\nda martedì a venerdì dalle ore 10.00 alle 12.00 e dalle ore 14.00 alle 18.00\nsabato dalle ore 10.00 alle 12.00
URL:https://www.iltrentinodeibambini.it/eventi/display-mostra-interattiva-2/2025-11-21/
LOCATION:bilbioteca di Pinzolo\, Via al Sole\, 30\, Pinzolo
CATEGORIES:Eventi speciali
END:VEVENT
BEGIN:VEVENT
DTSTART;TZID=Europe/Rome:20251121T100000
DTEND;TZID=Europe/Rome:20251123T213000
DTSTAMP:20260423T143535
CREATED:20251014T090901Z
LAST-MODIFIED:20251117T100151Z
UID:10021463-1763719200-1763933400@www.iltrentinodeibambini.it
SUMMARY:Armonie d'inverno
DESCRIPTION:Dall’ 8 novembre al 24 dicembre 2025 a Pergine Valsugana torna Armonie d’inverno: non più il solito mercatino di Natale ma un festival che celebra la socialità attraverso tradizioni\, musica e cultura. Ci saranno tantissimi eventi per bambini e famiglie\, a loro sarà dedicato un’intero spazio con giochi e laboratori! Ovviamente non mancheranno le tipiche casette in legno con artigianato e prodotti locali\, l’area ristoro e appuntamenti per tutti i gusti e le età. Inoltre ogni weekend di apertura avrà un tema! \n\nda venerdì 21 a domenica 23 novembre – CONNESSIONI – Il cuore del festival\n\nIn particolare per i bambini: \n\nvenerdì 21 novembre alle ore 16.30 | letture per bambin* | Libreria Athena – Piazza Garbari\nsabato 22 novembre alle ore 10.30 | letture ad alta voce per bambin* | biblioteca comunale Pergine\nsabato 22 novembre alle ore 15.00 | DIPINGIAMO ARMONIE: CONNESSIONI ARTISTICHE | connessioni artistiche: un’opera collettiva\, da dipingere insieme\ndomenica 23 novembre alle ore 15.00 | UN ANGIOLLETTO PER TE | realizza il tuo angioletto: un dono delicato da appendere o regalare\n\nInoltre\, sempre in via Crivelli\, dall’8 novembre al 21 dicembre 2025 ogni sabato e domenica\, vivi la magia delle feste in realtà virtuale e il sabato sera concediti un aperitivo e menù pizza. \nProgramma completo e info su Armonie d’inverno QUI.
URL:https://www.iltrentinodeibambini.it/eventi/armonie-dinverno-2-2-2/
LOCATION:Pergine\, Pergine
CATEGORIES:Eventi speciali
END:VEVENT
BEGIN:VEVENT
DTSTART;TZID=Europe/Rome:20251121T143000
DTEND;TZID=Europe/Rome:20251121T170000
DTSTAMP:20260423T143535
CREATED:20250915T064610Z
LAST-MODIFIED:20250915T064610Z
UID:10021206-1763735400-1763744400@www.iltrentinodeibambini.it
SUMMARY:Spazio giochi da tavolo
DESCRIPTION:Uno spazio dedicato a chi ha voglia di cimentarsi con i giochi da tavolo\, senza limiti d’età. \n\nQuando: tutti i venerdì dalle ore 14.30\nDove: biblioteca comunale – sede di Povo\nCosto: partecipazione libera e gratuita\nInfo: tel. 0461-889918 | e-mail biblioteca.povo@comune.trento.it\n\nScoprite tutti gli eventi per bambini e ragazzi nelle biblioteche comunali di Trento QUI.
URL:https://www.iltrentinodeibambini.it/eventi/spazio-giochi-da-tavolo-4/2025-11-21/
LOCATION:biblioteca di Povo\, Via Don Tommaso Dallafior
CATEGORIES:Eventi speciali,In biblioteca
END:VEVENT
BEGIN:VEVENT
DTSTART;TZID=Europe/Rome:20251121T150000
DTEND;TZID=Europe/Rome:20251121T173000
DTSTAMP:20260423T143535
CREATED:20251007T105739Z
LAST-MODIFIED:20251007T105739Z
UID:10021424-1763737200-1763746200@www.iltrentinodeibambini.it
SUMMARY:Centro genitori bambini in biblioteca
DESCRIPTION:Uno spazio dedicato a genitori e bambini fino a 6 anni dove possono condividere momenti di gioco\, musica\, lettura e coccole. \n\nQuando: il venerdì\, ogni 2 settimane\, dalle ore 15.00\nDove: biblioteca comunale – sede di Meano\nCosto: partecipazione gratuita\nInfo: tel. 0461.889559\n\nScoprite tutti gli appuntamenti per bambini e ragazzi nelle biblioteche del comune di Trento QUI.
URL:https://www.iltrentinodeibambini.it/eventi/centro-genitori-bambini-in-biblioteca-2/2025-11-21/
LOCATION:Biblioteca di Meano\, Via delle Sugarine\, 26\, Meano 
CATEGORIES:Eventi speciali,In biblioteca
GEO:46.1262652;11.1167911
X-APPLE-STRUCTURED-LOCATION;VALUE=URI;X-ADDRESS=Biblioteca di Meano Via delle Sugarine 26 Meano;X-APPLE-RADIUS=500;X-TITLE=Via delle Sugarine\, 26:geo:11.1167911,46.1262652
END:VEVENT
BEGIN:VEVENT
DTSTART;TZID=Europe/Rome:20251121T170000
DTEND;TZID=Europe/Rome:20251121T180000
DTSTAMP:20260423T143535
CREATED:20250821T141047Z
LAST-MODIFIED:20250821T141047Z
UID:10020985-1763744400-1763748000@www.iltrentinodeibambini.it
SUMMARY:Divoratori di libri
DESCRIPTION:Gruppo di lettura per ragazzi e ragazze di età tra gli 11 e i 14 anni. Ciascun partecipante porta in gruppo la propria esperienza di lettura e ha la possibilità di confrontarsi con gli altri membri del gruppo.  È un’occasione per mettersi in gioco\, scambiarsi i consigli di lettura e conoscere delle novità editoriali presenti nel catalogo. Appuntamento mensile. \n\nQuando: venerdì 26 settembre\, 24 ottobre\, 21 novembre e 19 dicembre 2025 alle ore 17.00\nDove: Biblioteca dei ragazzi – Palazzina Liberty\nCosto: attività gratuita\nInfo: tel. 0461.889559 | e-mail: biblioteca.ragazzi@comune.trento.it\n\nScoprite tutti gli appuntamenti nelle biblioteche comunali dedicati a bambini e ragazzi QUI
URL:https://www.iltrentinodeibambini.it/eventi/divoratori-di-libri-2/2025-11-21/
LOCATION:palazzina Liberty\, Piazza Dante\, Trento
CATEGORIES:In biblioteca
END:VEVENT
END:VCALENDAR