BEGIN:VCALENDAR
VERSION:2.0
PRODID:-//Il Trentino dei Bambini - ECPv6.13.2//NONSGML v1.0//EN
CALSCALE:GREGORIAN
METHOD:PUBLISH
X-ORIGINAL-URL:https://www.iltrentinodeibambini.it
X-WR-CALDESC:Eventi per Il Trentino dei Bambini
REFRESH-INTERVAL;VALUE=DURATION:PT1H
X-Robots-Tag:noindex
X-PUBLISHED-TTL:PT1H
BEGIN:VTIMEZONE
TZID:Europe/Rome
BEGIN:DAYLIGHT
TZOFFSETFROM:+0100
TZOFFSETTO:+0200
TZNAME:CEST
DTSTART:20250330T010000
END:DAYLIGHT
BEGIN:STANDARD
TZOFFSETFROM:+0200
TZOFFSETTO:+0100
TZNAME:CET
DTSTART:20251026T010000
END:STANDARD
END:VTIMEZONE
BEGIN:VEVENT
DTSTART;TZID=Europe/Rome:20251125T100000
DTEND;TZID=Europe/Rome:20251125T180000
DTSTAMP:20260423T131013
CREATED:20251016T070040Z
LAST-MODIFIED:20251016T070619Z
UID:10021506-1764064800-1764093600@www.iltrentinodeibambini.it
SUMMARY:Display: mostra interattiva
DESCRIPTION:Display è il progetto di Fondazione Caritro che porta la propria collezione d’arte (oltre 300 opere) fuori dalle sedi istituzionali in formato digitale\, rendendola accessibile a tutti. Tra pannelli narrativi\, schermi interattivi e spazi per dare vita al proprio catalogo personale\, l’esperienza sarà davvero coinvolgente anche per bambini e famiglie. Maggiori info QUI. \nIn mostra fino alla fine di novembre presso la biblioteca comunale di Pinzolo\, nei seguenti orari:  \n\nlunedì dalle ore 14.00 alle 18.00\nda martedì a venerdì dalle ore 10.00 alle 12.00 e dalle ore 14.00 alle 18.00\nsabato dalle ore 10.00 alle 12.00
URL:https://www.iltrentinodeibambini.it/eventi/display-mostra-interattiva-2/2025-11-25/
LOCATION:bilbioteca di Pinzolo\, Via al Sole\, 30\, Pinzolo
CATEGORIES:Eventi speciali
END:VEVENT
BEGIN:VEVENT
DTSTART;TZID=Europe/Rome:20251125T180000
DTEND;TZID=Europe/Rome:20251125T193000
DTSTAMP:20260423T131013
CREATED:20251104T111340Z
LAST-MODIFIED:20251104T111340Z
UID:10021697-1764093600-1764099000@www.iltrentinodeibambini.it
SUMMARY:Lungo il Sentiero
DESCRIPTION:LUNGO IL SENTIERO | martedì 25 novembre 2025 ore 18.00 – 19.30 | proiezione film documentario. Tre naturalisti ripercorrono ‘Il Sentiero dei lupi’ e a documentano l’inizio del ritorno del lupo sulle montagne del bellunese | In italiano | Ingresso libero \nSi può prenotarsi direttamente online cliccando QUI e selezionando l’attività prescelta. \nMuseo Scienze Naturali Alto Adige\ntel. 0471 412 964\ne-mail: info@museonatura.it\nsito: www.museonatura.it
URL:https://www.iltrentinodeibambini.it/eventi/lungo-il-sentiero/
LOCATION:Museo di Scienze Naturali Alto Adige\, Via Bottai 1\, Bolzano\, 39100\, Italia
CATEGORIES:Al Museo,Spettacoli
GEO:46.5009592;11.3569493
X-APPLE-STRUCTURED-LOCATION;VALUE=URI;X-ADDRESS=Museo di Scienze Naturali Alto Adige Via Bottai 1 Bolzano 39100 Italia;X-APPLE-RADIUS=500;X-TITLE=Via Bottai 1:geo:11.3569493,46.5009592
END:VEVENT
END:VCALENDAR