BEGIN:VCALENDAR
VERSION:2.0
PRODID:-//Il Trentino dei Bambini - ECPv6.13.2//NONSGML v1.0//EN
CALSCALE:GREGORIAN
METHOD:PUBLISH
X-ORIGINAL-URL:https://www.iltrentinodeibambini.it
X-WR-CALDESC:Eventi per Il Trentino dei Bambini
REFRESH-INTERVAL;VALUE=DURATION:PT1H
X-Robots-Tag:noindex
X-PUBLISHED-TTL:PT1H
BEGIN:VTIMEZONE
TZID:Europe/Rome
BEGIN:DAYLIGHT
TZOFFSETFROM:+0100
TZOFFSETTO:+0200
TZNAME:CEST
DTSTART:20250330T010000
END:DAYLIGHT
BEGIN:STANDARD
TZOFFSETFROM:+0200
TZOFFSETTO:+0100
TZNAME:CET
DTSTART:20251026T010000
END:STANDARD
END:VTIMEZONE
BEGIN:VEVENT
DTSTART;TZID=Europe/Rome:20251126T100000
DTEND;TZID=Europe/Rome:20251126T180000
DTSTAMP:20260423T131013
CREATED:20251016T070040Z
LAST-MODIFIED:20251016T070619Z
UID:10021507-1764151200-1764180000@www.iltrentinodeibambini.it
SUMMARY:Display: mostra interattiva
DESCRIPTION:Display è il progetto di Fondazione Caritro che porta la propria collezione d’arte (oltre 300 opere) fuori dalle sedi istituzionali in formato digitale\, rendendola accessibile a tutti. Tra pannelli narrativi\, schermi interattivi e spazi per dare vita al proprio catalogo personale\, l’esperienza sarà davvero coinvolgente anche per bambini e famiglie. Maggiori info QUI. \nIn mostra fino alla fine di novembre presso la biblioteca comunale di Pinzolo\, nei seguenti orari:  \n\nlunedì dalle ore 14.00 alle 18.00\nda martedì a venerdì dalle ore 10.00 alle 12.00 e dalle ore 14.00 alle 18.00\nsabato dalle ore 10.00 alle 12.00
URL:https://www.iltrentinodeibambini.it/eventi/display-mostra-interattiva-2/2025-11-26/
LOCATION:bilbioteca di Pinzolo\, Via al Sole\, 30\, Pinzolo
CATEGORIES:Eventi speciali
END:VEVENT
BEGIN:VEVENT
DTSTART;TZID=Europe/Rome:20251126T163000
DTEND;TZID=Europe/Rome:20251126T173000
DTSTAMP:20260423T131013
CREATED:20251027T095358Z
LAST-MODIFIED:20251027T095358Z
UID:10021612-1764174600-1764178200@www.iltrentinodeibambini.it
SUMMARY:Scacco matto
DESCRIPTION:Giocare a scacchi in biblioteca con il gruppo “miglioriamo a giocare”: quattro appuntamenti per affinare la tecnica\, ognuno dedicato ad un tema. \n\nQuando: mercoledì 12 e 26 novembre\, 10 e 17 dicembre 2025 alle ore 16.30\nDove: biblioteca comunale – Borgo Valsugana\nCosto: partecipazione gratuita\nInfo: prenotazione obbligatoria | tel. 0461 754052 – email: biblioteca@comune.borgo-valsugana.tn.it
URL:https://www.iltrentinodeibambini.it/eventi/scacco-matto-2/2025-11-26/
LOCATION:biblioteca comunale di Borgo Valsugana\, Via XXIV Maggio\, 7\, Borgo Valsugana
CATEGORIES:Eventi speciali,In biblioteca
END:VEVENT
BEGIN:VEVENT
DTSTART;TZID=Europe/Rome:20251126T163000
DTEND;TZID=Europe/Rome:20251126T173000
DTSTAMP:20260423T131013
CREATED:20251124T163747Z
LAST-MODIFIED:20251124T163747Z
UID:10021846-1764174600-1764178200@www.iltrentinodeibambini.it
SUMMARY:L'ora delle storie
DESCRIPTION:Lettura ad alta voce di albi illustrati per bambini e bambine dai 3 anni a cura delle ragazze in Servizio Civile. \n\nQuando: mercoledì 26 novembre 2025 alle ore 16.30\nDove: biblioteca comunale – sede di Sopramonte\nCosto: partecipazione gratuita\nInfo: 0461.889897 | biblioteca.sopramonte@comune.trento.it\n\nScoprite tutti gli appuntamenti per bambini e ragazzi nelle biblioteche del comune di Trento QUI.
URL:https://www.iltrentinodeibambini.it/eventi/lora-delle-storie-2-2/
LOCATION:Biblioteca di Sopramonte\, Via di Revolta\,4
CATEGORIES:In biblioteca
GEO:46.071704;11.0598191
X-APPLE-STRUCTURED-LOCATION;VALUE=URI;X-ADDRESS=Biblioteca di Sopramonte Via di Revolta4;X-APPLE-RADIUS=500;X-TITLE=Via di Revolta\,4:geo:11.0598191,46.071704
END:VEVENT
BEGIN:VEVENT
DTSTART;TZID=Europe/Rome:20251126T170000
DTEND;TZID=Europe/Rome:20251126T180000
DTSTAMP:20260423T131013
CREATED:20251007T085653Z
LAST-MODIFIED:20251007T085653Z
UID:10021414-1764176400-1764180000@www.iltrentinodeibambini.it
SUMMARY:Corso di scacchi
DESCRIPTION:Corso base di scacchi per bambini e bambine a partire dai 6 anni\, adolescenti e adulti. Maggiori dettagli QUI. \n\nQuando: tutti i mercoledì alle ore 17.00\nDove: biblioteca comunale di Meano\nCosto: partecipazione gratuita\nInfo: prenotazione consigliata allo 0461.889758 o via e-mail biblioteca.meano@comune.trento.it\n\nScoprite tutti gli appuntamenti per bambini e ragazzi nelle biblioteche comunali di Trento QUI.
URL:https://www.iltrentinodeibambini.it/eventi/corso-di-scacchi-3/2025-11-26/
LOCATION:Biblioteca di Meano\, Via delle Sugarine\, 26\, Meano 
CATEGORIES:In biblioteca
GEO:46.1262652;11.1167911
X-APPLE-STRUCTURED-LOCATION;VALUE=URI;X-ADDRESS=Biblioteca di Meano Via delle Sugarine 26 Meano;X-APPLE-RADIUS=500;X-TITLE=Via delle Sugarine\, 26:geo:11.1167911,46.1262652
END:VEVENT
BEGIN:VEVENT
DTSTART;TZID=Europe/Rome:20251126T173000
DTEND;TZID=Europe/Rome:20251126T183000
DTSTAMP:20260423T131013
CREATED:20251106T092843Z
LAST-MODIFIED:20251106T092843Z
UID:10021752-1764178200-1764181800@www.iltrentinodeibambini.it
SUMMARY:Il mercoledì delle storie
DESCRIPTION:Letture ad alta voce per bambine e bambini dai 3 ai 6 anni. \n\nQuando: mercoledì 26 novembre 2025 alle 17.30\nDove: biblioteca ragazzi – palazzina Liberty\nCosto: partecipazione libera e gratuita\nInfo: tel. 0461.889559 | e-mail: biblioteca.ragazzi@comune.trento.it.\n\nScoprite altre attività nelle biblioteche comunali di Treno QUI.
URL:https://www.iltrentinodeibambini.it/eventi/il-mercoledi-delle-storie-3-2/
LOCATION:palazzina Liberty\, Piazza Dante\, Trento
CATEGORIES:In biblioteca
END:VEVENT
END:VCALENDAR