BEGIN:VCALENDAR
VERSION:2.0
PRODID:-//Il Trentino dei Bambini - ECPv6.13.2//NONSGML v1.0//EN
CALSCALE:GREGORIAN
METHOD:PUBLISH
X-ORIGINAL-URL:https://www.iltrentinodeibambini.it
X-WR-CALDESC:Eventi per Il Trentino dei Bambini
REFRESH-INTERVAL;VALUE=DURATION:PT1H
X-Robots-Tag:noindex
X-PUBLISHED-TTL:PT1H
BEGIN:VTIMEZONE
TZID:Europe/Rome
BEGIN:DAYLIGHT
TZOFFSETFROM:+0100
TZOFFSETTO:+0200
TZNAME:CEST
DTSTART:20250330T010000
END:DAYLIGHT
BEGIN:STANDARD
TZOFFSETFROM:+0200
TZOFFSETTO:+0100
TZNAME:CET
DTSTART:20251026T010000
END:STANDARD
END:VTIMEZONE
BEGIN:VEVENT
DTSTART;TZID=Europe/Rome:20251128T090000
DTEND;TZID=Europe/Rome:20251128T113000
DTSTAMP:20260423T131013
CREATED:20251007T110229Z
LAST-MODIFIED:20251007T110229Z
UID:10021442-1764320400-1764329400@www.iltrentinodeibambini.it
SUMMARY:Centro genitori bambini in biblioteca
DESCRIPTION:Uno spazio dedicato a genitori e bambini da o a 3 anni dove possono condividere momenti di gioco\, musica\, lettura e coccole. \n\nQuando: tutti i giovedì e i venerdì dalle 9.00 alle 11.45\nDove: biblioteca Ragazzi – palazzina Liberty\nCosto: partecipazione gratuita\nInfo: tel. 0461.889559 | biblioteca.ragazzi@comune.trento.it\n\nScoprite tutti gli appuntamenti per bambini e ragazzi nelle biblioteche del comune di Trento QUI.
URL:https://www.iltrentinodeibambini.it/eventi/centro-genitori-bambini-in-biblioteca-3/2025-11-28/
LOCATION:palazzina Liberty\, Piazza Dante\, Trento
CATEGORIES:Eventi speciali,In biblioteca
END:VEVENT
BEGIN:VEVENT
DTSTART;TZID=Europe/Rome:20251128T100000
DTEND;TZID=Europe/Rome:20251128T180000
DTSTAMP:20260423T131013
CREATED:20251016T070040Z
LAST-MODIFIED:20251016T070619Z
UID:10021509-1764324000-1764352800@www.iltrentinodeibambini.it
SUMMARY:Display: mostra interattiva
DESCRIPTION:Display è il progetto di Fondazione Caritro che porta la propria collezione d’arte (oltre 300 opere) fuori dalle sedi istituzionali in formato digitale\, rendendola accessibile a tutti. Tra pannelli narrativi\, schermi interattivi e spazi per dare vita al proprio catalogo personale\, l’esperienza sarà davvero coinvolgente anche per bambini e famiglie. Maggiori info QUI. \nIn mostra fino alla fine di novembre presso la biblioteca comunale di Pinzolo\, nei seguenti orari:  \n\nlunedì dalle ore 14.00 alle 18.00\nda martedì a venerdì dalle ore 10.00 alle 12.00 e dalle ore 14.00 alle 18.00\nsabato dalle ore 10.00 alle 12.00
URL:https://www.iltrentinodeibambini.it/eventi/display-mostra-interattiva-2/2025-11-28/
LOCATION:bilbioteca di Pinzolo\, Via al Sole\, 30\, Pinzolo
CATEGORIES:Eventi speciali
END:VEVENT
BEGIN:VEVENT
DTSTART;TZID=Europe/Rome:20251128T100000
DTEND;TZID=Europe/Rome:20251130T213000
DTSTAMP:20260423T131013
CREATED:20251014T091133Z
LAST-MODIFIED:20251129T095755Z
UID:10021464-1764324000-1764538200@www.iltrentinodeibambini.it
SUMMARY:Armonie d'inverno
DESCRIPTION:Dall’ 8 novembre al 24 dicembre 2025 a Pergine Valsugana torna Armonie d’inverno: non più il solito mercatino di Natale ma un festival che celebra la socialità attraverso tradizioni\, musica e cultura. Ci saranno tantissimi eventi per bambini e famiglie\, a loro sarà dedicato un’intero spazio con giochi e laboratori! Ovviamente non mancheranno le tipiche casette in legno con artigianato e prodotti locali\, l’area ristoro e appuntamenti per tutti i gusti e le età. Inoltre ogni weekend di apertura avrà un tema! \n\nda venerdì 28 a domenica 30 novembre – “C’ERA UNA VOLTA…” – Festa delle fiabe e dei racconti della tradizione\n\nIn particolare per i bambini: \n\nvenerdì 28 novembre dalle ore 14.00 alle 16.30 | laboratorio di carte marmorizzate | target: 6+ | Castello di Pergine\nvenerdì 28 novembre alle ore 16.30 | letture per bambin* | Libreria Athena – Piazza Garbari\nsabato 29 novembre alle ore 10.00 e alle 15.00 | IL MONDO DELLE FIABE | letture tra racconti e fantasia | Libreria Athena – Piazza Garbari\nsabato 29 novembre alle ore 10.30 | letture ad alta voce per bambin* | biblioteca comunale Pergine\nsabato 29 novembre alle ore 15.00 | VIAGGIO ALLA SCOPERTA DELLE FIABE | letture\, fiabe e fantasia | Biblioteca comunale di Pergine\nsabato 29 novembre alle ore 15.00 | LABORATORIO DELLE FIABE | laboratorio di illustrazione | Artist Nova Studio D’Arte – Piazza Pachi\nsabato 29 novembre alle ore 15.00 | TRA FAVOLA E REALTÀ | vieni a scoprire il mondo delle fiabe e crea un lavoretto a tema natalizio\nsabato 29 e domenica 30 novembre alle ore 15.00 | VIVI LA FIABA | Castello di Pergine\nsabato 29 novembre alle ore 16.30 e domenica 30 novembre alle ore 10.30 | sfilate dei Perchten (conosciuti anche come i Krampus buoni) si aggirano per le vie del centro\ndomenica 30 novembre alle ore 15.00 | “CUCINA” IL PAN DI ZENZERO MAGICO | un dolce creativo con materiali di riciclo\, che profuma di festa.\n\nInoltre\, sempre in via Crivelli\, dall’8 novembre al 21 dicembre 2025 ogni sabato e domenica\, vivi la magia delle feste in realtà virtuale e il sabato sera concediti un aperitivo e menù pizza. \nProgramma completo e info su Armonie d’inverno QUI.
URL:https://www.iltrentinodeibambini.it/eventi/armonie-dinverno-2-2-2-2/
LOCATION:Pergine\, Pergine
CATEGORIES:Eventi speciali
END:VEVENT
BEGIN:VEVENT
DTSTART;TZID=Europe/Rome:20251128T143000
DTEND;TZID=Europe/Rome:20251128T170000
DTSTAMP:20260423T131013
CREATED:20250915T064610Z
LAST-MODIFIED:20250915T064610Z
UID:10021207-1764340200-1764349200@www.iltrentinodeibambini.it
SUMMARY:Spazio giochi da tavolo
DESCRIPTION:Uno spazio dedicato a chi ha voglia di cimentarsi con i giochi da tavolo\, senza limiti d’età. \n\nQuando: tutti i venerdì dalle ore 14.30\nDove: biblioteca comunale – sede di Povo\nCosto: partecipazione libera e gratuita\nInfo: tel. 0461-889918 | e-mail biblioteca.povo@comune.trento.it\n\nScoprite tutti gli eventi per bambini e ragazzi nelle biblioteche comunali di Trento QUI.
URL:https://www.iltrentinodeibambini.it/eventi/spazio-giochi-da-tavolo-4/2025-11-28/
LOCATION:biblioteca di Povo\, Via Don Tommaso Dallafior
CATEGORIES:Eventi speciali,In biblioteca
END:VEVENT
END:VCALENDAR