BEGIN:VCALENDAR
VERSION:2.0
PRODID:-//Il Trentino dei Bambini - ECPv6.13.2//NONSGML v1.0//EN
CALSCALE:GREGORIAN
METHOD:PUBLISH
X-ORIGINAL-URL:https://www.iltrentinodeibambini.it
X-WR-CALDESC:Eventi per Il Trentino dei Bambini
REFRESH-INTERVAL;VALUE=DURATION:PT1H
X-Robots-Tag:noindex
X-PUBLISHED-TTL:PT1H
BEGIN:VTIMEZONE
TZID:Europe/Rome
BEGIN:DAYLIGHT
TZOFFSETFROM:+0100
TZOFFSETTO:+0200
TZNAME:CEST
DTSTART:20250330T010000
END:DAYLIGHT
BEGIN:STANDARD
TZOFFSETFROM:+0200
TZOFFSETTO:+0100
TZNAME:CET
DTSTART:20251026T010000
END:STANDARD
BEGIN:DAYLIGHT
TZOFFSETFROM:+0100
TZOFFSETTO:+0200
TZNAME:CEST
DTSTART:20260329T010000
END:DAYLIGHT
BEGIN:STANDARD
TZOFFSETFROM:+0200
TZOFFSETTO:+0100
TZNAME:CET
DTSTART:20261025T010000
END:STANDARD
END:VTIMEZONE
BEGIN:VEVENT
DTSTART;VALUE=DATE:20251207
DTEND;VALUE=DATE:20260308
DTSTAMP:20260423T070214
CREATED:20251108T175307Z
LAST-MODIFIED:20251108T175307Z
UID:10021785-1765065600-1772927999@www.iltrentinodeibambini.it
SUMMARY:Presepi nel Bosco
DESCRIPTION:Dal 7 dicembre 2025 al 7 marzo 2026 sarà possibile passeggiare nel bosco tra tanti presepi e decorazioni natalizie. È la 13a edizione di Presepi nel Bosco\, a Ziano\, in Val di Fiemme. La partenza è dalla piazza della Frazione Zanolin. Un percorso semplice adatto anche ai bambini. Lunghezza 1\,3 chilometri\, tempo di percorrenza: 1 ora. No passeggino\, ingresso libero. \nPer maggiori info Presepi nel bosco a Ziano
URL:https://www.iltrentinodeibambini.it/eventi/presepi-nel-bosco/
LOCATION:Ziano\, Italia
CATEGORIES:Escursioni
END:VEVENT
BEGIN:VEVENT
DTSTART;VALUE=DATE:20251210
DTEND;VALUE=DATE:20260107
DTSTAMP:20260423T070214
CREATED:20251209T212810Z
LAST-MODIFIED:20251231T135101Z
UID:10022592-1765324800-1767743999@www.iltrentinodeibambini.it
SUMMARY:Rintocchi di Luce - Natale a Rovereto
DESCRIPTION:Il programma del Natale a Rovereto è davvero ricco. Riportiamo gli eventi più adatti a bimbi e famiglie\, ma consultate il programma completo QUI per non perdervi nulla! \n\nSabato 22 novembre | Ore 17.30 | Accensione dell’Albero di Natale in Piazza Rosmini\nSabato 22 novembre | Ore 14.00 alle 18.00 | Floricoltura Alberta | Dove fiorisce anche il cuore del Grinch | laboratori natalizi\, truccabimbi\, spettacoli e concerti durante tutto il pomeriggio\nDomenica 23 novembre | Ore 10:00 | Fiera di Santa Caterina | bancarelle\, sfilata della banda\, animazioni per i più piccoli\, musica e caldarroste\nDomenica 23 novembre | ore 17.00 | Sala Filarmonica | Il mago di Oz – a cura di Fondazione Aida | Spettacolo per bambini a partire dai 4 anni. A cura di Associazione Elementare Teatro. | info: elementareteatro.it\nSabato 29 novembre\, sabato 6\, 13\, 20 e 27 dicembre | dalle ore 11.00 alle 16.00  | Giardini Via Carducci | La fattoria degli Animali\nSabato 29 novembre | ore 14.00 | Sartoria Mascia Via Paganini | Arriva Babbo Natale – con il Coro Notemagia | canzoni natalizie\, letterine e foto con Babbo Natale sulla slitta. Merenda con pandoro e cioccolata calda.\nDomenica 30 novembre | ore 15.00 ! Villaggio dei Bambini Largo Foibe | Natale …. in tutti i sensi – con Kokoro lab |  lettura di racconti natalizi e creazione di un libro multisensoriale\nDomenica 30 novembre | ore 17.00 | Sala Filarmonica  | Canto di Natale a cura Compagnia Ditta Gioco Fiaba – Spettacolo per bambini a partire dai 4 anni\nVenerdì 5 dicembre | ore 18.30 | Teatro Zandonai | IL GOBBO – Circus a Notre Dame | Basato su “Notre Dame de Paris” di Victor Hugo\, lo spettacolo rispetta fedelmente il romanzo\, esaltando la storia attraverso l’arte contemporanea\, la danza\, le arti circensi. Adatto a tutte le età.\nSabato 6 dicembre | dalle ore 14.30 alle 18.00 | Villaggio dei Bambini Largo Foibe | “My Family Art” – con Studio Irydea | laboratorio creativo: ogni bambino colora singolarmente le varie parti in legno che\, una volta assemblate\, si trasformano in un coloratissimo quadro originale.\nSabato 6 dicembre | ore 16.00 | sfilata dei Krampus\nDomenica 7\, 14\, 21 e 28 dicembre | dalle 10.00 alle 16.00 | Via Tartarotti | Arti e antichi mestieri | dimostrazione di sculture\, pitture\, lavori in creta\, rame e legno\, intrecci di cesti\, impagliatura di sedie\, filatura della lana e tanto altro.\n7 dicembre | ore 10.30 e 12.00 | Via Mazzini | Spettacolo Burattini\nDomenica 7 dicembre | ore 15.00 | Villaggio dei Bambini Largo Foibe | Il Natale …. in tutti i sensi – con Kokoro lab – letture natalizie e creazione libro multisensoriale\nDomenica 7 dicembre | ore 16.00 | Piazza Fontana | Spettacolo di burattini\nDomenica 7 dicembre | ore 17.00 | Sala Filarmonica | Il Gatto e la Volpe | Spettacolo per bambini dai 5 anni\nLunedì 8 dicembre | ore 10.30 Piazza Loreto e ore 16.00 Piazzale Giacomelli | Spettacoli di Burattini del Centro Teatrale Corniani\nSabato 13 dicembre | ore 16.00 | Villaggio dei Bambini | Arriva Santa Lucia!\nSabato 13\, sabato 20 e domenica 21 dicembre ore 16.30 | Centro Storico | Natale in Strada | Teatro diffuso a cielo aperto con Pino Di Buduo e il suo Teatro Potlach. L’intera città prenderà vita attraverso spettacoli coinvolgenti.\nDomenica 14 dicembre | ore 15.00 | Villaggio dei Bambini Largo Foibe | “La pace è un girotondo” | laboratorio poetico e creativo in cui i bambini diventano piccoli costruttori di pace.\nDomenica 14 dicembre | ore 17.00 | Teatro Zandonai | Pollicino Show con Artemis Danza. Spettacolo per bambini dai 4 anni.\nSabato 20 dicembre | ore 10.00 e ore 16.00  |Villaggio dei Bambini | Il laboratorio del Grinch |  laboratorio goloso in cui i bambini\, guidati dallo spirito birichino del Grinch\, si divertiranno a creare dolcetti e decorazioni con il cioccolato.\nDomenica 21 dicembre ore 10.00 e mercoledì 24 dicembre ore 15.00 | Villaggio dei Bambini | Arriva Babbo Natale\nMercoledì 24 dicembre ore 16.00 | Arriva Babbo Natale sulla pista di pattinaggio con un dolce pensiero per i bambini\nSabato 27 dicembre ore 14.30 | Villaggio dei Bambini | My Family Art – con Studio Irydea | laboratorio creativo collettivo per bambini\nMercoledì 31 dicembre ore 20.00 | Teatro Zandonai | Sotto lo stesso cielo | spettacolo e notte al museo a cura di Collettivo Clochart (info: mail: colelttivoclochart@gmail.com; tel. 0464.669200 oppure 333.9456604)\nMartedì 6 gennaio \, ore 15.00 | Villaggio dei Bambini Largo Foibe | Arriva la Befana |  con dolcetti\, giochi e magia\n6 gennaio \, ore 17.00 | Sala Filarmonica | I tre Re | Spettacolo teatrale per famiglie\nMartedì 6 gennaio | ore  17.30 | pista pattinaggio | Arriva la Befana\n\n\n\n\nOrari ed apertura\nLe casette del mercatino di Natale a Rovereto saranno aperte dal 21 novembre 2025 alle 17.30 con questo orario: \n\nDal lunedì alla domenica\, dalle 10.00 alle 19.00 (Mercatino dei Sapori fino alle 20.30)\n25 dicembre chiuso\n31 dicembre chiusura anticipata alle ore 17.30\n1 gennaio apertura alle ore 12.00\n\n\nConsorzio Rovereto IN Centro\ntel: 0464 874353\ne-mail info@roveretoincentro.com\nweb: www.natalerovereto.it \nPer restare sempre aggiornato sul Natale a Rovereto consulta anche il sito di APT Rovereto e Vallagarina: leggi QUI \nScopri il Natale a Rovereto: Rintocchi di luce
URL:https://www.iltrentinodeibambini.it/eventi/rintocchi-di-luce-natale-a-rovereto/
LOCATION:Rovereto
CATEGORIES:Eventi speciali,Feste,Spazi d'incontro,Spettacoli
GEO:45.89096;11.0401399
END:VEVENT
BEGIN:VEVENT
DTSTART;VALUE=DATE:20251217
DTEND;VALUE=DATE:20260107
DTSTAMP:20260423T070214
CREATED:20251216T014127Z
LAST-MODIFIED:20251216T014127Z
UID:10022621-1765929600-1767743999@www.iltrentinodeibambini.it
SUMMARY:El Nadal che magia!
DESCRIPTION:Dal 6 dicembre 2025 al 6 gennaio 2026 a Tione il Natale è una magia! si vive tra fontane\, corti e vicoli. Un percorso diffuso di presepi realizzati presso le fontane\, le corti e gli angoli più suggestivi del paese grazie alla passione ed all’inventiva di associazioni\, scuole e cittadini. Due i concorsi in programma: uno dedicato alle natività allestite nelle fontane del paese\, l’altro ai presepi creati nei cortili e lungo le vie. Un invito a scoprire l’atmosfera del Natale tra tradizione e creatività: cliccate QUI per scaricare la mappa e partire alla ricerca! Una serie di eventi conviviali allieterà le giornate di festa: \n \n\n 	12 dicembre 2025 | Aspettando Santa Lucia\n \n 	13 dicembre 2025 | Animazione alle fontane – Fontana Brevine\n \n 	14 dicembre 2025 | Animazione alle fontane – Fontana Via Salvador\n \n 	20 dicembre 2025 | Gioca e vinci con il Grande Elfo Delfo e le Botteghe di Tione\n \n 	20 dicembre 2025\, ore 20.30| Teatro Comunale Tione | Concerto del Coro Piccole Colonne | ingresso libero.\n \n 	21 dicembre 2025\, ore 16.00 | Animazione alle fontane – Fontana Cantes – con esibizione del Coro Rocce Rosse e ristoro natalizio\n \n 	24 dicembre 2025\, ore 16.00 | Concerto itinerante con la Sextet Quartet Jazz Band per le vie del paese\n \n 	24 dicembre 2025\, ore 23.30 | Scambio di auguri sotto l’albero con la Proloco\, e i gruppi Alpini e Fanti\n \n 	28 dicembre 2025\, ore 20.45 | Teatro Comunale Tione | Concerto della Banda Sociale di Tione\n \n 	6 gennaio 2025\, ore 18.00 | Biblioteca comunale Tione | Premiazione concorso Presepi \n\n \n\nAzienda per il Turismo Madonna di Campiglio\nTel. 0465 447501\ne-mail: info@campigliodolomiti.it\n\nScopri qui il Natale nelle Giudicarie e in Valle del Chiese
URL:https://www.iltrentinodeibambini.it/eventi/el-nadal-che-magia-2/
LOCATION:Tione\, Trentino\, 38079\, Italia
CATEGORIES:Eventi speciali
GEO:46.0191963;10.749764
END:VEVENT
BEGIN:VEVENT
DTSTART;VALUE=DATE:20251217
DTEND;VALUE=DATE:20260107
DTSTAMP:20260423T070214
CREATED:20251216T014343Z
LAST-MODIFIED:20251216T014343Z
UID:10022622-1765929600-1767743999@www.iltrentinodeibambini.it
SUMMARY:Roncone in presepe
DESCRIPTION:Dal 9 dicembre 2025 al 6 gennaio 2026 il centro di Roncone si arricchisce di atmosfera natalizia con il tradizionale concorso di presepi. Un percorso tra luci\, creatività e tradizione\, per assaporare lo spirito autentico del Natale in un borgo che si fa presepe. QUI la mappa dei presepi.\n\n \n\nPer maggiori info sui presepi cliccate QUI\n\n \n\nAzienda per il Turismo Madonna di Campiglio\nTel. 0465 447501\ne-mail: info@campigliodolomiti.it
URL:https://www.iltrentinodeibambini.it/eventi/roncone-in-presepe/
LOCATION:Roncone\, Roncone
CATEGORIES:Eventi speciali
GEO:45.9849538;10.6705644
END:VEVENT
BEGIN:VEVENT
DTSTART;VALUE=DATE:20251217
DTEND;VALUE=DATE:20260107
DTSTAMP:20260423T070214
CREATED:20251216T014716Z
LAST-MODIFIED:20251216T014716Z
UID:10022623-1765929600-1767743999@www.iltrentinodeibambini.it
SUMMARY:Natale a Tre Ville
DESCRIPTION:A Tre Ville il Natale prende vita con un percorso di presepi all’aperto che si snoda tra Preore\, Ragoli e Montagne. Gli allestimenti sono curati dagli abitanti e dalle associazioni locali e con la loro presenza contribuiranno a creare un’atmosfera di magia e calore tutta da scoprire. I presepi sono visitabili dal 17 dicembre 2025 al 6 gennaio 2026. \n \n\nPer maggiori info sui presepi e le iniziative cliccate QUI. \n\n \n\nAzienda per il Turismo Madonna di Campiglio\nTel. 0465 447501\ne-mail: info@campigliodolomiti.it\n\nScoprite qui il Natale nelle Giudicarie e in Valle del Chiese
URL:https://www.iltrentinodeibambini.it/eventi/natale-a-tre-ville/
LOCATION:Ragoli\, Ragoli\, 38070
CATEGORIES:Eventi speciali
GEO:46.0525869;10.7765237
END:VEVENT
BEGIN:VEVENT
DTSTART;TZID=Europe/Rome:20251217T100000
DTEND;TZID=Europe/Rome:20251217T123000
DTSTAMP:20260423T070214
CREATED:20251105T122540Z
LAST-MODIFIED:20251105T123036Z
UID:10021712-1765965600-1765974600@www.iltrentinodeibambini.it
SUMMARY:Ciaspolata panoramica al Ciampac
DESCRIPTION:Ogni mercoledì e venerdì le Guide Alpine vi accompagneranno attraverso una panoramica escursione con le ciaspole nella bellissima conca del Ciampac alla scoperta dei segreti dei boschi innevati! \n\nQuando: ogni mercoledì e venerdì mattina dal 17 dicembre al 1 aprile 2026\nDove: al Ciampac – Alba di Canazei\, ritrovo presso la stazione a valle della cabinovia\nOrario: ore 10.00. Qualora venisse raggiunto il numero massimo di iscritti alla mattina\, verranno aperte le iscrizioni per la ciaspolata del pomeriggio.\nDurata dell’attività: 2 ore circa\nCosto: € 55\,00 a persona (il costo include: impianto di risalita\, Guida Alpina). Noleggio attrezzatura (ciaspole e bastoncini) gratuito.\nAdatto a: maggiori di anni 12\nÈ richiesta la prenotazione: CLICCA QUI\n\nScopri il Ciampac per i bambini in inverno\, clicca su Fassa: al Ciampac in inverno
URL:https://www.iltrentinodeibambini.it/eventi/ciaspolata-panoramica-al-ciampac/2025-12-17/
LOCATION:Stazione a valle funivia Ciampac\, Alba di Canazei\, TN\, 38032\, Italia
CATEGORIES:Escursioni
END:VEVENT
BEGIN:VEVENT
DTSTART;TZID=Europe/Rome:20251217T160000
DTEND;TZID=Europe/Rome:20251217T190000
DTSTAMP:20260423T070214
CREATED:20251209T161928Z
LAST-MODIFIED:20251209T161928Z
UID:10022564-1765987200-1765998000@www.iltrentinodeibambini.it
SUMMARY:Un abete alto così
DESCRIPTION:SPETTACOLO TEATRALE PER BAMBINI E FAMIGLIE. È una storia poetica\, divertente e anche un po’ natalizia ispirata a un racconto di Hans Christian Andersen. Racconta la storia di un piccolo abete impaziente di crescere\, così desideroso di diventare grande da non accorgersi della bellezza che ha intorno. Attraverso il suo sguardo\, lo spettacolo affronta i temi della crescita\, del rapporto con la natura e della fragilità dei boschi\, ma anche della loro capacità di trasformarsi e rinascere. \n\nQuando: dal 17 al 23 dicembre 2025 alle ore 16.00 e alle 18.00 (due repliche al giorno)\nDove: Teather im Hof\, piazza delle Erbe 37 – Bolzano\nCosto: adulti 12 euro | bambini (3-13 anni) 8 euro | bambini (0-3 anni) gratuito | biglietto famiglia (2 adulti + 2 bambini) 32 euro\nInfo: durata 45 minuti | target: 3+ | acquisto biglietto online QUI | tel. 348.6511835 (Francesco) – 340.1649970 (Salvatore)
URL:https://www.iltrentinodeibambini.it/eventi/un-abete-alto-cosi/2025-12-17/
LOCATION:Teather im hof\, piazza delle Erbe\, 37\, Bolzano
CATEGORIES:A teatro
END:VEVENT
BEGIN:VEVENT
DTSTART;TZID=Europe/Rome:20251217T163000
DTEND;TZID=Europe/Rome:20251217T173000
DTSTAMP:20260423T070214
CREATED:20251027T095358Z
LAST-MODIFIED:20251027T095358Z
UID:10021614-1765989000-1765992600@www.iltrentinodeibambini.it
SUMMARY:Scacco matto
DESCRIPTION:Giocare a scacchi in biblioteca con il gruppo “miglioriamo a giocare”: quattro appuntamenti per affinare la tecnica\, ognuno dedicato ad un tema. \n\nQuando: mercoledì 12 e 26 novembre\, 10 e 17 dicembre 2025 alle ore 16.30\nDove: biblioteca comunale – Borgo Valsugana\nCosto: partecipazione gratuita\nInfo: prenotazione obbligatoria | tel. 0461 754052 – email: biblioteca@comune.borgo-valsugana.tn.it
URL:https://www.iltrentinodeibambini.it/eventi/scacco-matto-2/2025-12-17/
LOCATION:biblioteca comunale di Borgo Valsugana\, Via XXIV Maggio\, 7\, Borgo Valsugana
CATEGORIES:Eventi speciali,In biblioteca
END:VEVENT
BEGIN:VEVENT
DTSTART;TZID=Europe/Rome:20251217T163000
DTEND;TZID=Europe/Rome:20251217T173000
DTSTAMP:20260423T070214
CREATED:20251204T095650Z
LAST-MODIFIED:20251204T095650Z
UID:10022513-1765989000-1765992600@www.iltrentinodeibambini.it
SUMMARY:Storie magiche aspettando il Natale
DESCRIPTION:Letture ad alta voce di albi illustrati per bambini e bambine da 3 a 6 anni. \n\nQuando: mercoledì 10 e 17 dicembre 2025 alle 16.30\nDove: biblioteca comunale – sede di Clarina\nCosto: partecipazione gratuita\nInfo: tel. 0461-889879 | e-mail: biblioteca.clarina@comune.trento.it\n\nLe date possono subire delle modifiche tenetevi aggiornati consultando l’agenda sul sito della biblioteca e la pagina Facebook. Per scoprire tutti gli eventi per bambini e ragazzi nelle biblioteche comunali cliccate QUI.
URL:https://www.iltrentinodeibambini.it/eventi/storie-magiche-aspettando-il-natale/2025-12-17/
LOCATION:Biblioteca Clarina\, Clarina Trento 
CATEGORIES:In biblioteca
GEO:46.0498013;11.1269022
END:VEVENT
BEGIN:VEVENT
DTSTART;TZID=Europe/Rome:20251217T163000
DTEND;TZID=Europe/Rome:20251217T173000
DTSTAMP:20260423T070214
CREATED:20251204T100644Z
LAST-MODIFIED:20251204T100644Z
UID:10022515-1765989000-1765992600@www.iltrentinodeibambini.it
SUMMARY:Natale tra le pagine
DESCRIPTION:Lettura ad alta voce di albi illustrati per bambini e bambine dai 3 anni a cura delle ragazze in Servizio Civile. \n\nQuando: mercoledì 17 dicembre 2025 alle ore 16.30\nDove: biblioteca comunale – sede di Sopramonte\nCosto: partecipazione gratuita\nInfo: 0461.889897 | biblioteca.sopramonte@comune.trento.it\n\nScoprite tutti gli appuntamenti per bambini e ragazzi nelle biblioteche del comune di Trento QUI.
URL:https://www.iltrentinodeibambini.it/eventi/natale-tra-le-pagine/
LOCATION:Sopramonte
CATEGORIES:In biblioteca
END:VEVENT
BEGIN:VEVENT
DTSTART;TZID=Europe/Rome:20251217T170000
DTEND;TZID=Europe/Rome:20251217T180000
DTSTAMP:20260423T070214
CREATED:20251007T085653Z
LAST-MODIFIED:20251007T085653Z
UID:10021417-1765990800-1765994400@www.iltrentinodeibambini.it
SUMMARY:Corso di scacchi
DESCRIPTION:Corso base di scacchi per bambini e bambine a partire dai 6 anni\, adolescenti e adulti. Maggiori dettagli QUI. \n\nQuando: tutti i mercoledì alle ore 17.00\nDove: biblioteca comunale di Meano\nCosto: partecipazione gratuita\nInfo: prenotazione consigliata allo 0461.889758 o via e-mail biblioteca.meano@comune.trento.it\n\nScoprite tutti gli appuntamenti per bambini e ragazzi nelle biblioteche comunali di Trento QUI.
URL:https://www.iltrentinodeibambini.it/eventi/corso-di-scacchi-3/2025-12-17/
LOCATION:Biblioteca di Meano\, Via delle Sugarine\, 26\, Meano 
CATEGORIES:In biblioteca
GEO:46.1262652;11.1167911
X-APPLE-STRUCTURED-LOCATION;VALUE=URI;X-ADDRESS=Biblioteca di Meano Via delle Sugarine 26 Meano;X-APPLE-RADIUS=500;X-TITLE=Via delle Sugarine\, 26:geo:11.1167911,46.1262652
END:VEVENT
END:VCALENDAR