BEGIN:VCALENDAR
VERSION:2.0
PRODID:-//Il Trentino dei Bambini - ECPv6.13.2//NONSGML v1.0//EN
CALSCALE:GREGORIAN
METHOD:PUBLISH
X-ORIGINAL-URL:https://www.iltrentinodeibambini.it
X-WR-CALDESC:Eventi per Il Trentino dei Bambini
REFRESH-INTERVAL;VALUE=DURATION:PT1H
X-Robots-Tag:noindex
X-PUBLISHED-TTL:PT1H
BEGIN:VTIMEZONE
TZID:Europe/Rome
BEGIN:DAYLIGHT
TZOFFSETFROM:+0100
TZOFFSETTO:+0200
TZNAME:CEST
DTSTART:20250330T010000
END:DAYLIGHT
BEGIN:STANDARD
TZOFFSETFROM:+0200
TZOFFSETTO:+0100
TZNAME:CET
DTSTART:20251026T010000
END:STANDARD
BEGIN:DAYLIGHT
TZOFFSETFROM:+0100
TZOFFSETTO:+0200
TZNAME:CEST
DTSTART:20260329T010000
END:DAYLIGHT
BEGIN:STANDARD
TZOFFSETFROM:+0200
TZOFFSETTO:+0100
TZNAME:CET
DTSTART:20261025T010000
END:STANDARD
END:VTIMEZONE
BEGIN:VEVENT
DTSTART;VALUE=DATE:20251207
DTEND;VALUE=DATE:20260308
DTSTAMP:20260423T024211
CREATED:20251108T175307Z
LAST-MODIFIED:20251108T175307Z
UID:10021785-1765065600-1772927999@www.iltrentinodeibambini.it
SUMMARY:Presepi nel Bosco
DESCRIPTION:Dal 7 dicembre 2025 al 7 marzo 2026 sarà possibile passeggiare nel bosco tra tanti presepi e decorazioni natalizie. È la 13a edizione di Presepi nel Bosco\, a Ziano\, in Val di Fiemme. La partenza è dalla piazza della Frazione Zanolin. Un percorso semplice adatto anche ai bambini. Lunghezza 1\,3 chilometri\, tempo di percorrenza: 1 ora. No passeggino\, ingresso libero. \nPer maggiori info Presepi nel bosco a Ziano
URL:https://www.iltrentinodeibambini.it/eventi/presepi-nel-bosco/
LOCATION:Ziano\, Italia
CATEGORIES:Escursioni
END:VEVENT
BEGIN:VEVENT
DTSTART;TZID=Europe/Rome:20260110T080000
DTEND;TZID=Europe/Rome:20260110T120000
DTSTAMP:20260423T024211
CREATED:20250412T212144Z
LAST-MODIFIED:20250412T212144Z
UID:10018242-1768032000-1768046400@www.iltrentinodeibambini.it
SUMMARY:Colazione in fattoria
DESCRIPTION:Inizia la giornata con una buona colazione a base di prodotti della fattoria e del Garda Trentino e poi vai a conoscere gli animali! \nLa colazione è disponibile a partire dalle 8.00\, mentre l’attività in fattoria comincia alle 10.30. Gli adulti partecipanti possono scegliere se trasformare la colazione in un brunch o seguire i più piccoli alla scoperta della fattoria. \nDOVE:  Azienda Agricola Agrisalus\, Pratosaiano (Arco)\, Via Fibbie\, 22;\nQUANDO: dalle ore 8:00\, tutti i sabati e le domeniche fino al 31 gennaio 2026\nDURATA:  2 ore\nPRENOTAZIONE: obbligatoria entro le 16:00 del giorno prima. Clicca QUI per prenotare online\nCOSA E’ INCLUSO: colazione contadina con prodotti della fattoria e del Garda Trentino\, visita della fattoria didattica (mucche\, maiali\, galline\, conigli)\, possibilità per gli adulti di trasformare la colazione in un brunch.\nCOSTO: 25 euro per i bambini dai 3 agli 11 anni (colazione + visita in fattoria)\, colazione accompagnatori 15 euro\, colazione bambini 3-11 anni 10 euro\, gratis bambini sotto i 2 anni. Sconto per possessori Guest Card. \nAl momento della prenotazione specificare eventuali allergie o intolleranze alimentari. Indossare scarpe comode e  adatte alla campagna. \nINFORMAZIONI\nAGRISALUS\nVia Fibbie\, 22 Arco (TN)\ntel.  379 1179271 \nLa colazione in fattoria da Agrisalus è un’experience promossa da APT Garda Dolomiti. Ci siamo stati anche noi: leggi Colazione in fattoria da Agrisalus \nPer maggiori informazioni potete visitare anche il sito di APT Garda Dolomiti QUI
URL:https://www.iltrentinodeibambini.it/eventi/colazione-in-fattoria-2/2026-01-10/
LOCATION:Agrisalus\, via Fibbie\, 22 - Pratosaiano\, Arco\, 38062\, Italia
CATEGORIES:In fattoria,Visite guidate
END:VEVENT
BEGIN:VEVENT
DTSTART;TZID=Europe/Rome:20260110T100000
DTEND;TZID=Europe/Rome:20260110T110000
DTSTAMP:20260423T024211
CREATED:20240107T175653Z
LAST-MODIFIED:20260121T082733Z
UID:10006867-1768039200-1768042800@www.iltrentinodeibambini.it
SUMMARY:Coccola di storia a Lavis
DESCRIPTION:Prenota la tua coccola con le nostre lettrici volontarie che leggeranno per 30 minuti storie meravigliose al tuo bambino (0-6 anni) e a te! \n\nQuando: sabato 10 gennaio\, 21 febbraio\, 14 marzo\, 18 aprile e 9 maggio 2026 dalle ore 10.00\nDove: presso la biblioteca di Lavis\nCosto: attività gratuita\nInfo: tel. 0461.240066 – lavis@biblio.tn.it\n\n 
URL:https://www.iltrentinodeibambini.it/eventi/coccola-di-storia-a-lavis/2026-01-10/
LOCATION:Biblioteca di Lavis – Terre d’Adige\, Via degli Alpini\, 6\, Lavis\, 38015\, Italia
CATEGORIES:In biblioteca
GEO:46.16805;11.11061
X-APPLE-STRUCTURED-LOCATION;VALUE=URI;X-ADDRESS=Biblioteca di Lavis – Terre d’Adige Via degli Alpini 6 Lavis 38015 Italia;X-APPLE-RADIUS=500;X-TITLE=Via degli Alpini\, 6:geo:11.11061,46.16805
END:VEVENT
BEGIN:VEVENT
DTSTART;TZID=Europe/Rome:20260110T100000
DTEND;TZID=Europe/Rome:20260110T190000
DTSTAMP:20260423T024211
CREATED:20251215T092913Z
LAST-MODIFIED:20251215T092913Z
UID:10022610-1768039200-1768071600@www.iltrentinodeibambini.it
SUMMARY:Display: mostra interattiva
DESCRIPTION:Display è il progetto di Fondazione Caritro che porta la propria collezione d’arte (oltre 300 opere) fuori dalle sedi istituzionali in formato digitale\, rendendola accessibile a tutti. Tra pannelli narrativi\, schermi interattivi e spazi per dare vita al proprio catalogo personale\, l’esperienza sarà davvero coinvolgente anche per bambini e famiglie. Maggiori info QUI. \nIn mostra fino al primo febbraio 2026 presso Palazzo del Bene a Rovereto\, nei seguenti orari:  \n\nogni sabato\, domenica e lunedì dalle ore 10.00 alle 13.00 e dalle ore 15.00 alle 19.00
URL:https://www.iltrentinodeibambini.it/eventi/display-mostra-interattiva-2-2-2/2026-01-10/
LOCATION:palazzo del Bene\, piazza Antonio Rosmini\, 3\, Rovereto
CATEGORIES:Eventi speciali
END:VEVENT
BEGIN:VEVENT
DTSTART;TZID=Europe/Rome:20260110T143000
DTEND;TZID=Europe/Rome:20260110T180000
DTSTAMP:20260423T024211
CREATED:20260106T155936Z
LAST-MODIFIED:20260106T155936Z
UID:10022787-1768055400-1768068000@www.iltrentinodeibambini.it
SUMMARY:Pomeriggi di giochi da tavolo
DESCRIPTION:Un pomeriggio per giocare con la supervisione e l’organizzazione dell’associazione Ludimus: giochi di ruolo\, complessi giochi di strategia o semplici giochi da tavolo per avventure adatte a tutti. \n\nQuando: sabato 10 gennaio\, 7 febbraio e 14 marzo 2026 dalle ore 14.30\nDove: biblioteca comunale di via Roma – Trento\nCosto: partecipazione libera e gratuita\nInfo: tel. 0461-889521\n\nScoprite tutti gli appuntamenti per bambini e ragazzi nelle biblioteche del comune di Trento QUI.
URL:https://www.iltrentinodeibambini.it/eventi/pomeriggi-di-giochi-da-tavolo-2-2-2/
LOCATION:Biblioteca Comunale Trento\, Trento 
CATEGORIES:Eventi speciali,In biblioteca
GEO:46.0700915;11.1197626
END:VEVENT
BEGIN:VEVENT
DTSTART;TZID=Europe/Rome:20260110T150000
DTEND;TZID=Europe/Rome:20260110T173000
DTSTAMP:20260423T024211
CREATED:20250921T114003Z
LAST-MODIFIED:20250921T114003Z
UID:10021228-1768057200-1768066200@www.iltrentinodeibambini.it
SUMMARY:Coccole d'archi
DESCRIPTION:Concerto interattivo per bambini e famiglie. Attraverso l’ascolto\, il movimento e l’interazione i bambini saranno i veri protagonisti dell’esperienza. Tra leggii e strumenti – in questo caso violini\, viola e violoncello – potranno cimentarsi nella creazione del proprio concerto. \n\nQuando: sabato 10 gennaio 2026 alle ore 15.00 | età: 0-3 anni | alle ore 16.30 | età: 3-7 anni\nDove: Museion di Bolzano\nCosto: adulti 8 euro | bambini 5 euro\nInfo: target indicato nell’orario dello spettacolo\n\nScopri tutti gli spettacoli per piccoli della Fondazione Haydn QUI.
URL:https://www.iltrentinodeibambini.it/eventi/coccole-darchi-3/
LOCATION:MUSEION\, Piazza Piero Siena\, 1\, Bolzano
CATEGORIES:Spettacoli
GEO:46.4973349;11.3483884
X-APPLE-STRUCTURED-LOCATION;VALUE=URI;X-ADDRESS=MUSEION Piazza Piero Siena 1 Bolzano;X-APPLE-RADIUS=500;X-TITLE=Piazza Piero Siena\, 1:geo:11.3483884,46.4973349
END:VEVENT
BEGIN:VEVENT
DTSTART;TZID=Europe/Rome:20260110T153000
DTEND;TZID=Europe/Rome:20260110T163000
DTSTAMP:20260423T024211
CREATED:20250928T183350Z
LAST-MODIFIED:20250928T183350Z
UID:10021322-1768059000-1768062600@www.iltrentinodeibambini.it
SUMMARY:Un museo da scoprire
DESCRIPTION:Ogni sabato un tema diverso per scoprire le particolarità del Museo di Scienze e Archeologia di Rovereto \nMinori accompagnati da almeno un adulto. Consigliato dai 6 anni in su. \nPrenotazione consigliata. La tariffa di partecipazione è di € 7 a persona e comprende l’ingresso al Museo di Scienze e Archeologia nella stessa giornata. Il biglietto include anche l’ingresso al Museo della Città da effettuarsi entro un anno dall’acquisto. \nPRENOTA QUI \nCALENDARIO 2025/2026 \n\nSabato 11 ottobre 2025\, ore 15.30  | Il fascino dei fossili\nSabato 8 novembre 2025\, ore 15.30 | Come gli oggetti arrivano al museo\nSabato 13 dicembre 2025\, ore 15.30 | I reperti segreti dal mondo dei vivi e dei morti\nSabato 10 gennaio 2026\, ore 15.30 | Come si sono formate le rocce\nSabato 14 febbraio 2026\, ore 15.30 | Le piante che vivono in alta quota\nSabato 14 marzo 2026\, ore 15.30 | Le missioni con equipaggio\nSabato 11 aprile 2026\, ore 15.30 | Quanto sei evoluto?\nSabato 9 maggio 2026\, ore 15.30 | Come rinasce un giardino\n\nScopri di più sulla Fondazione Museo Civico Rovereto e sul Museo di Scienze e Archeologia
URL:https://www.iltrentinodeibambini.it/eventi/un-museo-da-scoprire-2/2026-01-10/
LOCATION:Museo di Scienze e Archeologia e Planetario\, Borgo Santa Caterina\, 41\, Rovereto\, 38068\, Italia
CATEGORIES:Al Museo,Visite guidate
END:VEVENT
BEGIN:VEVENT
DTSTART;TZID=Europe/Rome:20260110T163000
DTEND;TZID=Europe/Rome:20260110T173000
DTSTAMP:20260423T024211
CREATED:20250923T153321Z
LAST-MODIFIED:20250923T153321Z
UID:10021264-1768062600-1768066200@www.iltrentinodeibambini.it
SUMMARY:Le lacrime del Principe
DESCRIPTION:SPETTACOLO TEATRALE PER BAMBINI E FAMIGLIE | In un regno viveva un principe\, che quando era piccino aveva una voce incantevole. Con il passare degli anni in quel regno tutto grigio e nero la voce del principe si affievolì fino a scomparire. E non solo … più passava il tempo e più il principe si sentiva stanco con solo una gran voglia di dormire. \n\nQuando: sabato 10 gennaio 2026 alle ore 16.30\nDove: Teatro San Marco – Trento\nCosto: adulti 6 euro | bambini fino ai 12 anni 4 euro | terzo figlio gratuito\nInfo: consigliato dai 3 anni | acquistate il biglietto QUI\n\nScoprite tutti gli spettacoli della rassegna “La famiglia va a teatro” QUI.
URL:https://www.iltrentinodeibambini.it/eventi/le-lacrime-del-principe/
LOCATION:Teatro San Marco\, Via San Bernardino \, 8 \, Tento 
CATEGORIES:A teatro,Spettacoli
GEO:46.0641308;11.1292454
X-APPLE-STRUCTURED-LOCATION;VALUE=URI;X-ADDRESS=Teatro San Marco Via San Bernardino  8  Tento;X-APPLE-RADIUS=500;X-TITLE=Via San Bernardino \, 8:geo:11.1292454,46.0641308
END:VEVENT
BEGIN:VEVENT
DTSTART;TZID=Europe/Rome:20260110T203000
DTEND;TZID=Europe/Rome:20260110T223000
DTSTAMP:20260423T024211
CREATED:20260105T175018Z
LAST-MODIFIED:20260105T175018Z
UID:10022693-1768077000-1768084200@www.iltrentinodeibambini.it
SUMMARY:Circo Inzir
DESCRIPTION:Sabato 10 gennaio alle 20.30 presso il Cinema Teatro Marmolada di Canazei arriva il Circo Inzir: uno spettacolo di circo contemporaneo adatto a tutta la famiglia! \nL’ingresso è libero\, ma si potrà contribuire con un’offerta nel cappello a sostegno del progetto Circo Sociale 2027.
URL:https://www.iltrentinodeibambini.it/eventi/circo-inzir/
LOCATION:cinema teatro Marmolada\, Via Roma 38\, Canazei\, TN\, Italia
CATEGORIES:A teatro,Spettacoli
END:VEVENT
END:VCALENDAR