BEGIN:VCALENDAR
VERSION:2.0
PRODID:-//Il Trentino dei Bambini - ECPv6.13.2//NONSGML v1.0//EN
CALSCALE:GREGORIAN
METHOD:PUBLISH
X-ORIGINAL-URL:https://www.iltrentinodeibambini.it
X-WR-CALDESC:Eventi per Il Trentino dei Bambini
REFRESH-INTERVAL;VALUE=DURATION:PT1H
X-Robots-Tag:noindex
X-PUBLISHED-TTL:PT1H
BEGIN:VTIMEZONE
TZID:Europe/Rome
BEGIN:DAYLIGHT
TZOFFSETFROM:+0100
TZOFFSETTO:+0200
TZNAME:CEST
DTSTART:20250330T010000
END:DAYLIGHT
BEGIN:STANDARD
TZOFFSETFROM:+0200
TZOFFSETTO:+0100
TZNAME:CET
DTSTART:20251026T010000
END:STANDARD
BEGIN:DAYLIGHT
TZOFFSETFROM:+0100
TZOFFSETTO:+0200
TZNAME:CEST
DTSTART:20260329T010000
END:DAYLIGHT
BEGIN:STANDARD
TZOFFSETFROM:+0200
TZOFFSETTO:+0100
TZNAME:CET
DTSTART:20261025T010000
END:STANDARD
END:VTIMEZONE
BEGIN:VEVENT
DTSTART;VALUE=DATE:20251207
DTEND;VALUE=DATE:20260308
DTSTAMP:20260423T024208
CREATED:20251108T175307Z
LAST-MODIFIED:20251108T175307Z
UID:10021785-1765065600-1772927999@www.iltrentinodeibambini.it
SUMMARY:Presepi nel Bosco
DESCRIPTION:Dal 7 dicembre 2025 al 7 marzo 2026 sarà possibile passeggiare nel bosco tra tanti presepi e decorazioni natalizie. È la 13a edizione di Presepi nel Bosco\, a Ziano\, in Val di Fiemme. La partenza è dalla piazza della Frazione Zanolin. Un percorso semplice adatto anche ai bambini. Lunghezza 1\,3 chilometri\, tempo di percorrenza: 1 ora. No passeggino\, ingresso libero. \nPer maggiori info Presepi nel bosco a Ziano
URL:https://www.iltrentinodeibambini.it/eventi/presepi-nel-bosco/
LOCATION:Ziano\, Italia
CATEGORIES:Escursioni
END:VEVENT
BEGIN:VEVENT
DTSTART;TZID=Europe/Rome:20260111T080000
DTEND;TZID=Europe/Rome:20260111T120000
DTSTAMP:20260423T024208
CREATED:20250412T212144Z
LAST-MODIFIED:20250412T212144Z
UID:10018243-1768118400-1768132800@www.iltrentinodeibambini.it
SUMMARY:Colazione in fattoria
DESCRIPTION:Inizia la giornata con una buona colazione a base di prodotti della fattoria e del Garda Trentino e poi vai a conoscere gli animali! \nLa colazione è disponibile a partire dalle 8.00\, mentre l’attività in fattoria comincia alle 10.30. Gli adulti partecipanti possono scegliere se trasformare la colazione in un brunch o seguire i più piccoli alla scoperta della fattoria. \nDOVE:  Azienda Agricola Agrisalus\, Pratosaiano (Arco)\, Via Fibbie\, 22;\nQUANDO: dalle ore 8:00\, tutti i sabati e le domeniche fino al 31 gennaio 2026\nDURATA:  2 ore\nPRENOTAZIONE: obbligatoria entro le 16:00 del giorno prima. Clicca QUI per prenotare online\nCOSA E’ INCLUSO: colazione contadina con prodotti della fattoria e del Garda Trentino\, visita della fattoria didattica (mucche\, maiali\, galline\, conigli)\, possibilità per gli adulti di trasformare la colazione in un brunch.\nCOSTO: 25 euro per i bambini dai 3 agli 11 anni (colazione + visita in fattoria)\, colazione accompagnatori 15 euro\, colazione bambini 3-11 anni 10 euro\, gratis bambini sotto i 2 anni. Sconto per possessori Guest Card. \nAl momento della prenotazione specificare eventuali allergie o intolleranze alimentari. Indossare scarpe comode e  adatte alla campagna. \nINFORMAZIONI\nAGRISALUS\nVia Fibbie\, 22 Arco (TN)\ntel.  379 1179271 \nLa colazione in fattoria da Agrisalus è un’experience promossa da APT Garda Dolomiti. Ci siamo stati anche noi: leggi Colazione in fattoria da Agrisalus \nPer maggiori informazioni potete visitare anche il sito di APT Garda Dolomiti QUI
URL:https://www.iltrentinodeibambini.it/eventi/colazione-in-fattoria-2/2026-01-11/
LOCATION:Agrisalus\, via Fibbie\, 22 - Pratosaiano\, Arco\, 38062\, Italia
CATEGORIES:In fattoria,Visite guidate
END:VEVENT
BEGIN:VEVENT
DTSTART;TZID=Europe/Rome:20260111T093000
DTEND;TZID=Europe/Rome:20260111T120000
DTSTAMP:20260423T024208
CREATED:20250921T114153Z
LAST-MODIFIED:20250921T114153Z
UID:10021229-1768123800-1768132800@www.iltrentinodeibambini.it
SUMMARY:Coccole d'archi
DESCRIPTION:Concerto interattivo per bambini e famiglie. Attraverso l’ascolto\, il movimento e l’interazione i bambini saranno i veri protagonisti dell’esperienza. Tra leggii e strumenti – in questo caso violini\, viola e violoncello – potranno cimentarsi nella creazione del proprio concerto. \n\nQuando: domenica 11 gennaio 2026 alle ore 9.30 | età: 0-3 anni | alle ore 11.00 | età: 3-7 anni\nDove: Castello del Buonconsiglio – sala delle Marangonerie\nCosto: adulti 8 euro | bambini 5 euro\nInfo: target indicato nell’orario dello spettacolo\n\nScopri tutti gli spettacoli per piccoli della Fondazione Haydn QUI.
URL:https://www.iltrentinodeibambini.it/eventi/coccole-darchi-3-2/
LOCATION:Castello del Buonconsiglio\, Trento 
CATEGORIES:Spettacoli
GEO:46.0700915;11.1197626
END:VEVENT
BEGIN:VEVENT
DTSTART;TZID=Europe/Rome:20260111T100000
DTEND;TZID=Europe/Rome:20260111T190000
DTSTAMP:20260423T024208
CREATED:20251215T092913Z
LAST-MODIFIED:20251215T092913Z
UID:10022611-1768125600-1768158000@www.iltrentinodeibambini.it
SUMMARY:Display: mostra interattiva
DESCRIPTION:Display è il progetto di Fondazione Caritro che porta la propria collezione d’arte (oltre 300 opere) fuori dalle sedi istituzionali in formato digitale\, rendendola accessibile a tutti. Tra pannelli narrativi\, schermi interattivi e spazi per dare vita al proprio catalogo personale\, l’esperienza sarà davvero coinvolgente anche per bambini e famiglie. Maggiori info QUI. \nIn mostra fino al primo febbraio 2026 presso Palazzo del Bene a Rovereto\, nei seguenti orari:  \n\nogni sabato\, domenica e lunedì dalle ore 10.00 alle 13.00 e dalle ore 15.00 alle 19.00
URL:https://www.iltrentinodeibambini.it/eventi/display-mostra-interattiva-2-2-2/2026-01-11/
LOCATION:palazzo del Bene\, piazza Antonio Rosmini\, 3\, Rovereto
CATEGORIES:Eventi speciali
END:VEVENT
BEGIN:VEVENT
DTSTART;TZID=Europe/Rome:20260111T143000
DTEND;TZID=Europe/Rome:20260111T180000
DTSTAMP:20260423T024208
CREATED:20260106T155531Z
LAST-MODIFIED:20260106T155852Z
UID:10022786-1768141800-1768154400@www.iltrentinodeibambini.it
SUMMARY:Pomeriggi di giochi da tavolo
DESCRIPTION:Un pomeriggio per giocare con la supervisione e l’organizzazione dell’associazione Ludimus: giochi di ruolo\, complessi giochi di strategia o semplici giochi da tavolo per avventure adatte a tutti. \n\nQuando: sabato 10 gennaio\, 7 febbraio e 14 marzo 2026 dalle ore 14.30\nDove: biblioteca comunale di via Roma – Trento\nCosto: partecipazione libera e gratuita\nInfo: tel. 0461-889521\n\nScoprite tutti gli appuntamenti per bambini e ragazzi nelle biblioteche del comune di Trento QUI.
URL:https://www.iltrentinodeibambini.it/eventi/pomeriggi-di-giochi-da-tavolo-2-2/2026-01-11/
LOCATION:Biblioteca Comunale Trento\, Trento 
CATEGORIES:Eventi speciali,In biblioteca
GEO:46.0700915;11.1197626
END:VEVENT
BEGIN:VEVENT
DTSTART;TZID=Europe/Rome:20260111T150000
DTEND;TZID=Europe/Rome:20260111T153000
DTSTAMP:20260423T024208
CREATED:20250928T182105Z
LAST-MODIFIED:20250928T182105Z
UID:10021298-1768143600-1768145400@www.iltrentinodeibambini.it
SUMMARY:Il cielo in una stanza 3.0
DESCRIPTION:Gli esperti del Planetario della Fondazione  Museo Civico di Rovereto vi accompagneranno in un viaggio nel Cosmo\, partendo dalla Terra per esplorare il Sistema Solare\, con approfondimenti sulle missioni spaziali\, fino ad arrivare lontano verso nebulose e altri oggetti celesti\, in un susseguirsi di immagini e video spettacolari e coinvolgenti. \nAl raggiungimento del numero massimo di posti disponibili sarà attivato un secondo turno alle ore 16.30. \nTutte le domeniche alle ore 15.00 e\, se esaurito\, anche alle 16.30\nPosti limitati\, prenotazione obbligatoria entro le 17.00 del giorno precedente l’inizio dell’attività.\nLa tariffa di partecipazione è di euro 7 a persona. Biglietto QUI \nChi partecipa allo spettacolo al Planetario ha diritto a un biglietto di ingresso ridotto al museo (euro 7 + euro 5)\, acquistabile QUI \nInfo: 0464 452800 – museo@fondazionemcr.it \nConosci il Museo di Scienze e Archeologia di Rovereto? Scopri di più QUI
URL:https://www.iltrentinodeibambini.it/eventi/il-cielo-in-una-stanza-3-0-3/2026-01-11/
LOCATION:Museo di Scienze e Archeologia e Planetario\, Borgo Santa Caterina\, 41\, Rovereto\, 38068\, Italia
CATEGORIES:Al Museo,Spettacoli
END:VEVENT
BEGIN:VEVENT
DTSTART;TZID=Europe/Rome:20260111T150000
DTEND;TZID=Europe/Rome:20260111T163000
DTSTAMP:20260423T024208
CREATED:20260102T221816Z
LAST-MODIFIED:20260102T221816Z
UID:10022686-1768143600-1768149000@www.iltrentinodeibambini.it
SUMMARY:La casa nel bosco
DESCRIPTION:Il tema degli incontri Little Mart? Le mostre e le collezioni del museo o\, più in generale\, temi e tecniche legati all’arte contemporanea. Vere e proprie palestre della creatività con laboratori che coinvolgono bambini e adulti proponendo una partecipazione attiva. \nATTIVITA‘: La casa nel Bosco | Cosa succede se il bosco entra nella casa? Dopo aver rappresentato un bosco con matite colorate e acquarelli\, i bambini sovrappongono alla loro illustrazione sagome e mascherine a forma di casetta per osservare come cambia il rapporto tra figura e sfondo\nDOVE: MART Museo di Arte Moderna e Contemporanea Rovereto\, C.so Bettini 43\, Rovereto\nQUANDO: Domenica 11 gennaio 2026\, ore 15.00 – 16.30\nCOSTO: 5 euro a bambino. Accompagnatore gratuito\nADATTO A: bambini 4-10 anni\nPRENOTAZIONI:  dal lunedì al venerdì scrivendo a education@mart.trento.it o telefonando allo 0464 454135-108. Il sabato e la domenica presso la biglietteria del Mart (0464 454240). \nConosci già il MART? Scoprilo meglio\, leggi Al MART coi bambini \nLittle Mart vi aspetta tutte le domeniche pomeriggio!
URL:https://www.iltrentinodeibambini.it/eventi/la-casa-nel-bosco/
LOCATION:MART – Museo ArteModerna e Contemporanea Rovereto\, Corso Bettini 43\, Rovereto\, TN\, 38068\, Italia
CATEGORIES:Al Museo,Laboratori
END:VEVENT
BEGIN:VEVENT
DTSTART;TZID=Europe/Rome:20260111T150000
DTEND;TZID=Europe/Rome:20260111T170000
DTSTAMP:20260423T024208
CREATED:20260101T104646Z
LAST-MODIFIED:20260101T104646Z
UID:10022665-1768143600-1768150800@www.iltrentinodeibambini.it
SUMMARY:Fiocchi di neve
DESCRIPTION:Un viaggio tra arte\, neve e poesia. La proposta accompagna bambine e bambini in un percorso guidato in mostra\, dove l’osservazione di opere dedicate al tema della neve diventa occasione per scoprire la forma dei fiocchi e dare voce alle emozioni che questo elemento naturale sa evocare. Il percorso si conclude in aula didattica\, dove ogni bambino realizza un fiocco di neve con sacchetti di carta decorati con la propria poesia da portare a casa. \n\nQuando: domenica 11 gennaio e 8 febbraio 2026 alle ore 15.00\nDove: Castello del Buonconsiglio\nCosto: 8 euro a nucleo familiare\nInfo: tel. 0461-492811 | prenotazione consigliata QUI\n\nScoprite tutte le attività per bambini e famiglie al Castello del Buonconsiglio QUI.
URL:https://www.iltrentinodeibambini.it/eventi/fiocchi-di-neve/2026-01-11/
LOCATION:Castello del Buonconsiglio\, Trento 
CATEGORIES:Al Museo,Laboratori
GEO:46.0700915;11.1197626
END:VEVENT
BEGIN:VEVENT
DTSTART;TZID=Europe/Rome:20260111T160000
DTEND;TZID=Europe/Rome:20260111T170000
DTSTAMP:20260423T024208
CREATED:20251007T084820Z
LAST-MODIFIED:20251007T084820Z
UID:10021404-1768147200-1768150800@www.iltrentinodeibambini.it
SUMMARY:Amici impossibili
DESCRIPTION:SPETTACOLO TEATRALE PER BAMBINI E FAMIGLIE. Una storia di amicizia ma anche di un viaggio da parte di un lupo che vuole scoprire cosa vuol dire avere paura. \n\nQuando: domenica 11 gennaio 2026 alle ore 16.00\nDove: Auditorium comunale di Lavis\nCosto: intero euro 5 | ridotto euro 3 | dal terzo figlio e bambini sotto i tre anni gratuito\nInfo: consigliato dai 4 anni in su | acquisto biglietti online QUI\n\nScoprite tutti gli spettacoli della rassegna “TUTTIaTEATRO” QUI.
URL:https://www.iltrentinodeibambini.it/eventi/amici-impossibili-4/
LOCATION:Auditorium Comunale Lavis\, piazzetta degli Alpini\, Lavis\, Italia
CATEGORIES:A teatro,Spettacoli
END:VEVENT
BEGIN:VEVENT
DTSTART;TZID=Europe/Rome:20260111T160000
DTEND;TZID=Europe/Rome:20260111T170000
DTSTAMP:20260423T024208
CREATED:20251028T095751Z
LAST-MODIFIED:20251028T095751Z
UID:10021626-1768147200-1768150800@www.iltrentinodeibambini.it
SUMMARY:Il nuovo vestito dell'imperatrice
DESCRIPTION:SPETTACOLO TEATRALE PER FAMIGLIE. L’imperatrice Caterina vive nel suo palazzo sempre in compagnia di uno specchio magico che le permette di monitorare costantemente il suo aspetto e\, se necessario\, modifica il suo riflesso. Il giorno del suo diciottesimo riceve da suo papà un vestito particolare: è invisibile a chi è stupido. Da questo momento non saprà più a chi credere. L’ambiguità e il non sapere di chi fidarsi la porterà a far emergere lati inattesi e sorprendenti della sua identità trasformando l’apparente fallimento in un preziosa occasione di crescita. \n\nQuando: domenica 11 gennaio 2026 alle ore 16.00\nDove: Teatro Sociale – Trento\nCosto: adulti 6 euro | bambini (3-14 anni) o possessori di Euregio Family Pass 4 euro\nInfo: età consigliata: 3+ | durata: 55 minuti | acquista il biglietto online QUI\n\nScoprite tutti gli spettacoli per bambini e famiglie della rassegna “Scappo a teatro” QUI.
URL:https://www.iltrentinodeibambini.it/eventi/il-nuovo-vestito-dellimperatrice/
LOCATION:Teatro Sociale\, Trento 
CATEGORIES:A teatro,Spettacoli
GEO:46.0747793;11.1217486
END:VEVENT
END:VCALENDAR