BEGIN:VCALENDAR
VERSION:2.0
PRODID:-//Il Trentino dei Bambini - ECPv6.13.2//NONSGML v1.0//EN
CALSCALE:GREGORIAN
METHOD:PUBLISH
X-ORIGINAL-URL:https://www.iltrentinodeibambini.it
X-WR-CALDESC:Eventi per Il Trentino dei Bambini
REFRESH-INTERVAL;VALUE=DURATION:PT1H
X-Robots-Tag:noindex
X-PUBLISHED-TTL:PT1H
BEGIN:VTIMEZONE
TZID:Europe/Rome
BEGIN:DAYLIGHT
TZOFFSETFROM:+0100
TZOFFSETTO:+0200
TZNAME:CEST
DTSTART:20250330T010000
END:DAYLIGHT
BEGIN:STANDARD
TZOFFSETFROM:+0200
TZOFFSETTO:+0100
TZNAME:CET
DTSTART:20251026T010000
END:STANDARD
BEGIN:DAYLIGHT
TZOFFSETFROM:+0100
TZOFFSETTO:+0200
TZNAME:CEST
DTSTART:20260329T010000
END:DAYLIGHT
BEGIN:STANDARD
TZOFFSETFROM:+0200
TZOFFSETTO:+0100
TZNAME:CET
DTSTART:20261025T010000
END:STANDARD
END:VTIMEZONE
BEGIN:VEVENT
DTSTART;VALUE=DATE:20251207
DTEND;VALUE=DATE:20260308
DTSTAMP:20260423T024210
CREATED:20251108T175307Z
LAST-MODIFIED:20251108T175307Z
UID:10021785-1765065600-1772927999@www.iltrentinodeibambini.it
SUMMARY:Presepi nel Bosco
DESCRIPTION:Dal 7 dicembre 2025 al 7 marzo 2026 sarà possibile passeggiare nel bosco tra tanti presepi e decorazioni natalizie. È la 13a edizione di Presepi nel Bosco\, a Ziano\, in Val di Fiemme. La partenza è dalla piazza della Frazione Zanolin. Un percorso semplice adatto anche ai bambini. Lunghezza 1\,3 chilometri\, tempo di percorrenza: 1 ora. No passeggino\, ingresso libero. \nPer maggiori info Presepi nel bosco a Ziano
URL:https://www.iltrentinodeibambini.it/eventi/presepi-nel-bosco/
LOCATION:Ziano\, Italia
CATEGORIES:Escursioni
END:VEVENT
BEGIN:VEVENT
DTSTART;TZID=Europe/Rome:20260123T090000
DTEND;TZID=Europe/Rome:20260123T113000
DTSTAMP:20260423T024210
CREATED:20260106T110321Z
LAST-MODIFIED:20260106T110321Z
UID:10022724-1769158800-1769167800@www.iltrentinodeibambini.it
SUMMARY:Centro genitori bambini in biblioteca
DESCRIPTION:Uno spazio dedicato a genitori e bambini da o a 3 anni dove possono condividere momenti di gioco\, musica\, lettura e coccole. \n\nQuando: tutti i giovedì e i venerdì dalle 9.00 alle 11.45\nDove: biblioteca Ragazzi – palazzina Liberty\nCosto: partecipazione gratuita\nInfo: tel. 0461.889559 | biblioteca.ragazzi@comune.trento.it\n\nScoprite tutti gli appuntamenti per bambini e ragazzi nelle biblioteche del comune di Trento QUI.
URL:https://www.iltrentinodeibambini.it/eventi/centro-genitori-bambini-in-biblioteca-3-2/2026-01-23/
LOCATION:palazzina Liberty\, Piazza Dante\, Trento
CATEGORIES:Eventi speciali,In biblioteca
END:VEVENT
BEGIN:VEVENT
DTSTART;TZID=Europe/Rome:20260123T100000
DTEND;TZID=Europe/Rome:20260123T123000
DTSTAMP:20260423T024210
CREATED:20251105T122540Z
LAST-MODIFIED:20251105T123036Z
UID:10021723-1769162400-1769171400@www.iltrentinodeibambini.it
SUMMARY:Ciaspolata panoramica al Ciampac
DESCRIPTION:Ogni mercoledì e venerdì le Guide Alpine vi accompagneranno attraverso una panoramica escursione con le ciaspole nella bellissima conca del Ciampac alla scoperta dei segreti dei boschi innevati! \n\nQuando: ogni mercoledì e venerdì mattina dal 17 dicembre al 1 aprile 2026\nDove: al Ciampac – Alba di Canazei\, ritrovo presso la stazione a valle della cabinovia\nOrario: ore 10.00. Qualora venisse raggiunto il numero massimo di iscritti alla mattina\, verranno aperte le iscrizioni per la ciaspolata del pomeriggio.\nDurata dell’attività: 2 ore circa\nCosto: € 55\,00 a persona (il costo include: impianto di risalita\, Guida Alpina). Noleggio attrezzatura (ciaspole e bastoncini) gratuito.\nAdatto a: maggiori di anni 12\nÈ richiesta la prenotazione: CLICCA QUI\n\nScopri il Ciampac per i bambini in inverno\, clicca su Fassa: al Ciampac in inverno
URL:https://www.iltrentinodeibambini.it/eventi/ciaspolata-panoramica-al-ciampac/2026-01-23/
LOCATION:Stazione a valle funivia Ciampac\, Alba di Canazei\, TN\, 38032\, Italia
CATEGORIES:Escursioni
END:VEVENT
BEGIN:VEVENT
DTSTART;TZID=Europe/Rome:20260123T103000
DTEND;TZID=Europe/Rome:20260123T123000
DTSTAMP:20260423T024210
CREATED:20260121T084049Z
LAST-MODIFIED:20260121T084049Z
UID:10022826-1769164200-1769171400@www.iltrentinodeibambini.it
SUMMARY:GEOdi: un viaggio virtuale
DESCRIPTION:Un viaggio virtuale alla scoperta della geologia del Trentino e delle Dolomiti. Indossa il visore per la realtà virtuale\, scegli il tuo percorso e vivi un’esperienza immersiva tra minerali\, rocce\, miniere e scenari inaspettati. \n\nQuando: venerdì 23 e 30 gennaio 2026 alle 10.30\, 11.15 e 12 | sabato 31 gennaio 2026 alle 10.30\, 11.15\, 12\, 16.30\, 17.15 e 18\nDove: Museo Geologico delle Dolomiti – Predazzo\nCosto: 3 euro oltre il biglietto d’ingresso\nInfo: target 10+ | prenotazione obbligatoria online QUI\n\nScopri tutti gli appuntamenti invernali del Museo Geologico delle Dolomiti QUI. \n 
URL:https://www.iltrentinodeibambini.it/eventi/geodi-un-viaggio-virtuale-2-2-2-2-2-2-2/2026-01-23/
LOCATION:Museo Geologico delle Dolomiti\, Piazza SS. Filippo e Giacomo 1\, Predazzo 
CATEGORIES:Al Museo,Eventi speciali
GEO:46.3128605;11.602666
X-APPLE-STRUCTURED-LOCATION;VALUE=URI;X-ADDRESS=Museo Geologico delle Dolomiti Piazza SS. Filippo e Giacomo 1 Predazzo;X-APPLE-RADIUS=500;X-TITLE=Piazza SS. Filippo e Giacomo 1:geo:11.602666,46.3128605
END:VEVENT
BEGIN:VEVENT
DTSTART;TZID=Europe/Rome:20260123T143000
DTEND;TZID=Europe/Rome:20260123T170000
DTSTAMP:20260423T024210
CREATED:20260106T110538Z
LAST-MODIFIED:20260106T110538Z
UID:10022754-1769178600-1769187600@www.iltrentinodeibambini.it
SUMMARY:Spazio giochi da tavolo
DESCRIPTION:Uno spazio dedicato a chi ha voglia di cimentarsi con i giochi da tavolo\, senza limiti d’età. \n\nQuando: tutti i venerdì dalle ore 14.30\nDove: biblioteca comunale – sede di Povo\nCosto: partecipazione libera e gratuita\nInfo: tel. 0461-889918 | e-mail biblioteca.povo@comune.trento.it\n\nScoprite tutti gli eventi per bambini e ragazzi nelle biblioteche comunali di Trento QUI.
URL:https://www.iltrentinodeibambini.it/eventi/spazio-giochi-da-tavolo-4-2/2026-01-23/
LOCATION:biblioteca di Povo\, Via Don Tommaso Dallafior
CATEGORIES:Eventi speciali,In biblioteca
END:VEVENT
BEGIN:VEVENT
DTSTART;TZID=Europe/Rome:20260123T150000
DTEND;TZID=Europe/Rome:20260123T173000
DTSTAMP:20260423T024210
CREATED:20260106T111019Z
LAST-MODIFIED:20260106T111019Z
UID:10022773-1769180400-1769189400@www.iltrentinodeibambini.it
SUMMARY:Centro genitori bambini in biblioteca
DESCRIPTION:Uno spazio dedicato a genitori e bambini fino a 6 anni dove possono condividere momenti di gioco\, musica\, lettura e coccole. \n\nQuando: il venerdì\, ogni 2 settimane\, dalle ore 15.00\nDove: biblioteca comunale – sede di Meano\nCosto: partecipazione gratuita\nInfo: tel. 0461.889559\n\nScoprite tutti gli appuntamenti per bambini e ragazzi nelle biblioteche del comune di Trento QUI.
URL:https://www.iltrentinodeibambini.it/eventi/centro-genitori-bambini-in-biblioteca-2-2/2026-01-23/
LOCATION:Biblioteca di Meano\, Via delle Sugarine\, 26\, Meano 
CATEGORIES:Eventi speciali,In biblioteca
GEO:46.1262652;11.1167911
X-APPLE-STRUCTURED-LOCATION;VALUE=URI;X-ADDRESS=Biblioteca di Meano Via delle Sugarine 26 Meano;X-APPLE-RADIUS=500;X-TITLE=Via delle Sugarine\, 26:geo:11.1167911,46.1262652
END:VEVENT
BEGIN:VEVENT
DTSTART;TZID=Europe/Rome:20260123T170000
DTEND;TZID=Europe/Rome:20260123T180000
DTSTAMP:20260423T024210
CREATED:20250821T143616Z
LAST-MODIFIED:20250821T143616Z
UID:10020987-1769187600-1769191200@www.iltrentinodeibambini.it
SUMMARY:Divoratori di libri
DESCRIPTION:Gruppo di lettura per ragazzi e ragazze di età tra gli 11 e i 14 anni. Ciascun partecipante porta in gruppo la propria esperienza di lettura e ha la possibilità di confrontarsi con gli altri membri del gruppo.  È un’occasione per mettersi in gioco\, scambiarsi i consigli di lettura e conoscere delle novità editoriali presenti nel catalogo. Appuntamento mensile. \n\nQuando: venerdì 23 gennaio\, 20 febbraio\, 20 marzo\, 24 aprile\, 22 maggio e 5 giugno 2026 alle ore 17.00\nDove: Biblioteca dei ragazzi – Palazzina Liberty\nCosto: attività gratuita\nInfo: tel. 0461.889559 | e-mail: biblioteca.ragazzi@comune.trento.it\n\nScoprite tutti gli appuntamenti nelle biblioteche comunali dedicati a bambini e ragazzi QUI
URL:https://www.iltrentinodeibambini.it/eventi/divoratori-di-libri-3/2026-01-23/
LOCATION:palazzina Liberty\, Piazza Dante\, Trento
CATEGORIES:In biblioteca
END:VEVENT
END:VCALENDAR