BEGIN:VCALENDAR
VERSION:2.0
PRODID:-//Il Trentino dei Bambini - ECPv6.13.2//NONSGML v1.0//EN
CALSCALE:GREGORIAN
METHOD:PUBLISH
X-WR-CALNAME:Il Trentino dei Bambini
X-ORIGINAL-URL:https://www.iltrentinodeibambini.it
X-WR-CALDESC:Eventi per Il Trentino dei Bambini
REFRESH-INTERVAL;VALUE=DURATION:PT1H
X-Robots-Tag:noindex
X-PUBLISHED-TTL:PT1H
BEGIN:VTIMEZONE
TZID:Europe/Rome
BEGIN:DAYLIGHT
TZOFFSETFROM:+0100
TZOFFSETTO:+0200
TZNAME:CEST
DTSTART:20250330T010000
END:DAYLIGHT
BEGIN:STANDARD
TZOFFSETFROM:+0200
TZOFFSETTO:+0100
TZNAME:CET
DTSTART:20251026T010000
END:STANDARD
BEGIN:DAYLIGHT
TZOFFSETFROM:+0100
TZOFFSETTO:+0200
TZNAME:CEST
DTSTART:20260329T010000
END:DAYLIGHT
BEGIN:STANDARD
TZOFFSETFROM:+0200
TZOFFSETTO:+0100
TZNAME:CET
DTSTART:20261025T010000
END:STANDARD
END:VTIMEZONE
BEGIN:VEVENT
DTSTART;VALUE=DATE:20251207
DTEND;VALUE=DATE:20260308
DTSTAMP:20260423T024149
CREATED:20251108T175307Z
LAST-MODIFIED:20251108T175307Z
UID:10021785-1765065600-1772927999@www.iltrentinodeibambini.it
SUMMARY:Presepi nel Bosco
DESCRIPTION:Dal 7 dicembre 2025 al 7 marzo 2026 sarà possibile passeggiare nel bosco tra tanti presepi e decorazioni natalizie. È la 13a edizione di Presepi nel Bosco\, a Ziano\, in Val di Fiemme. La partenza è dalla piazza della Frazione Zanolin. Un percorso semplice adatto anche ai bambini. Lunghezza 1\,3 chilometri\, tempo di percorrenza: 1 ora. No passeggino\, ingresso libero. \nPer maggiori info Presepi nel bosco a Ziano
URL:https://www.iltrentinodeibambini.it/eventi/presepi-nel-bosco/
LOCATION:Ziano\, Italia
CATEGORIES:Escursioni
END:VEVENT
BEGIN:VEVENT
DTSTART;TZID=Europe/Rome:20260124T080000
DTEND;TZID=Europe/Rome:20260124T120000
DTSTAMP:20260423T024149
CREATED:20250412T212144Z
LAST-MODIFIED:20250412T212144Z
UID:10018246-1769241600-1769256000@www.iltrentinodeibambini.it
SUMMARY:Colazione in fattoria
DESCRIPTION:Inizia la giornata con una buona colazione a base di prodotti della fattoria e del Garda Trentino e poi vai a conoscere gli animali! \nLa colazione è disponibile a partire dalle 8.00\, mentre l’attività in fattoria comincia alle 10.30. Gli adulti partecipanti possono scegliere se trasformare la colazione in un brunch o seguire i più piccoli alla scoperta della fattoria. \nDOVE:  Azienda Agricola Agrisalus\, Pratosaiano (Arco)\, Via Fibbie\, 22;\nQUANDO: dalle ore 8:00\, tutti i sabati e le domeniche fino al 31 gennaio 2026\nDURATA:  2 ore\nPRENOTAZIONE: obbligatoria entro le 16:00 del giorno prima. Clicca QUI per prenotare online\nCOSA E’ INCLUSO: colazione contadina con prodotti della fattoria e del Garda Trentino\, visita della fattoria didattica (mucche\, maiali\, galline\, conigli)\, possibilità per gli adulti di trasformare la colazione in un brunch.\nCOSTO: 25 euro per i bambini dai 3 agli 11 anni (colazione + visita in fattoria)\, colazione accompagnatori 15 euro\, colazione bambini 3-11 anni 10 euro\, gratis bambini sotto i 2 anni. Sconto per possessori Guest Card. \nAl momento della prenotazione specificare eventuali allergie o intolleranze alimentari. Indossare scarpe comode e  adatte alla campagna. \nINFORMAZIONI\nAGRISALUS\nVia Fibbie\, 22 Arco (TN)\ntel.  379 1179271 \nLa colazione in fattoria da Agrisalus è un’experience promossa da APT Garda Dolomiti. Ci siamo stati anche noi: leggi Colazione in fattoria da Agrisalus \nPer maggiori informazioni potete visitare anche il sito di APT Garda Dolomiti QUI
URL:https://www.iltrentinodeibambini.it/eventi/colazione-in-fattoria-2/2026-01-24/
LOCATION:Agrisalus\, via Fibbie\, 22 - Pratosaiano\, Arco\, 38062\, Italia
CATEGORIES:In fattoria,Visite guidate
END:VEVENT
BEGIN:VEVENT
DTSTART;TZID=Europe/Rome:20260124T100000
DTEND;TZID=Europe/Rome:20260124T190000
DTSTAMP:20260423T024149
CREATED:20251215T092913Z
LAST-MODIFIED:20251215T092913Z
UID:10022616-1769248800-1769281200@www.iltrentinodeibambini.it
SUMMARY:Display: mostra interattiva
DESCRIPTION:Display è il progetto di Fondazione Caritro che porta la propria collezione d’arte (oltre 300 opere) fuori dalle sedi istituzionali in formato digitale\, rendendola accessibile a tutti. Tra pannelli narrativi\, schermi interattivi e spazi per dare vita al proprio catalogo personale\, l’esperienza sarà davvero coinvolgente anche per bambini e famiglie. Maggiori info QUI. \nIn mostra fino al primo febbraio 2026 presso Palazzo del Bene a Rovereto\, nei seguenti orari:  \n\nogni sabato\, domenica e lunedì dalle ore 10.00 alle 13.00 e dalle ore 15.00 alle 19.00
URL:https://www.iltrentinodeibambini.it/eventi/display-mostra-interattiva-2-2-2/2026-01-24/
LOCATION:palazzo del Bene\, piazza Antonio Rosmini\, 3\, Rovereto
CATEGORIES:Eventi speciali
END:VEVENT
BEGIN:VEVENT
DTSTART;TZID=Europe/Rome:20260124T163000
DTEND;TZID=Europe/Rome:20260124T173000
DTSTAMP:20260423T024149
CREATED:20250923T154007Z
LAST-MODIFIED:20250923T154007Z
UID:10021266-1769272200-1769275800@www.iltrentinodeibambini.it
SUMMARY:Mr Bloom
DESCRIPTION:SPETTACOLO TEATRALE PER BAMBINI E FAMIGLIE | Performance di mimo e clownerie. Uno spettacolo fatto di gesti e musica dove una voce fuori campo guida il muto protagonista della storia nella sua sognante giornata\, trascorsa fra un’insistente sveglia del mattino e il suo grigio lavoro quotidiano. In tutto questo però s’inserisce la fantasia… \n\nQuando: sabato 24 gennaio 2026 alle ore 16.30\nDove: Teatro San Marco – Trento\nCosto: adulti 6 euro | bambini fino ai 12 anni 4 euro | terzo figlio gratuito\nInfo: consigliato dai 3 anni | acquistate il biglietto QUI\n\nScoprite tutti gli spettacoli della rassegna “La famiglia va a teatro” QUI.
URL:https://www.iltrentinodeibambini.it/eventi/mr-bloom/
LOCATION:Teatro San Marco\, Via San Bernardino \, 8 \, Tento 
CATEGORIES:A teatro,Spettacoli
GEO:46.0641308;11.1292454
X-APPLE-STRUCTURED-LOCATION;VALUE=URI;X-ADDRESS=Teatro San Marco Via San Bernardino  8  Tento;X-APPLE-RADIUS=500;X-TITLE=Via San Bernardino \, 8:geo:11.1292454,46.0641308
END:VEVENT
BEGIN:VEVENT
DTSTART;TZID=Europe/Rome:20260124T173000
DTEND;TZID=Europe/Rome:20260124T183000
DTSTAMP:20260423T024149
CREATED:20251021T071234Z
LAST-MODIFIED:20251021T071234Z
UID:10021566-1769275800-1769279400@www.iltrentinodeibambini.it
SUMMARY:Il lupo e.. Pierino
DESCRIPTION:Quattro sassofoni\, un attore e tanta voglia di giocare con la musica: nasce così uno spettacolo travolgente pensato per bambine\, bambini e le loro famiglie\, dove la fiaba musicale più famosa del Novecento viene riletta con fantasia e ironia. \n\nQuando: sabato 24 gennaio 2026 alle ore 17.30\nDove: Sala Filarmonica – Trento\nCosto: ridotto (da 0 a 6 anni): 1 euro | intero (da 7 a 99 anni): 5 euro\nInfo: acquisto biglietto online QUI\n\nScoprite tutti gli spettacoli musicali per bambini e famiglie della MiniFilarmonica QUI.
URL:https://www.iltrentinodeibambini.it/eventi/il-lupo-e-pierino/
LOCATION:Sala Filarmonica Trento\, Via Verdi\, 30\, Trento
CATEGORIES:Spettacoli
END:VEVENT
BEGIN:VEVENT
DTSTART;TZID=Europe/Rome:20260124T183000
DTEND;TZID=Europe/Rome:20260124T210000
DTSTAMP:20260423T024149
CREATED:20260115T140455Z
LAST-MODIFIED:20260115T140455Z
UID:10022817-1769279400-1769288400@www.iltrentinodeibambini.it
SUMMARY:Tana libera tutti
DESCRIPTION:Una serata pensata per i bambini dai 7 ai 12 anni con laboratorio artistico ispirato a DISPLAY\, cena e giochi da tavolo insieme. Nel frattempo\, i genitori possono concedersi una serata libera. Sarà anche possibile fare un breve passaggio a DISPLAY per scoprire la Collezione d’Arte di Fondazione Caritro con un percorso immersivo. Maggiori info QUI. \n\nQuando: sabato 24 gennaio 2026 dalle ore 18.30\nDove: Palazzo del Bene – Rovereto\nCosto: gratuito\nInfo: prenotazione obbligatoria QUI
URL:https://www.iltrentinodeibambini.it/eventi/tana-libera-tutti/
LOCATION:palazzo del Bene\, piazza Antonio Rosmini\, 3\, Rovereto
CATEGORIES:Eventi speciali
END:VEVENT
END:VCALENDAR