BEGIN:VCALENDAR
VERSION:2.0
PRODID:-//Il Trentino dei Bambini - ECPv6.13.2//NONSGML v1.0//EN
CALSCALE:GREGORIAN
METHOD:PUBLISH
X-ORIGINAL-URL:https://www.iltrentinodeibambini.it
X-WR-CALDESC:Eventi per Il Trentino dei Bambini
REFRESH-INTERVAL;VALUE=DURATION:PT1H
X-Robots-Tag:noindex
X-PUBLISHED-TTL:PT1H
BEGIN:VTIMEZONE
TZID:Europe/Rome
BEGIN:DAYLIGHT
TZOFFSETFROM:+0100
TZOFFSETTO:+0200
TZNAME:CEST
DTSTART:20250330T010000
END:DAYLIGHT
BEGIN:STANDARD
TZOFFSETFROM:+0200
TZOFFSETTO:+0100
TZNAME:CET
DTSTART:20251026T010000
END:STANDARD
BEGIN:DAYLIGHT
TZOFFSETFROM:+0100
TZOFFSETTO:+0200
TZNAME:CEST
DTSTART:20260329T010000
END:DAYLIGHT
BEGIN:STANDARD
TZOFFSETFROM:+0200
TZOFFSETTO:+0100
TZNAME:CET
DTSTART:20261025T010000
END:STANDARD
END:VTIMEZONE
BEGIN:VEVENT
DTSTART;VALUE=DATE:20251207
DTEND;VALUE=DATE:20260308
DTSTAMP:20260423T010648
CREATED:20251108T175307Z
LAST-MODIFIED:20251108T175307Z
UID:10021785-1765065600-1772927999@www.iltrentinodeibambini.it
SUMMARY:Presepi nel Bosco
DESCRIPTION:Dal 7 dicembre 2025 al 7 marzo 2026 sarà possibile passeggiare nel bosco tra tanti presepi e decorazioni natalizie. È la 13a edizione di Presepi nel Bosco\, a Ziano\, in Val di Fiemme. La partenza è dalla piazza della Frazione Zanolin. Un percorso semplice adatto anche ai bambini. Lunghezza 1\,3 chilometri\, tempo di percorrenza: 1 ora. No passeggino\, ingresso libero. \nPer maggiori info Presepi nel bosco a Ziano
URL:https://www.iltrentinodeibambini.it/eventi/presepi-nel-bosco/
LOCATION:Ziano\, Italia
CATEGORIES:Escursioni
END:VEVENT
BEGIN:VEVENT
DTSTART;VALUE=DATE:20260131
DTEND;VALUE=DATE:20260202
DTSTAMP:20260423T010648
CREATED:20260131T131503Z
LAST-MODIFIED:20260131T131503Z
UID:10022870-1769817600-1769990399@www.iltrentinodeibambini.it
SUMMARY:Festa di Sant'Agata
DESCRIPTION:Sabato 31 gennaio dalle 20.00 e domenica 1 febbraio 2026 dalle ore 12.00 a Strigno in località Tomaselli si svolgerà la tradizionale festa di Sant’Agata. \nMusica\, stand gastronomici con specialità locali e non\, dolci tipici\, grostoli\, lotteria e maschere di Carnevale
URL:https://www.iltrentinodeibambini.it/eventi/festa-di-santagata/
LOCATION:Strigno\, Strigno
CATEGORIES:Eventi speciali,Feste
GEO:46.069304;11.5211585
END:VEVENT
BEGIN:VEVENT
DTSTART;TZID=Europe/Rome:20260131T080000
DTEND;TZID=Europe/Rome:20260131T120000
DTSTAMP:20260423T010648
CREATED:20250412T212144Z
LAST-MODIFIED:20250412T212144Z
UID:10018248-1769846400-1769860800@www.iltrentinodeibambini.it
SUMMARY:Colazione in fattoria
DESCRIPTION:Inizia la giornata con una buona colazione a base di prodotti della fattoria e del Garda Trentino e poi vai a conoscere gli animali! \nLa colazione è disponibile a partire dalle 8.00\, mentre l’attività in fattoria comincia alle 10.30. Gli adulti partecipanti possono scegliere se trasformare la colazione in un brunch o seguire i più piccoli alla scoperta della fattoria. \nDOVE:  Azienda Agricola Agrisalus\, Pratosaiano (Arco)\, Via Fibbie\, 22;\nQUANDO: dalle ore 8:00\, tutti i sabati e le domeniche fino al 31 gennaio 2026\nDURATA:  2 ore\nPRENOTAZIONE: obbligatoria entro le 16:00 del giorno prima. Clicca QUI per prenotare online\nCOSA E’ INCLUSO: colazione contadina con prodotti della fattoria e del Garda Trentino\, visita della fattoria didattica (mucche\, maiali\, galline\, conigli)\, possibilità per gli adulti di trasformare la colazione in un brunch.\nCOSTO: 25 euro per i bambini dai 3 agli 11 anni (colazione + visita in fattoria)\, colazione accompagnatori 15 euro\, colazione bambini 3-11 anni 10 euro\, gratis bambini sotto i 2 anni. Sconto per possessori Guest Card. \nAl momento della prenotazione specificare eventuali allergie o intolleranze alimentari. Indossare scarpe comode e  adatte alla campagna. \nINFORMAZIONI\nAGRISALUS\nVia Fibbie\, 22 Arco (TN)\ntel.  379 1179271 \nLa colazione in fattoria da Agrisalus è un’experience promossa da APT Garda Dolomiti. Ci siamo stati anche noi: leggi Colazione in fattoria da Agrisalus \nPer maggiori informazioni potete visitare anche il sito di APT Garda Dolomiti QUI
URL:https://www.iltrentinodeibambini.it/eventi/colazione-in-fattoria-2/2026-01-31/
LOCATION:Agrisalus\, via Fibbie\, 22 - Pratosaiano\, Arco\, 38062\, Italia
CATEGORIES:In fattoria,Visite guidate
END:VEVENT
BEGIN:VEVENT
DTSTART;TZID=Europe/Rome:20260131T100000
DTEND;TZID=Europe/Rome:20260131T190000
DTSTAMP:20260423T010648
CREATED:20251215T092913Z
LAST-MODIFIED:20251215T092913Z
UID:10022619-1769853600-1769886000@www.iltrentinodeibambini.it
SUMMARY:Display: mostra interattiva
DESCRIPTION:Display è il progetto di Fondazione Caritro che porta la propria collezione d’arte (oltre 300 opere) fuori dalle sedi istituzionali in formato digitale\, rendendola accessibile a tutti. Tra pannelli narrativi\, schermi interattivi e spazi per dare vita al proprio catalogo personale\, l’esperienza sarà davvero coinvolgente anche per bambini e famiglie. Maggiori info QUI. \nIn mostra fino al primo febbraio 2026 presso Palazzo del Bene a Rovereto\, nei seguenti orari:  \n\nogni sabato\, domenica e lunedì dalle ore 10.00 alle 13.00 e dalle ore 15.00 alle 19.00
URL:https://www.iltrentinodeibambini.it/eventi/display-mostra-interattiva-2-2-2/2026-01-31/
LOCATION:palazzo del Bene\, piazza Antonio Rosmini\, 3\, Rovereto
CATEGORIES:Eventi speciali
END:VEVENT
BEGIN:VEVENT
DTSTART;TZID=Europe/Rome:20260131T103000
DTEND;TZID=Europe/Rome:20260131T113000
DTSTAMP:20260423T010648
CREATED:20260107T115212Z
LAST-MODIFIED:20260107T115212Z
UID:10022813-1769855400-1769859000@www.iltrentinodeibambini.it
SUMMARY:It's story time
DESCRIPTION:Letture ad alta voce in inglese per bambine e bambini dai 3 ai 6 anni. \n\nQuando: sabato 31 gennaio\, 28 febbraio e 28 marzo 2026 alle 10.30\nDove: biblioteca Ragazzi – palazzina Liberty\nCosto: partecipazione libera e gratuita\nInfo: tel. 0461.889559 | e-mail: biblioteca.ragazzi@comune.trento.it.\n\nScoprite altre attività nelle biblioteche comunali di Treno QUI.
URL:https://www.iltrentinodeibambini.it/eventi/its-story-time-13/2026-01-31/
LOCATION:palazzina Liberty\, Piazza Dante\, Trento
CATEGORIES:In biblioteca
END:VEVENT
BEGIN:VEVENT
DTSTART;TZID=Europe/Rome:20260131T103000
DTEND;TZID=Europe/Rome:20260131T113000
DTSTAMP:20260423T010648
CREATED:20260128T102134Z
LAST-MODIFIED:20260128T102438Z
UID:10022851-1769855400-1769859000@www.iltrentinodeibambini.it
SUMMARY:Piccoli Viaggiatori - Storie da ridere
DESCRIPTION:Secondo appuntamento invernale con le Letture ad Alta Voce –  ‘Piccoli viaggiatori a LA STAZIONE!’ a cura di Beatrice Deflorian\, volontaria Nati per Leggere.\n\n\n\nDOVE: La Stazione – Biblioteca di Predazzo\nQUANDO: sabato 31 gennaio 2026 ore 10.30\nACCESSO:  libero e gratuito\nCONSIGLIATO A:  famiglie con bambini dai 3 ai 6 anni\n\n\nINFO E CONTATTO: La Stazione\, tel. 0462.501830\n\nScopri qui la La Stazione: la super biblioteca di Predazzo
URL:https://www.iltrentinodeibambini.it/eventi/piccoli-viaggiatori/
LOCATION:la Stazione\, Corso Degasperi 16/A\, Predazzo
CATEGORIES:In biblioteca,Spazi d'incontro
END:VEVENT
BEGIN:VEVENT
DTSTART;TZID=Europe/Rome:20260131T103000
DTEND;TZID=Europe/Rome:20260131T183000
DTSTAMP:20260423T010648
CREATED:20260121T084049Z
LAST-MODIFIED:20260121T084049Z
UID:10022828-1769855400-1769884200@www.iltrentinodeibambini.it
SUMMARY:GEOdi: un viaggio virtuale
DESCRIPTION:Un viaggio virtuale alla scoperta della geologia del Trentino e delle Dolomiti. Indossa il visore per la realtà virtuale\, scegli il tuo percorso e vivi un’esperienza immersiva tra minerali\, rocce\, miniere e scenari inaspettati. \n\nQuando: venerdì 23 e 30 gennaio 2026 alle 10.30\, 11.15 e 12 | sabato 31 gennaio 2026 alle 10.30\, 11.15\, 12\, 16.30\, 17.15 e 18\nDove: Museo Geologico delle Dolomiti – Predazzo\nCosto: 3 euro oltre il biglietto d’ingresso\nInfo: target 10+ | prenotazione obbligatoria online QUI\n\nScopri tutti gli appuntamenti invernali del Museo Geologico delle Dolomiti QUI. \n 
URL:https://www.iltrentinodeibambini.it/eventi/geodi-un-viaggio-virtuale-2-2-2-2-2-2-2/2026-01-31/
LOCATION:Museo Geologico delle Dolomiti\, Piazza SS. Filippo e Giacomo 1\, Predazzo 
CATEGORIES:Al Museo,Eventi speciali
GEO:46.3128605;11.602666
X-APPLE-STRUCTURED-LOCATION;VALUE=URI;X-ADDRESS=Museo Geologico delle Dolomiti Piazza SS. Filippo e Giacomo 1 Predazzo;X-APPLE-RADIUS=500;X-TITLE=Piazza SS. Filippo e Giacomo 1:geo:11.602666,46.3128605
END:VEVENT
BEGIN:VEVENT
DTSTART;TZID=Europe/Rome:20260131T120000
DTEND;TZID=Europe/Rome:20260131T170000
DTSTAMP:20260423T010648
CREATED:20260131T131201Z
LAST-MODIFIED:20260131T131201Z
UID:10022869-1769860800-1769878800@www.iltrentinodeibambini.it
SUMMARY:Carnevale di Cinte Tesino
DESCRIPTION:Sabato 31 gennaio 2026 dalle ore 12.30 a Cinte Tesino. Presso il piazzale della caserma dei Vigili del Fuoco premiazione delle mascherine più originali e pomeriggio in musica
URL:https://www.iltrentinodeibambini.it/eventi/carnevale-di-cinte-tesino/
LOCATION:Cinte Tesino\, TN\, Italia
CATEGORIES:Eventi speciali,Feste
END:VEVENT
BEGIN:VEVENT
DTSTART;TZID=Europe/Rome:20260131T143000
DTEND;TZID=Europe/Rome:20260131T163000
DTSTAMP:20260423T010648
CREATED:20250314T122057Z
LAST-MODIFIED:20260127T070722Z
UID:10017459-1769869800-1769877000@www.iltrentinodeibambini.it
SUMMARY:Crea il tuo videogioco
DESCRIPTION:Laboratorio di informatica creativa per ragazzine e ragazzini: costruire un videogioco con Scratch\, controllare i robot Edison\, mBot e Ozobot\, suonare su una batteria di frutta con il Makey-Makey\, pubblicare il un sito web\, modellare oggetti virtuali disegnando in 3D\, imparare a programmare in Python e tanto altro ancora. Non occorrono particolari conoscenze. Maggiori info QUI. \n\nQuando: sabato 31 gennaio 2026 alle ore 14.30\nDove: biblioteca centrale di via Roma – Trento\nCosto: partecipazione gratuita\nInfo: target 7-15 anni | porta il tuo PC | iscrizioni QUI\n\nScoprite tutti gli appuntamenti per bambini e ragazzi nelle biblioteche comunali di Trento QUI.
URL:https://www.iltrentinodeibambini.it/eventi/crea-il-tuo-videogioco-2/
LOCATION:Biblioteca Comunale Trento\, Trento 
CATEGORIES:Eventi speciali,In biblioteca
GEO:46.0700915;11.1197626
END:VEVENT
BEGIN:VEVENT
DTSTART;TZID=Europe/Rome:20260131T153000
DTEND;TZID=Europe/Rome:20260131T180000
DTSTAMP:20260423T010648
CREATED:20251028T101031Z
LAST-MODIFIED:20251028T101031Z
UID:10021628-1769873400-1769882400@www.iltrentinodeibambini.it
SUMMARY:Buchettino
DESCRIPTION:SPETTACOLO TEATRALE PER FAMIGLIE. Nella semi-oscurità di una grande camera da letto in legno\, la narratrice accoglie gli spettatori e ognuno si sdraia nel suo letto. Al centro della camera\, sotto l’unica lampadina\, racconta tutte le peripezie di Buchettino e nel momento stesso in cui le evoca se ne ode la traccia acustica. È quasi buio e l’unica attività percettiva disponibile è quella dell’orecchio che\, in questo modo\, potenzia la capacità di cogliere i suoni provenienti dai quattro lati. \n\nQuando: sabato 31 gennaio 2026 alle ore 15.30 e alle 17.00 | domenica 1 febbraio 2026 alle ore 15.30 e alle 17.00\nDove: Teatro SanbàPolis – Trento\nCosto: adulti 6 euro | bambini (3-14 anni) o possessori di Euregio Family Pass 4 euro\nInfo: età consigliata: 8+ | durata: 60 minuti | acquista il biglietto online QUI\n\nScoprite tutti gli spettacoli per bambini e famiglie della rassegna “Scappo a teatro” QUI.
URL:https://www.iltrentinodeibambini.it/eventi/buchettino/2026-01-31/
LOCATION:Teatro Sanbàpolis\, via della Malpensada\, 82\, trento\, 38100
CATEGORIES:A teatro,Spettacoli
GEO:46.0469128;11.1335135
X-APPLE-STRUCTURED-LOCATION;VALUE=URI;X-ADDRESS=Teatro Sanbàpolis via della Malpensada 82 trento 38100;X-APPLE-RADIUS=500;X-TITLE=via della Malpensada\, 82:geo:11.1335135,46.0469128
END:VEVENT
BEGIN:VEVENT
DTSTART;TZID=Europe/Rome:20260131T163000
DTEND;TZID=Europe/Rome:20260131T173000
DTSTAMP:20260423T010648
CREATED:20250923T154159Z
LAST-MODIFIED:20250923T154159Z
UID:10021267-1769877000-1769880600@www.iltrentinodeibambini.it
SUMMARY:Ravanellina
DESCRIPTION:SPETTACOLO TEATRALE PER BAMBINI E FAMIGLIE | Ravanellina è una ragazza che viaggia in giro per il mondo dentro il suo baule e nel giorno del\nsuo compleanno\, fermatasi in una bellissima radura\, decide di raccontare agli invitati della festa tutta la sua storia. Spettacolo ispirato alla fiaba di Raperonzolo. \n\nQuando: sabato 31 gennaio 2026 alle ore 16.30\nDove: Teatro San Marco – Trento\nCosto: adulti 6 euro | bambini fino ai 12 anni 4 euro | terzo figlio gratuito\nInfo: consigliato dai 3 anni | acquistate il biglietto QUI\n\nScoprite tutti gli spettacoli della rassegna “La famiglia va a teatro” QUI.
URL:https://www.iltrentinodeibambini.it/eventi/ravanellina/
LOCATION:Teatro San Marco\, Via San Bernardino \, 8 \, Tento 
CATEGORIES:A teatro,Spettacoli
GEO:46.0641308;11.1292454
X-APPLE-STRUCTURED-LOCATION;VALUE=URI;X-ADDRESS=Teatro San Marco Via San Bernardino  8  Tento;X-APPLE-RADIUS=500;X-TITLE=Via San Bernardino \, 8:geo:11.1292454,46.0641308
END:VEVENT
END:VCALENDAR