BEGIN:VCALENDAR
VERSION:2.0
PRODID:-//Il Trentino dei Bambini - ECPv6.13.2//NONSGML v1.0//EN
CALSCALE:GREGORIAN
METHOD:PUBLISH
X-ORIGINAL-URL:https://www.iltrentinodeibambini.it
X-WR-CALDESC:Eventi per Il Trentino dei Bambini
REFRESH-INTERVAL;VALUE=DURATION:PT1H
X-Robots-Tag:noindex
X-PUBLISHED-TTL:PT1H
BEGIN:VTIMEZONE
TZID:Europe/Rome
BEGIN:DAYLIGHT
TZOFFSETFROM:+0100
TZOFFSETTO:+0200
TZNAME:CEST
DTSTART:20250330T010000
END:DAYLIGHT
BEGIN:STANDARD
TZOFFSETFROM:+0200
TZOFFSETTO:+0100
TZNAME:CET
DTSTART:20251026T010000
END:STANDARD
BEGIN:DAYLIGHT
TZOFFSETFROM:+0100
TZOFFSETTO:+0200
TZNAME:CEST
DTSTART:20260329T010000
END:DAYLIGHT
BEGIN:STANDARD
TZOFFSETFROM:+0200
TZOFFSETTO:+0100
TZNAME:CET
DTSTART:20261025T010000
END:STANDARD
END:VTIMEZONE
BEGIN:VEVENT
DTSTART;VALUE=DATE:20251207
DTEND;VALUE=DATE:20260308
DTSTAMP:20260423T010648
CREATED:20251108T175307Z
LAST-MODIFIED:20251108T175307Z
UID:10021785-1765065600-1772927999@www.iltrentinodeibambini.it
SUMMARY:Presepi nel Bosco
DESCRIPTION:Dal 7 dicembre 2025 al 7 marzo 2026 sarà possibile passeggiare nel bosco tra tanti presepi e decorazioni natalizie. È la 13a edizione di Presepi nel Bosco\, a Ziano\, in Val di Fiemme. La partenza è dalla piazza della Frazione Zanolin. Un percorso semplice adatto anche ai bambini. Lunghezza 1\,3 chilometri\, tempo di percorrenza: 1 ora. No passeggino\, ingresso libero. \nPer maggiori info Presepi nel bosco a Ziano
URL:https://www.iltrentinodeibambini.it/eventi/presepi-nel-bosco/
LOCATION:Ziano\, Italia
CATEGORIES:Escursioni
END:VEVENT
BEGIN:VEVENT
DTSTART;TZID=Europe/Rome:20260206T090000
DTEND;TZID=Europe/Rome:20260206T113000
DTSTAMP:20260423T010648
CREATED:20260106T110321Z
LAST-MODIFIED:20260106T110321Z
UID:10022728-1770368400-1770377400@www.iltrentinodeibambini.it
SUMMARY:Centro genitori bambini in biblioteca
DESCRIPTION:Uno spazio dedicato a genitori e bambini da o a 3 anni dove possono condividere momenti di gioco\, musica\, lettura e coccole. \n\nQuando: tutti i giovedì e i venerdì dalle 9.00 alle 11.45\nDove: biblioteca Ragazzi – palazzina Liberty\nCosto: partecipazione gratuita\nInfo: tel. 0461.889559 | biblioteca.ragazzi@comune.trento.it\n\nScoprite tutti gli appuntamenti per bambini e ragazzi nelle biblioteche del comune di Trento QUI.
URL:https://www.iltrentinodeibambini.it/eventi/centro-genitori-bambini-in-biblioteca-3-2/2026-02-06/
LOCATION:palazzina Liberty\, Piazza Dante\, Trento
CATEGORIES:Eventi speciali,In biblioteca
END:VEVENT
BEGIN:VEVENT
DTSTART;TZID=Europe/Rome:20260206T100000
DTEND;TZID=Europe/Rome:20260206T123000
DTSTAMP:20260423T010648
CREATED:20251105T122540Z
LAST-MODIFIED:20251105T123036Z
UID:10021727-1770372000-1770381000@www.iltrentinodeibambini.it
SUMMARY:Ciaspolata panoramica al Ciampac
DESCRIPTION:Ogni mercoledì e venerdì le Guide Alpine vi accompagneranno attraverso una panoramica escursione con le ciaspole nella bellissima conca del Ciampac alla scoperta dei segreti dei boschi innevati! \n\nQuando: ogni mercoledì e venerdì mattina dal 17 dicembre al 1 aprile 2026\nDove: al Ciampac – Alba di Canazei\, ritrovo presso la stazione a valle della cabinovia\nOrario: ore 10.00. Qualora venisse raggiunto il numero massimo di iscritti alla mattina\, verranno aperte le iscrizioni per la ciaspolata del pomeriggio.\nDurata dell’attività: 2 ore circa\nCosto: € 55\,00 a persona (il costo include: impianto di risalita\, Guida Alpina). Noleggio attrezzatura (ciaspole e bastoncini) gratuito.\nAdatto a: maggiori di anni 12\nÈ richiesta la prenotazione: CLICCA QUI\n\nScopri il Ciampac per i bambini in inverno\, clicca su Fassa: al Ciampac in inverno
URL:https://www.iltrentinodeibambini.it/eventi/ciaspolata-panoramica-al-ciampac/2026-02-06/
LOCATION:Stazione a valle funivia Ciampac\, Alba di Canazei\, TN\, 38032\, Italia
CATEGORIES:Escursioni
END:VEVENT
BEGIN:VEVENT
DTSTART;TZID=Europe/Rome:20260206T143000
DTEND;TZID=Europe/Rome:20260206T170000
DTSTAMP:20260423T010648
CREATED:20260106T110538Z
LAST-MODIFIED:20260106T110538Z
UID:10022756-1770388200-1770397200@www.iltrentinodeibambini.it
SUMMARY:Spazio giochi da tavolo
DESCRIPTION:Uno spazio dedicato a chi ha voglia di cimentarsi con i giochi da tavolo\, senza limiti d’età. \n\nQuando: tutti i venerdì dalle ore 14.30\nDove: biblioteca comunale – sede di Povo\nCosto: partecipazione libera e gratuita\nInfo: tel. 0461-889918 | e-mail biblioteca.povo@comune.trento.it\n\nScoprite tutti gli eventi per bambini e ragazzi nelle biblioteche comunali di Trento QUI.
URL:https://www.iltrentinodeibambini.it/eventi/spazio-giochi-da-tavolo-4-2/2026-02-06/
LOCATION:biblioteca di Povo\, Via Don Tommaso Dallafior
CATEGORIES:Eventi speciali,In biblioteca
END:VEVENT
BEGIN:VEVENT
DTSTART;TZID=Europe/Rome:20260206T143000
DTEND;TZID=Europe/Rome:20260206T183000
DTSTAMP:20260423T010648
CREATED:20250923T150526Z
LAST-MODIFIED:20250923T150526Z
UID:10021259-1770388200-1770402600@www.iltrentinodeibambini.it
SUMMARY:Spazio giochi da tavolo
DESCRIPTION:Uno spazio dedicato ai giochi da tavolo per bambini da 3 a 6 anni. \n\nQuando: ogni primo venerdì del mese da settembre 2025 a giugno 2026 dalle ore 14.30\nDove: biblioteca dei Ragazzi – palazzina Liberty\nCosto: partecipazione libera e gratuita\nInfo: tel. 0461 889559 | email: biblioteca.ragazzi@comune.trento.it\n\nScoprite tutti gli eventi per bambini e ragazzi nelle biblioteche comunali di Trento QUI.
URL:https://www.iltrentinodeibambini.it/eventi/spazio-giochi-da-tavolo-5/2026-02-06/
LOCATION:palazzina Liberty\, Piazza Dante\, Trento
CATEGORIES:In biblioteca
END:VEVENT
BEGIN:VEVENT
DTSTART;TZID=Europe/Rome:20260206T150000
DTEND;TZID=Europe/Rome:20260206T173000
DTSTAMP:20260423T010648
CREATED:20260106T111019Z
LAST-MODIFIED:20260106T111019Z
UID:10022774-1770390000-1770399000@www.iltrentinodeibambini.it
SUMMARY:Centro genitori bambini in biblioteca
DESCRIPTION:Uno spazio dedicato a genitori e bambini fino a 6 anni dove possono condividere momenti di gioco\, musica\, lettura e coccole. \n\nQuando: il venerdì\, ogni 2 settimane\, dalle ore 15.00\nDove: biblioteca comunale – sede di Meano\nCosto: partecipazione gratuita\nInfo: tel. 0461.889559\n\nScoprite tutti gli appuntamenti per bambini e ragazzi nelle biblioteche del comune di Trento QUI.
URL:https://www.iltrentinodeibambini.it/eventi/centro-genitori-bambini-in-biblioteca-2-2/2026-02-06/
LOCATION:Biblioteca di Meano\, Via delle Sugarine\, 26\, Meano 
CATEGORIES:Eventi speciali,In biblioteca
GEO:46.1262652;11.1167911
X-APPLE-STRUCTURED-LOCATION;VALUE=URI;X-ADDRESS=Biblioteca di Meano Via delle Sugarine 26 Meano;X-APPLE-RADIUS=500;X-TITLE=Via delle Sugarine\, 26:geo:11.1167911,46.1262652
END:VEVENT
END:VCALENDAR