BEGIN:VCALENDAR
VERSION:2.0
PRODID:-//Il Trentino dei Bambini - ECPv6.13.2//NONSGML v1.0//EN
CALSCALE:GREGORIAN
METHOD:PUBLISH
X-WR-CALNAME:Il Trentino dei Bambini
X-ORIGINAL-URL:https://www.iltrentinodeibambini.it
X-WR-CALDESC:Eventi per Il Trentino dei Bambini
REFRESH-INTERVAL;VALUE=DURATION:PT1H
X-Robots-Tag:noindex
X-PUBLISHED-TTL:PT1H
BEGIN:VTIMEZONE
TZID:Europe/Rome
BEGIN:DAYLIGHT
TZOFFSETFROM:+0100
TZOFFSETTO:+0200
TZNAME:CEST
DTSTART:20250330T010000
END:DAYLIGHT
BEGIN:STANDARD
TZOFFSETFROM:+0200
TZOFFSETTO:+0100
TZNAME:CET
DTSTART:20251026T010000
END:STANDARD
BEGIN:DAYLIGHT
TZOFFSETFROM:+0100
TZOFFSETTO:+0200
TZNAME:CEST
DTSTART:20260329T010000
END:DAYLIGHT
BEGIN:STANDARD
TZOFFSETFROM:+0200
TZOFFSETTO:+0100
TZNAME:CET
DTSTART:20261025T010000
END:STANDARD
END:VTIMEZONE
BEGIN:VEVENT
DTSTART;VALUE=DATE:20251207
DTEND;VALUE=DATE:20260308
DTSTAMP:20260423T010531
CREATED:20251108T175307Z
LAST-MODIFIED:20251108T175307Z
UID:10021785-1765065600-1772927999@www.iltrentinodeibambini.it
SUMMARY:Presepi nel Bosco
DESCRIPTION:Dal 7 dicembre 2025 al 7 marzo 2026 sarà possibile passeggiare nel bosco tra tanti presepi e decorazioni natalizie. È la 13a edizione di Presepi nel Bosco\, a Ziano\, in Val di Fiemme. La partenza è dalla piazza della Frazione Zanolin. Un percorso semplice adatto anche ai bambini. Lunghezza 1\,3 chilometri\, tempo di percorrenza: 1 ora. No passeggino\, ingresso libero. \nPer maggiori info Presepi nel bosco a Ziano
URL:https://www.iltrentinodeibambini.it/eventi/presepi-nel-bosco/
LOCATION:Ziano\, Italia
CATEGORIES:Escursioni
END:VEVENT
BEGIN:VEVENT
DTSTART;VALUE=DATE:20260207
DTEND;VALUE=DATE:20260208
DTSTAMP:20260423T010531
CREATED:20260128T134507Z
LAST-MODIFIED:20260128T134507Z
UID:10022859-1770422400-1770508799@www.iltrentinodeibambini.it
SUMMARY:Carnevale in Trentino Alto Adige
DESCRIPTION:Il Carnevale si accende di colori\, musica e tradizione: tra feste in piazza e sfilate allegoriche\, maschere e carri animano paesi e città\, regalando allegria a grandi e piccoli. Abbiamo raccolto per voi tutti gli appuntamenti QUI.
URL:https://www.iltrentinodeibambini.it/eventi/carnevale-in-trentino-alto-adige/2026-02-07/
LOCATION:trentino alto adige
CATEGORIES:Feste
END:VEVENT
BEGIN:VEVENT
DTSTART;TZID=Europe/Rome:20260207T143000
DTEND;TZID=Europe/Rome:20260207T180000
DTSTAMP:20260423T010531
CREATED:20260106T155531Z
LAST-MODIFIED:20260106T155852Z
UID:10022783-1770474600-1770487200@www.iltrentinodeibambini.it
SUMMARY:Pomeriggi di giochi da tavolo
DESCRIPTION:Un pomeriggio per giocare con la supervisione e l’organizzazione dell’associazione Ludimus: giochi di ruolo\, complessi giochi di strategia o semplici giochi da tavolo per avventure adatte a tutti. \n\nQuando: sabato 10 gennaio\, 7 febbraio e 14 marzo 2026 dalle ore 14.30\nDove: biblioteca comunale di via Roma – Trento\nCosto: partecipazione libera e gratuita\nInfo: tel. 0461-889521\n\nScoprite tutti gli appuntamenti per bambini e ragazzi nelle biblioteche del comune di Trento QUI.
URL:https://www.iltrentinodeibambini.it/eventi/pomeriggi-di-giochi-da-tavolo-2-2/2026-02-07/
LOCATION:Biblioteca Comunale Trento\, Trento 
CATEGORIES:Eventi speciali,In biblioteca
GEO:46.0700915;11.1197626
END:VEVENT
BEGIN:VEVENT
DTSTART;TZID=Europe/Rome:20260207T150000
DTEND;TZID=Europe/Rome:20260207T163000
DTSTAMP:20260423T010531
CREATED:20250702T073802Z
LAST-MODIFIED:20250928T191346Z
UID:10021332-1770476400-1770481800@www.iltrentinodeibambini.it
SUMMARY:Robotici in erba
DESCRIPTION:Laboratorio di robotica per bambine e bambini da 6 a 8 anni \nQUANDO:  4 ottobre\, 8 novembre\, 6 dicembre 2005 e ogni primo sabato del mese (no agosto)\nORARIO: 15.00- 16.30\nDOVE: Rovereto\, Museo di Scienze e Archeologia\nCOSTO: 7 € a persona\n\nPosti limitati\, prenotazione obbligatoria entro il giorno precedente alle ore 17.00. \nPrenota QUI \nPer informazioni:\nFondazione Museo Civico di Rovereto\nTel. 0464 452800\nmuseo@fondazionemcr.it
URL:https://www.iltrentinodeibambini.it/eventi/robotici-in-erba-6/2026-02-07/
LOCATION:Museo di Scienze e Archeologia e Planetario\, Borgo Santa Caterina\, 41\, Rovereto\, 38068\, Italia
CATEGORIES:Al Museo,Laboratori
END:VEVENT
BEGIN:VEVENT
DTSTART;TZID=Europe/Rome:20260207T163000
DTEND;TZID=Europe/Rome:20260207T173000
DTSTAMP:20260423T010531
CREATED:20250923T154416Z
LAST-MODIFIED:20250923T154416Z
UID:10021268-1770481800-1770485400@www.iltrentinodeibambini.it
SUMMARY:Fiabe e leggende delle Dolomiti
DESCRIPTION:SPETTACOLO TEATRALE PER BAMBINI E FAMIGLIE | Spettacolo di burattini che mette in scena fiabe\, leggende e racconti della tradizione dolomitica\, tra cui I Giganti di Pitcevert\, Il Fuso d’Oro\, La Strega Casara\, La Caora Barbantana\, Lo Schratl e La Miniera di Valcava. \n\nQuando: sabato 7 febbraio 2026 alle ore 16.30\nDove: Teatro San Marco – Trento\nCosto: adulti 6 euro | bambini fino ai 12 anni 4 euro | terzo figlio gratuito\nInfo: consigliato dai 3 anni | acquistate il biglietto QUI\n\nScoprite tutti gli spettacoli della rassegna “La famiglia va a teatro” QUI.
URL:https://www.iltrentinodeibambini.it/eventi/fiabe-e-leggende-delle-dolomiti-2/
LOCATION:Teatro San Marco\, Via San Bernardino \, 8 \, Tento 
CATEGORIES:A teatro,Spettacoli
GEO:46.0641308;11.1292454
X-APPLE-STRUCTURED-LOCATION;VALUE=URI;X-ADDRESS=Teatro San Marco Via San Bernardino  8  Tento;X-APPLE-RADIUS=500;X-TITLE=Via San Bernardino \, 8:geo:11.1292454,46.0641308
END:VEVENT
END:VCALENDAR