BEGIN:VCALENDAR
VERSION:2.0
PRODID:-//Il Trentino dei Bambini - ECPv6.13.2//NONSGML v1.0//EN
CALSCALE:GREGORIAN
METHOD:PUBLISH
X-WR-CALNAME:Il Trentino dei Bambini
X-ORIGINAL-URL:https://www.iltrentinodeibambini.it
X-WR-CALDESC:Eventi per Il Trentino dei Bambini
REFRESH-INTERVAL;VALUE=DURATION:PT1H
X-Robots-Tag:noindex
X-PUBLISHED-TTL:PT1H
BEGIN:VTIMEZONE
TZID:Europe/Rome
BEGIN:DAYLIGHT
TZOFFSETFROM:+0100
TZOFFSETTO:+0200
TZNAME:CEST
DTSTART:20250330T010000
END:DAYLIGHT
BEGIN:STANDARD
TZOFFSETFROM:+0200
TZOFFSETTO:+0100
TZNAME:CET
DTSTART:20251026T010000
END:STANDARD
BEGIN:DAYLIGHT
TZOFFSETFROM:+0100
TZOFFSETTO:+0200
TZNAME:CEST
DTSTART:20260329T010000
END:DAYLIGHT
BEGIN:STANDARD
TZOFFSETFROM:+0200
TZOFFSETTO:+0100
TZNAME:CET
DTSTART:20261025T010000
END:STANDARD
END:VTIMEZONE
BEGIN:VEVENT
DTSTART;VALUE=DATE:20251207
DTEND;VALUE=DATE:20260308
DTSTAMP:20260423T010531
CREATED:20251108T175307Z
LAST-MODIFIED:20251108T175307Z
UID:10021785-1765065600-1772927999@www.iltrentinodeibambini.it
SUMMARY:Presepi nel Bosco
DESCRIPTION:Dal 7 dicembre 2025 al 7 marzo 2026 sarà possibile passeggiare nel bosco tra tanti presepi e decorazioni natalizie. È la 13a edizione di Presepi nel Bosco\, a Ziano\, in Val di Fiemme. La partenza è dalla piazza della Frazione Zanolin. Un percorso semplice adatto anche ai bambini. Lunghezza 1\,3 chilometri\, tempo di percorrenza: 1 ora. No passeggino\, ingresso libero. \nPer maggiori info Presepi nel bosco a Ziano
URL:https://www.iltrentinodeibambini.it/eventi/presepi-nel-bosco/
LOCATION:Ziano\, Italia
CATEGORIES:Escursioni
END:VEVENT
BEGIN:VEVENT
DTSTART;VALUE=DATE:20260208
DTEND;VALUE=DATE:20260209
DTSTAMP:20260423T010531
CREATED:20260128T134507Z
LAST-MODIFIED:20260128T134507Z
UID:10022860-1770508800-1770595199@www.iltrentinodeibambini.it
SUMMARY:Carnevale in Trentino Alto Adige
DESCRIPTION:Il Carnevale si accende di colori\, musica e tradizione: tra feste in piazza e sfilate allegoriche\, maschere e carri animano paesi e città\, regalando allegria a grandi e piccoli. Abbiamo raccolto per voi tutti gli appuntamenti QUI.
URL:https://www.iltrentinodeibambini.it/eventi/carnevale-in-trentino-alto-adige/2026-02-08/
LOCATION:trentino alto adige
CATEGORIES:Feste
END:VEVENT
BEGIN:VEVENT
DTSTART;TZID=Europe/Rome:20260208T120000
DTEND;TZID=Europe/Rome:20260208T180000
DTSTAMP:20260423T010531
CREATED:20250210T142716Z
LAST-MODIFIED:20260116T090723Z
UID:10017281-1770552000-1770573600@www.iltrentinodeibambini.it
SUMMARY:Carnevale a Borgo Valsugana
DESCRIPTION:Festa di Carnevale con la tradizionale bigolada offerta dai Vigili del Fuoco\, sfilata dei carri e dei gruppi mascherati\, a seguire baby disco\, truccabimbi e intrattenimento per tutti. Per finire premiazione dei carri e maschere\, estrazione della lotteria e distribuzione gratuita di tè e cioccolata calda. \n\nQuando: domenica 8 febbraio 2026 dalle ore 12.00\nDove: Piazza De Gasperi – Borgo Valsugana\nCosto: partecipazione gratuita\nInfo: tel. 334.8939200\n\nScoprite tutte le feste di Carnevale del Trentino Alto Adige QUI.
URL:https://www.iltrentinodeibambini.it/eventi/carnevale-a-borgo-valsugana/
LOCATION:Borgo Valsugana\, Piazza Martiri
CATEGORIES:Eventi speciali,Feste
GEO:44.5443771;7.8299944
X-APPLE-STRUCTURED-LOCATION;VALUE=URI;X-ADDRESS=Borgo Valsugana Piazza Martiri;X-APPLE-RADIUS=500;X-TITLE=Piazza Martiri:geo:7.8299944,44.5443771
END:VEVENT
BEGIN:VEVENT
DTSTART;TZID=Europe/Rome:20260208T150000
DTEND;TZID=Europe/Rome:20260208T153000
DTSTAMP:20260423T010531
CREATED:20250928T182105Z
LAST-MODIFIED:20250928T182105Z
UID:10021302-1770562800-1770564600@www.iltrentinodeibambini.it
SUMMARY:Il cielo in una stanza 3.0
DESCRIPTION:Gli esperti del Planetario della Fondazione  Museo Civico di Rovereto vi accompagneranno in un viaggio nel Cosmo\, partendo dalla Terra per esplorare il Sistema Solare\, con approfondimenti sulle missioni spaziali\, fino ad arrivare lontano verso nebulose e altri oggetti celesti\, in un susseguirsi di immagini e video spettacolari e coinvolgenti. \nAl raggiungimento del numero massimo di posti disponibili sarà attivato un secondo turno alle ore 16.30. \nTutte le domeniche alle ore 15.00 e\, se esaurito\, anche alle 16.30\nPosti limitati\, prenotazione obbligatoria entro le 17.00 del giorno precedente l’inizio dell’attività.\nLa tariffa di partecipazione è di euro 7 a persona. Biglietto QUI \nChi partecipa allo spettacolo al Planetario ha diritto a un biglietto di ingresso ridotto al museo (euro 7 + euro 5)\, acquistabile QUI \nInfo: 0464 452800 – museo@fondazionemcr.it \nConosci il Museo di Scienze e Archeologia di Rovereto? Scopri di più QUI
URL:https://www.iltrentinodeibambini.it/eventi/il-cielo-in-una-stanza-3-0-3/2026-02-08/
LOCATION:Museo di Scienze e Archeologia e Planetario\, Borgo Santa Caterina\, 41\, Rovereto\, 38068\, Italia
CATEGORIES:Al Museo,Spettacoli
END:VEVENT
BEGIN:VEVENT
DTSTART;TZID=Europe/Rome:20260208T150000
DTEND;TZID=Europe/Rome:20260208T163000
DTSTAMP:20260423T010531
CREATED:20260131T130107Z
LAST-MODIFIED:20260131T130107Z
UID:10022867-1770562800-1770568200@www.iltrentinodeibambini.it
SUMMARY:LITTLE MART - Depero a New York
DESCRIPTION:Il tema degli incontri Little Mart? Le mostre e le collezioni del museo o\, più in generale\, temi e tecniche legati all’arte contemporanea. Vere e proprie palestre della creatività con laboratori che coinvolgono bambini e adulti proponendo una partecipazione attiva. \nATTIVITA‘: Depero a New York |  sulle tracce dell’artista Fortunato Depero nella metropoli americana\, ispirandosi al plastico di Gaetano Cappa esposto alla Casa d’Arte Futurista Depero. Un viaggio nella fantasia\, per divertirsi a scoprire e a immaginare sempre nuovi particolari tra grattacieli e metropolitane\, insegne luminose e ruote panoramiche.\nDOVE: MART Museo di Arte Moderna e Contemporanea Rovereto\, C.so Bettini 43\, Rovereto\nQUANDO: Domenica 8 febbraio 2026\, ore 15.00 – 16.30\nCOSTO: 5 euro a bambino. Accompagnatore gratuito\nADATTO A: bambini 5-12 anni\nPRENOTAZIONI:  consigliate\, dal lunedì al venerdì scrivendo a education@mart.trento.it o telefonando allo 0464 454135-108. Il sabato e la domenica presso la biglietteria del Mart (0464 454240). \nConosci già il MART? Scoprilo meglio\, leggi Al MART coi bambini \nLittle Mart vi aspetta tutte le domeniche pomeriggio
URL:https://www.iltrentinodeibambini.it/eventi/little-mart-depero-a-new-york/
LOCATION:MART – Museo ArteModerna e Contemporanea Rovereto\, Corso Bettini 43\, Rovereto\, TN\, 38068\, Italia
CATEGORIES:Al Museo,Laboratori
END:VEVENT
BEGIN:VEVENT
DTSTART;TZID=Europe/Rome:20260208T150000
DTEND;TZID=Europe/Rome:20260208T170000
DTSTAMP:20260423T010531
CREATED:20260101T104646Z
LAST-MODIFIED:20260101T104646Z
UID:10022666-1770562800-1770570000@www.iltrentinodeibambini.it
SUMMARY:Fiocchi di neve
DESCRIPTION:Un viaggio tra arte\, neve e poesia. La proposta accompagna bambine e bambini in un percorso guidato in mostra\, dove l’osservazione di opere dedicate al tema della neve diventa occasione per scoprire la forma dei fiocchi e dare voce alle emozioni che questo elemento naturale sa evocare. Il percorso si conclude in aula didattica\, dove ogni bambino realizza un fiocco di neve con sacchetti di carta decorati con la propria poesia da portare a casa. \n\nQuando: domenica 11 gennaio e 8 febbraio 2026 alle ore 15.00\nDove: Castello del Buonconsiglio\nCosto: 8 euro a nucleo familiare\nInfo: tel. 0461-492811 | prenotazione consigliata QUI\n\nScoprite tutte le attività per bambini e famiglie al Castello del Buonconsiglio QUI.
URL:https://www.iltrentinodeibambini.it/eventi/fiocchi-di-neve/2026-02-08/
LOCATION:Castello del Buonconsiglio\, Trento 
CATEGORIES:Al Museo,Laboratori
GEO:46.0700915;11.1197626
END:VEVENT
BEGIN:VEVENT
DTSTART;TZID=Europe/Rome:20260208T160000
DTEND;TZID=Europe/Rome:20260208T170000
DTSTAMP:20260423T010531
CREATED:20251003T074623Z
LAST-MODIFIED:20251003T074931Z
UID:10021375-1770566400-1770570000@www.iltrentinodeibambini.it
SUMMARY:Pinocchio. Una vera bugia
DESCRIPTION:SPETTACOLO TEATRALE PER BAMBINI E FAMIGLIE | Pinocchio in ogni situazione fa la scelta sbagliata. Si innamora di qualsiasi progetto e a ogni caduta si rialza sempre con la stessa energia. Pigro\, testardo e un po’ permaloso\, Pinocchio si fa prendere per il naso da tutti. Ma finché c’è amore c’è speranza\, anche per un burattino di legno! \nLo spettacolo è preceduto\, alle ore 15.30\, da una merenda. \n\nQuando: domenica 8 febbraio 2026 alle ore 16.00\nDove: Teatro di Meano\nCosto: intero 6 euro | ridotto 5\,50 euro | Card Amici dei Teatri 5 euro | inquilini ITEA 3 euro\nInfo: adatto dai 4 ai 9 anni | acquista il biglietto QUI\n\nScoprite tutti gli spettacoli del Teatro di Meano QUI.
URL:https://www.iltrentinodeibambini.it/eventi/pinocchio-una-vera-bugia/
LOCATION:Teatro di Meano\, via delle Sugarine\, 22 \, Meano\, Trento\, 38121\, Italia
CATEGORIES:A teatro,Spettacoli
GEO:46.1263112;11.116785
X-APPLE-STRUCTURED-LOCATION;VALUE=URI;X-ADDRESS=Teatro di Meano via delle Sugarine 22  Meano Trento 38121 Italia;X-APPLE-RADIUS=500;X-TITLE=via delle Sugarine\, 22:geo:11.116785,46.1263112
END:VEVENT
BEGIN:VEVENT
DTSTART;TZID=Europe/Rome:20260208T160000
DTEND;TZID=Europe/Rome:20260208T170000
DTSTAMP:20260423T010531
CREATED:20251028T114402Z
LAST-MODIFIED:20251028T114402Z
UID:10021630-1770566400-1770570000@www.iltrentinodeibambini.it
SUMMARY:Cinerentola
DESCRIPTION:SPETTACOLO TEATRALE PER FAMIGLIE. Le riprese sono quasi finite\, la maggior parte del film è stato girato\, mancano solo poche scene ma la produzione è stata dimezzata. Quello che succederà arriverà perfino a cambiare la sceneggiatura\, aggiungendo nuovi elementi non previsti che metteranno in discussione il destino segnato di Cenerentola. Tra incidenti\, imprevisti tecnici e intoppi clamorosi l’intera riuscita del film sembra compromessa. Ma… \n\nQuando: domenica 8 febbraio 2026 alle ore 16.00\nDove: Teatro Sociale – Trento\nCosto: adulti 6 euro | bambini (3-14 anni) o possessori di Euregio Family Pass 4 euro\nInfo: età consigliata: 6+ | durata: 55 minuti | acquista il biglietto online QUI\n\nScoprite tutti gli spettacoli per bambini e famiglie della rassegna “Scappo a teatro” QUI.
URL:https://www.iltrentinodeibambini.it/eventi/cinerentola/
LOCATION:Teatro Sociale\, Trento 
CATEGORIES:A teatro,Spettacoli
GEO:46.0747793;11.1217486
END:VEVENT
BEGIN:VEVENT
DTSTART;TZID=Europe/Rome:20260208T163000
DTEND;TZID=Europe/Rome:20260208T173000
DTSTAMP:20260423T010531
CREATED:20260127T081255Z
LAST-MODIFIED:20260127T081255Z
UID:10022847-1770568200-1770571800@www.iltrentinodeibambini.it
SUMMARY:Cavoli a merenda
DESCRIPTION:Uno spettacolo che è un grande gioco interattivo\, con colpi di scena e di momenti di coinvolgimento attivo del pubblico. Muovendosi con il brio e l’ironia del cabaret si parlerà però anche di verdure e della loro importanza. \nDue investigatori sono chiamati a investigare su un delitto improbabile: un affettamento di carote! \nDOVE: Cinema Teatro di Cembra\, Via San Carlo\nQUANDO: 8 febbraio 2026 ore 16.30\nETA‘: consigliato dai 5 anni\nDURATA: 50 minuti\nBIGLIETTO: intero 7 euro\, bambini < 12 anni 5 euro\, bambini < 3 anni gratuito\, tariffa family (5 o più persone) 5 euro a persona\nAPERTURA CASSE: 45 minuti prima dell’evento \nINFO: BIBLIOTECA DI CEMBRA LISIGNAGO\, tel. 0461 683096; online QUI \n*prevendita online soggetta a diritti a carico dell’utente
URL:https://www.iltrentinodeibambini.it/eventi/cavoli-a-merenda/
LOCATION:Cembra\, Cembra
CATEGORIES:A teatro,Spettacoli
GEO:46.1752844;11.2224497
END:VEVENT
END:VCALENDAR