BEGIN:VCALENDAR
VERSION:2.0
PRODID:-//Il Trentino dei Bambini - ECPv6.13.2//NONSGML v1.0//EN
CALSCALE:GREGORIAN
METHOD:PUBLISH
X-WR-CALNAME:Il Trentino dei Bambini
X-ORIGINAL-URL:https://www.iltrentinodeibambini.it
X-WR-CALDESC:Eventi per Il Trentino dei Bambini
REFRESH-INTERVAL;VALUE=DURATION:PT1H
X-Robots-Tag:noindex
X-PUBLISHED-TTL:PT1H
BEGIN:VTIMEZONE
TZID:Europe/Rome
BEGIN:DAYLIGHT
TZOFFSETFROM:+0100
TZOFFSETTO:+0200
TZNAME:CEST
DTSTART:20250330T010000
END:DAYLIGHT
BEGIN:STANDARD
TZOFFSETFROM:+0200
TZOFFSETTO:+0100
TZNAME:CET
DTSTART:20251026T010000
END:STANDARD
BEGIN:DAYLIGHT
TZOFFSETFROM:+0100
TZOFFSETTO:+0200
TZNAME:CEST
DTSTART:20260329T010000
END:DAYLIGHT
BEGIN:STANDARD
TZOFFSETFROM:+0200
TZOFFSETTO:+0100
TZNAME:CET
DTSTART:20261025T010000
END:STANDARD
END:VTIMEZONE
BEGIN:VEVENT
DTSTART;VALUE=DATE:20251207
DTEND;VALUE=DATE:20260308
DTSTAMP:20260423T010529
CREATED:20251108T175307Z
LAST-MODIFIED:20251108T175307Z
UID:10021785-1765065600-1772927999@www.iltrentinodeibambini.it
SUMMARY:Presepi nel Bosco
DESCRIPTION:Dal 7 dicembre 2025 al 7 marzo 2026 sarà possibile passeggiare nel bosco tra tanti presepi e decorazioni natalizie. È la 13a edizione di Presepi nel Bosco\, a Ziano\, in Val di Fiemme. La partenza è dalla piazza della Frazione Zanolin. Un percorso semplice adatto anche ai bambini. Lunghezza 1\,3 chilometri\, tempo di percorrenza: 1 ora. No passeggino\, ingresso libero. \nPer maggiori info Presepi nel bosco a Ziano
URL:https://www.iltrentinodeibambini.it/eventi/presepi-nel-bosco/
LOCATION:Ziano\, Italia
CATEGORIES:Escursioni
END:VEVENT
BEGIN:VEVENT
DTSTART;TZID=Europe/Rome:20260210T143000
DTEND;TZID=Europe/Rome:20260210T170000
DTSTAMP:20260423T010529
CREATED:20251105T134051Z
LAST-MODIFIED:20251105T134051Z
UID:10021744-1770733800-1770742800@www.iltrentinodeibambini.it
SUMMARY:Dietro le quinte dello sci
DESCRIPTION:Dal funzionamento dei cannoni per la neve programmata\, alla sicurezza legata al controllo delle valanghe\, senza dimenticare di dare un’occhiata alla cabina del gatto delle nevi\, con la possibilità di salire a bordo in tutta sicurezza. Un paio d’ore in compagnia di chi ogni giorno con questi mezzi lavora davvero\, per concludere con un aperitivo sulla terrazza panoramica vista Sass Pordoi. L’attività si svolgerà a partire dalle 14.30 il 13 gennaio\, il 10 febbraio e il 10 marzo 2026. \n\nQuando: martedì 13 gennaio\, martedì 10 febbraio e martedì 10 marzo 2026\nDove: al Ciampac – Alba di Canazei\, ritrovo presso la stazione a monte della cabinovia\nOrario: ore 14.30\nDurata dell’attività: 2 ore circa\nLingue: italiano e inglese\nPrezzo: € 15\,00 a persona comprensivo di guida e aperitivo. Costo dell’impianto di risalita escluso.\nEtà minima 8 anni\nÈ richiesta la prenotazione\nInfo e prenotazioni: CLICCA QUI\n\nScopri il Fassa: al Ciampac in inverno
URL:https://www.iltrentinodeibambini.it/eventi/dietro-le-quinte-dello-sci-3/2026-02-10/
LOCATION:Funivia Ciampac (stazione a monte)\, Strada de Contrin\, 17\, Alba di Canazei\, 38032\, Italia
CATEGORIES:Eventi speciali,Visite guidate
END:VEVENT
BEGIN:VEVENT
DTSTART;TZID=Europe/Rome:20260210T163000
DTEND;TZID=Europe/Rome:20260210T173000
DTSTAMP:20260423T010529
CREATED:20260203T085415Z
LAST-MODIFIED:20260203T085415Z
UID:10022880-1770741000-1770744600@www.iltrentinodeibambini.it
SUMMARY:Un fiume di storie
DESCRIPTION:Letture ad alta voce per bambine e bambini dai 3 ai 6 anni. \n\nQuando: martedì 10 febbraio 2026 alle ore 16.30\nDove: biblioteca comunale – sede di Gardolo\nCosto: partecipazione libera e gratuita\nInfo: tel. 0461.889815 | e-mail: biblioteca.gardolo@comune.trento.it.\n\nScoprite altre attività nelle biblioteche comunali di Treno QUI.
URL:https://www.iltrentinodeibambini.it/eventi/un-fiume-di-storie/
LOCATION:Biblioteca di Gardolo\, Piazza Lionello Groff\, 2\, Gardolo 
CATEGORIES:In biblioteca
END:VEVENT
BEGIN:VEVENT
DTSTART;TZID=Europe/Rome:20260210T163000
DTEND;TZID=Europe/Rome:20260210T173000
DTSTAMP:20260423T010529
CREATED:20260203T085623Z
LAST-MODIFIED:20260203T085623Z
UID:10022881-1770741000-1770744600@www.iltrentinodeibambini.it
SUMMARY:Storie in festa
DESCRIPTION:Lettura ad alta voce di albi illustrati per bambini e bambine dai 3 anni. \n\nQuando: martedì 10 e lunedì 23 febbraio 2026 alle ore 16.30\nDove: biblioteca comunale – sede dell’Argentario\nCosto: partecipazione gratuita\nInfo: 0461.889797 | biblioteca.argentario@comune.trento.it\n\nScoprite tutti gli appuntamenti per bambini e ragazzi nelle biblioteche del comune di Trento QUI.
URL:https://www.iltrentinodeibambini.it/eventi/storie-in-festa/2026-02-10/
LOCATION:biblioteca dell’Argentario\, Via Carlo e Valeria Julg\, 13\, Trento
CATEGORIES:In biblioteca
END:VEVENT
END:VCALENDAR