BEGIN:VCALENDAR
VERSION:2.0
PRODID:-//Il Trentino dei Bambini - ECPv6.13.2//NONSGML v1.0//EN
CALSCALE:GREGORIAN
METHOD:PUBLISH
X-WR-CALNAME:Il Trentino dei Bambini
X-ORIGINAL-URL:https://www.iltrentinodeibambini.it
X-WR-CALDESC:Eventi per Il Trentino dei Bambini
REFRESH-INTERVAL;VALUE=DURATION:PT1H
X-Robots-Tag:noindex
X-PUBLISHED-TTL:PT1H
BEGIN:VTIMEZONE
TZID:Europe/Rome
BEGIN:DAYLIGHT
TZOFFSETFROM:+0100
TZOFFSETTO:+0200
TZNAME:CEST
DTSTART:20250330T010000
END:DAYLIGHT
BEGIN:STANDARD
TZOFFSETFROM:+0200
TZOFFSETTO:+0100
TZNAME:CET
DTSTART:20251026T010000
END:STANDARD
BEGIN:DAYLIGHT
TZOFFSETFROM:+0100
TZOFFSETTO:+0200
TZNAME:CEST
DTSTART:20260329T010000
END:DAYLIGHT
BEGIN:STANDARD
TZOFFSETFROM:+0200
TZOFFSETTO:+0100
TZNAME:CET
DTSTART:20261025T010000
END:STANDARD
END:VTIMEZONE
BEGIN:VEVENT
DTSTART;VALUE=DATE:20251207
DTEND;VALUE=DATE:20260308
DTSTAMP:20260423T010628
CREATED:20251108T175307Z
LAST-MODIFIED:20251108T175307Z
UID:10021785-1765065600-1772927999@www.iltrentinodeibambini.it
SUMMARY:Presepi nel Bosco
DESCRIPTION:Dal 7 dicembre 2025 al 7 marzo 2026 sarà possibile passeggiare nel bosco tra tanti presepi e decorazioni natalizie. È la 13a edizione di Presepi nel Bosco\, a Ziano\, in Val di Fiemme. La partenza è dalla piazza della Frazione Zanolin. Un percorso semplice adatto anche ai bambini. Lunghezza 1\,3 chilometri\, tempo di percorrenza: 1 ora. No passeggino\, ingresso libero. \nPer maggiori info Presepi nel bosco a Ziano
URL:https://www.iltrentinodeibambini.it/eventi/presepi-nel-bosco/
LOCATION:Ziano\, Italia
CATEGORIES:Escursioni
END:VEVENT
BEGIN:VEVENT
DTSTART;VALUE=DATE:20260214
DTEND;VALUE=DATE:20260215
DTSTAMP:20260423T010628
CREATED:20260128T134507Z
LAST-MODIFIED:20260128T134507Z
UID:10022862-1771027200-1771113599@www.iltrentinodeibambini.it
SUMMARY:Carnevale in Trentino Alto Adige
DESCRIPTION:Il Carnevale si accende di colori\, musica e tradizione: tra feste in piazza e sfilate allegoriche\, maschere e carri animano paesi e città\, regalando allegria a grandi e piccoli. Abbiamo raccolto per voi tutti gli appuntamenti QUI.
URL:https://www.iltrentinodeibambini.it/eventi/carnevale-in-trentino-alto-adige/2026-02-14/
LOCATION:trentino alto adige
CATEGORIES:Feste
END:VEVENT
BEGIN:VEVENT
DTSTART;TZID=Europe/Rome:20260214T093000
DTEND;TZID=Europe/Rome:20260214T120000
DTSTAMP:20260423T010628
CREATED:20250921T114752Z
LAST-MODIFIED:20250921T114752Z
UID:10021231-1771061400-1771070400@www.iltrentinodeibambini.it
SUMMARY:Patatrac! Le burle di Falstaff
DESCRIPTION:Opera per bambini e famiglie. Un’avventura teatrale ispirata al Falstaff di Verdi\, per avvicinare i più piccoli al linguaggio della scena attraverso musica dal vivo\, movimento e gioco simbolico. Al centro dello spettacolo\, una palla morbida e trasformabile che unisce esperienza sensoriale e crescita cognitiva. \n\nQuando: venerdì 13 febbraio 2026 alle ore 17.00 e sabato 14 febbraio 2026 alle ore 9.30 e alle 11.00\nDove: Castello del Buonconsiglio – sala delle Marangonerie\nCosto: adulti 8 euro | bambini 5 euro\nInfo: target 0-3 anni\n\nScopri tutti gli spettacoli per piccoli della Fondazione Haydn QUI.
URL:https://www.iltrentinodeibambini.it/eventi/patatrac-le-burle-di-falstaff/2026-02-14/
LOCATION:Castello del Buonconsiglio\, Trento 
CATEGORIES:Spettacoli
GEO:46.0700915;11.1197626
END:VEVENT
BEGIN:VEVENT
DTSTART;TZID=Europe/Rome:20260214T100000
DTEND;TZID=Europe/Rome:20260214T180000
DTSTAMP:20260423T010628
CREATED:20260127T081752Z
LAST-MODIFIED:20260127T081752Z
UID:10022848-1771063200-1771092000@www.iltrentinodeibambini.it
SUMMARY:Carnevale a Valfloriana
DESCRIPTION:Un corteo di personaggi variopinti attraverserà tutte le frazioni del comune in un’allegra processione che rievoca l’antica usanza dei cortei nuziali. \nPROGRAMMA sabato 14 febbraio 2026: \nOre 10.00: partenza da Sicina con colazione\, in collaborazione con Malga Sass.\nOre 12.00: tappa a Montalbiano e pranzo tipico a base di polenta\, spezzatino e formaggio in collaborazione con Maso Fior di Bosco\nOre 14.00: Valle-Casanova con ristoro\nOre 15.30: merenda dolce e salata a Dorà in collaborazione con Ristorante Pizzeria 4 Venti\nOre 17.00: conclusione della sfilata a Villaggio con uno spuntino di panini caldi in collaborazione con Ristorante Pizzeria Villaggio \nInfo: Pro Loco Valfloriana e il suo Carnevale\, tel. 0462.241111
URL:https://www.iltrentinodeibambini.it/eventi/carnevale-a-valfloriana/
LOCATION:Valfloriana
CATEGORIES:Eventi speciali,Feste
END:VEVENT
BEGIN:VEVENT
DTSTART;TZID=Europe/Rome:20260214T103000
DTEND;TZID=Europe/Rome:20260214T120000
DTSTAMP:20260423T010628
CREATED:20251125T162752Z
LAST-MODIFIED:20251125T162752Z
UID:10021905-1771065000-1771070400@www.iltrentinodeibambini.it
SUMMARY:Tombola dei minerali
DESCRIPTION:Quando un classico incontra lo scintillio della geologia\, il risultato è un gioco brillante\, colorato e sorprendentemente formativo. \n\nQuando: mercoledì 31 dicembre 2025\, sabato 14 febbraio e domenica 3 maggio 2026 alle ore 10.45\nDove: Museo Geologico delle Dolomiti – Predazzo\nCosto: 5 euro per coppia adulto/bambino | 3 euro eventuali altri bambini\nInfo: target 6-12 anni | attività su prenotazione QUI\n\nScoprite tutti gli appuntamenti per bambini e famiglie al Museo Geologico delle Dolomiti QUI.
URL:https://www.iltrentinodeibambini.it/eventi/tombola-dei-minerali/2026-02-14/
LOCATION:Museo Geologico delle Dolomiti\, Piazza SS. Filippo e Giacomo 1\, Predazzo 
CATEGORIES:Al Museo,Laboratori
GEO:46.3128605;11.602666
X-APPLE-STRUCTURED-LOCATION;VALUE=URI;X-ADDRESS=Museo Geologico delle Dolomiti Piazza SS. Filippo e Giacomo 1 Predazzo;X-APPLE-RADIUS=500;X-TITLE=Piazza SS. Filippo e Giacomo 1:geo:11.602666,46.3128605
END:VEVENT
BEGIN:VEVENT
DTSTART;TZID=Europe/Rome:20260214T130000
DTEND;TZID=Europe/Rome:20260214T170000
DTSTAMP:20260423T010628
CREATED:20251103T094430Z
LAST-MODIFIED:20260214T070925Z
UID:10021674-1771074000-1771088400@www.iltrentinodeibambini.it
SUMMARY:Sfilata dei Krampus - Passo Rolle
DESCRIPTION:ATTENZIONE: evento annullato per maltempo! \nSabato 14 febbraio 2026 dalle ore 13.00 “Carnival Krampus” presso Chalet La Baita a Passo Rolle.
URL:https://www.iltrentinodeibambini.it/eventi/sfilata-dei-krampus-passo-rolle/
LOCATION:Passo Rolle
CATEGORIES:Eventi speciali,Feste
END:VEVENT
BEGIN:VEVENT
DTSTART;TZID=Europe/Rome:20260214T143000
DTEND;TZID=Europe/Rome:20260214T170000
DTSTAMP:20260423T010628
CREATED:20260128T090201Z
LAST-MODIFIED:20260128T090201Z
UID:10022850-1771079400-1771088400@www.iltrentinodeibambini.it
SUMMARY:Carnevale a Trento
DESCRIPTION:Il Carnevale a Trento si svolge sabato 14 febbraio 2026 alle ore 14.30. Per le vie del centro storico c’è la sfilata delle maschere che da piazza Fiera arriva in piazza Mostra con premiazione e distribuzione krapfen. \nPer i più piccoli grande divertimento alle giostre in piazza Fiera e piazza Mostra\, tutti i giorni dalle ore 14.00 alle 20.00\, sabato\, domenica\, giovedì e martedì grasso dalle ore 10.00. \nScoprite tutte le feste di Carnevale a Trento e dintorni QUI.
URL:https://www.iltrentinodeibambini.it/eventi/carnevale-a-trento/
LOCATION:Trento\, Italia
CATEGORIES:Eventi speciali,Feste
END:VEVENT
BEGIN:VEVENT
DTSTART;TZID=Europe/Rome:20260214T153000
DTEND;TZID=Europe/Rome:20260214T163000
DTSTAMP:20260423T010628
CREATED:20250928T183350Z
LAST-MODIFIED:20250928T183350Z
UID:10021323-1771083000-1771086600@www.iltrentinodeibambini.it
SUMMARY:Un museo da scoprire
DESCRIPTION:Ogni sabato un tema diverso per scoprire le particolarità del Museo di Scienze e Archeologia di Rovereto \nMinori accompagnati da almeno un adulto. Consigliato dai 6 anni in su. \nPrenotazione consigliata. La tariffa di partecipazione è di € 7 a persona e comprende l’ingresso al Museo di Scienze e Archeologia nella stessa giornata. Il biglietto include anche l’ingresso al Museo della Città da effettuarsi entro un anno dall’acquisto. \nPRENOTA QUI \nCALENDARIO 2025/2026 \n\nSabato 11 ottobre 2025\, ore 15.30  | Il fascino dei fossili\nSabato 8 novembre 2025\, ore 15.30 | Come gli oggetti arrivano al museo\nSabato 13 dicembre 2025\, ore 15.30 | I reperti segreti dal mondo dei vivi e dei morti\nSabato 10 gennaio 2026\, ore 15.30 | Come si sono formate le rocce\nSabato 14 febbraio 2026\, ore 15.30 | Le piante che vivono in alta quota\nSabato 14 marzo 2026\, ore 15.30 | Le missioni con equipaggio\nSabato 11 aprile 2026\, ore 15.30 | Quanto sei evoluto?\nSabato 9 maggio 2026\, ore 15.30 | Come rinasce un giardino\n\nScopri di più sulla Fondazione Museo Civico Rovereto e sul Museo di Scienze e Archeologia
URL:https://www.iltrentinodeibambini.it/eventi/un-museo-da-scoprire-2/2026-02-14/
LOCATION:Museo di Scienze e Archeologia e Planetario\, Borgo Santa Caterina\, 41\, Rovereto\, 38068\, Italia
CATEGORIES:Al Museo,Visite guidate
END:VEVENT
BEGIN:VEVENT
DTSTART;TZID=Europe/Rome:20260214T153000
DTEND;TZID=Europe/Rome:20260214T170000
DTSTAMP:20260423T010628
CREATED:20260212T131213Z
LAST-MODIFIED:20260212T131213Z
UID:10022927-1771083000-1771088400@www.iltrentinodeibambini.it
SUMMARY:Olimpiadi di Carnevale
DESCRIPTION:Scendi in pista con maschere e costumi ispirati agli sport invernali e ai grandi campioni. a seguire un laboratorio artistico. \n\nQuando: sabato 14 febbraio 2026 alle ore 15.30\nDove: Piazza Cesare Battisti e spazio ex Niccolini – Trento\nCosto: partecipazione libera e gratuita\nTarget: per tutti\nInfo: consigliato prenotare QUI\n\nScopri tutti gli appuntamenti per bambini di Gimme Five in occasione dei Giochi Olimpici e Paralimpici Invernali di Milano Cortina 2026 QUI.
URL:https://www.iltrentinodeibambini.it/eventi/olimpiadi-di-carnevale/
LOCATION:Piazza Cesare Battisti\, Tione
CATEGORIES:Eventi speciali,Feste,Laboratori
GEO:46.0313416;10.7227283
END:VEVENT
BEGIN:VEVENT
DTSTART;TZID=Europe/Rome:20260214T153000
DTEND;TZID=Europe/Rome:20260214T183000
DTSTAMP:20260423T010628
CREATED:20260205T100432Z
LAST-MODIFIED:20260205T100902Z
UID:10022911-1771083000-1771093800@www.iltrentinodeibambini.it
SUMMARY:Enrosadiratime in Primiero
DESCRIPTION:Se non avete mai visto un tramonto sulle Dolomiti\, noto come Enrosadira\, o se volete rivivere questa splendida esperienza\, Enrosadiratime è l’occasione giusta! \nIl tramonto che non ti aspetti\, a due passi da San Martino di Castrozza\, con una passeggiata ad anello che regala scorci inediti. Con la guida del Parco di Paneveggio Pale di San Martino si raggiungono gli Orti Forestali\, conquistando uno dei belvedere situati sopra l’abitato per godere di una visuale d’eccezione sul paese\, sulle cime e su tutta la vallata. Tappa finale la storica saletta de La Mia Enoteca per un un aperitivo 100% trentino. \n\nQuando: sabato 14 febbraio 2026 alle ore 15.45\nDove: ritrovo presso la partenza della cabinovia Colverde – San Martino di Castrozza\nCosto: 28 euro adulti | 12 euro bambini dai 4 ai 12 anni\nInfo: l’attività ha una durata totale di 3 ore | tel. 0439.62407\nPrenotazione obbligatoria QUI\n\nScoprite tutto su Enrosadiratime QUI.
URL:https://www.iltrentinodeibambini.it/eventi/enrosadiratime-in-primiero-2-2-2-2-2/
LOCATION:San Martino di Castrozza\, Primiero
CATEGORIES:Eventi speciali,Visite guidate
GEO:46.0196038;11.7909716
END:VEVENT
BEGIN:VEVENT
DTSTART;TZID=Europe/Rome:20260214T163000
DTEND;TZID=Europe/Rome:20260214T173000
DTSTAMP:20260423T010628
CREATED:20250923T154545Z
LAST-MODIFIED:20250923T154545Z
UID:10021269-1771086600-1771090200@www.iltrentinodeibambini.it
SUMMARY:Il Gatto con gli stivali
DESCRIPTION:SPETTACOLO TEATRALE PER BAMBINI E FAMIGLIE | Al limitare di un bosco oscuro si aggira un infreddolito e affamato garzone. Suo padre è appena morto e in eredità gli ha lasciato…un gatto. Ma quel gatto parla e non è un gatto qualunque. Infatti come prima cosa chiede a Costantino di regalargli i suoi stivali. \n\nQuando: sabato 14 febbraio 2026 alle ore 16.30\nDove: Teatro San Marco – Trento\nCosto: adulti 6 euro | bambini fino ai 12 anni 4 euro | terzo figlio gratuito\nInfo: consigliato dai 3 anni | acquistate il biglietto QUI\n\nScoprite tutti gli spettacoli della rassegna “La famiglia va a teatro” QUI.
URL:https://www.iltrentinodeibambini.it/eventi/il-gatto-con-gli-stivali/
LOCATION:Teatro San Marco\, Via San Bernardino \, 8 \, Tento 
CATEGORIES:A teatro,Spettacoli
GEO:46.0641308;11.1292454
X-APPLE-STRUCTURED-LOCATION;VALUE=URI;X-ADDRESS=Teatro San Marco Via San Bernardino  8  Tento;X-APPLE-RADIUS=500;X-TITLE=Via San Bernardino \, 8:geo:11.1292454,46.0641308
END:VEVENT
BEGIN:VEVENT
DTSTART;TZID=Europe/Rome:20260214T190000
DTEND;TZID=Europe/Rome:20260214T220000
DTSTAMP:20260423T010628
CREATED:20250129T155513Z
LAST-MODIFIED:20260203T080812Z
UID:10022877-1771095600-1771106400@www.iltrentinodeibambini.it
SUMMARY:Carnevale al Paoli Hotel
DESCRIPTION:Siete pronti per trascorrere il carnevale in famiglia? Al Paoli Hotel troverete uno sfizioso menù per adulti e bambini\, tanto divertimento e intrattenimento per i più piccoli. \nQuando? Sabato 14 a cena e domenica 15 febbraio 2026 a pranzo\n \nGradita la partecipazione in maschera!\nPrenotazioni allo 0461 700017
URL:https://www.iltrentinodeibambini.it/eventi/carnevale-al-paoli-hotel-3/2026-02-14/
LOCATION:Hotel Paoli\, Lochere\, 6\, Caldonazzo\, Trentino\, 38052\, Italia
CATEGORIES:Eventi speciali,Feste
GEO:45.9881592;11.2996415
X-APPLE-STRUCTURED-LOCATION;VALUE=URI;X-ADDRESS=Hotel Paoli Lochere 6 Caldonazzo Trentino 38052 Italia;X-APPLE-RADIUS=500;X-TITLE=Lochere\, 6:geo:11.2996415,45.9881592
END:VEVENT
END:VCALENDAR