BEGIN:VCALENDAR
VERSION:2.0
PRODID:-//Il Trentino dei Bambini - ECPv6.13.2//NONSGML v1.0//EN
CALSCALE:GREGORIAN
METHOD:PUBLISH
X-WR-CALNAME:Il Trentino dei Bambini
X-ORIGINAL-URL:https://www.iltrentinodeibambini.it
X-WR-CALDESC:Eventi per Il Trentino dei Bambini
REFRESH-INTERVAL;VALUE=DURATION:PT1H
X-Robots-Tag:noindex
X-PUBLISHED-TTL:PT1H
BEGIN:VTIMEZONE
TZID:Europe/Rome
BEGIN:DAYLIGHT
TZOFFSETFROM:+0100
TZOFFSETTO:+0200
TZNAME:CEST
DTSTART:20250330T010000
END:DAYLIGHT
BEGIN:STANDARD
TZOFFSETFROM:+0200
TZOFFSETTO:+0100
TZNAME:CET
DTSTART:20251026T010000
END:STANDARD
BEGIN:DAYLIGHT
TZOFFSETFROM:+0100
TZOFFSETTO:+0200
TZNAME:CEST
DTSTART:20260329T010000
END:DAYLIGHT
BEGIN:STANDARD
TZOFFSETFROM:+0200
TZOFFSETTO:+0100
TZNAME:CET
DTSTART:20261025T010000
END:STANDARD
END:VTIMEZONE
BEGIN:VEVENT
DTSTART;VALUE=DATE:20251207
DTEND;VALUE=DATE:20260308
DTSTAMP:20260423T010628
CREATED:20251108T175307Z
LAST-MODIFIED:20251108T175307Z
UID:10021785-1765065600-1772927999@www.iltrentinodeibambini.it
SUMMARY:Presepi nel Bosco
DESCRIPTION:Dal 7 dicembre 2025 al 7 marzo 2026 sarà possibile passeggiare nel bosco tra tanti presepi e decorazioni natalizie. È la 13a edizione di Presepi nel Bosco\, a Ziano\, in Val di Fiemme. La partenza è dalla piazza della Frazione Zanolin. Un percorso semplice adatto anche ai bambini. Lunghezza 1\,3 chilometri\, tempo di percorrenza: 1 ora. No passeggino\, ingresso libero. \nPer maggiori info Presepi nel bosco a Ziano
URL:https://www.iltrentinodeibambini.it/eventi/presepi-nel-bosco/
LOCATION:Ziano\, Italia
CATEGORIES:Escursioni
END:VEVENT
BEGIN:VEVENT
DTSTART;TZID=Europe/Rome:20260221T100000
DTEND;TZID=Europe/Rome:20260221T110000
DTSTAMP:20260423T010628
CREATED:20240107T175653Z
LAST-MODIFIED:20260121T082733Z
UID:10022821-1771668000-1771671600@www.iltrentinodeibambini.it
SUMMARY:Coccola di storia a Lavis
DESCRIPTION:Prenota la tua coccola con le nostre lettrici volontarie che leggeranno per 30 minuti storie meravigliose al tuo bambino (0-6 anni) e a te! \n\nQuando: sabato 10 gennaio\, 21 febbraio\, 14 marzo\, 18 aprile e 9 maggio 2026 dalle ore 10.00\nDove: presso la biblioteca di Lavis\nCosto: attività gratuita\nInfo: tel. 0461.240066 – lavis@biblio.tn.it\n\n 
URL:https://www.iltrentinodeibambini.it/eventi/coccola-di-storia-a-lavis/2026-02-21/
LOCATION:Biblioteca di Lavis – Terre d’Adige\, Via degli Alpini\, 6\, Lavis\, 38015\, Italia
CATEGORIES:In biblioteca
GEO:46.16805;11.11061
X-APPLE-STRUCTURED-LOCATION;VALUE=URI;X-ADDRESS=Biblioteca di Lavis – Terre d’Adige Via degli Alpini 6 Lavis 38015 Italia;X-APPLE-RADIUS=500;X-TITLE=Via degli Alpini\, 6:geo:11.11061,46.16805
END:VEVENT
BEGIN:VEVENT
DTSTART;TZID=Europe/Rome:20260221T130000
DTEND;TZID=Europe/Rome:20260221T180000
DTSTAMP:20260423T010628
CREATED:20260216T075235Z
LAST-MODIFIED:20260216T075235Z
UID:10022942-1771678800-1771696800@www.iltrentinodeibambini.it
SUMMARY:Paleoday - un viaggio nella paleontologia
DESCRIPTION:Un pomeriggio di attività per famiglie per scoprire curiosità e segreti su animali preistorici\, dinosauri e sull’evoluzione della vita sulla Terra. Programma completo QUI. \n\nQuando: sabato 21 febbraio 2026 dalle ore 13.00\nDove: Muse – Trento\nCosto: attività compresa nel biglietto d’ingresso\nInfo: acquisto biglietto online QUI
URL:https://www.iltrentinodeibambini.it/eventi/paleoday-un-viaggio-nella-paleontologia/
LOCATION:MUSE\, Italia
CATEGORIES:Al Museo,Eventi speciali,Laboratori
GEO:46.0700915;11.1197626
END:VEVENT
BEGIN:VEVENT
DTSTART;TZID=Europe/Rome:20260221T143000
DTEND;TZID=Europe/Rome:20260221T163000
DTSTAMP:20260423T010628
CREATED:20260219T185809Z
LAST-MODIFIED:20260219T185905Z
UID:10022956-1771684200-1771691400@www.iltrentinodeibambini.it
SUMMARY:Passeggiata con i lama e alpaca
DESCRIPTION:La passeggiata con lama e alpaca di circa un’ora e mezza è adatta ad adulti e bambini (dai 6 anni in su)\, ed è preceduta da una breve presentazione degli animali\, con alcuni consigli per il buon svolgimento della passeggiata. Al termine\, verrà consegnata una brochure con informazioni curiose su questi animali. Bambini e ragazzi invece ottengono il diploma di “Buon conduttore di lama e alpaca” ed una sorpresa. \n\n\n\n\n\n\n\n\n\n\n\n\n\nQUANDO: tutti i sabati alle ore 14.30 fino al 28 marzo 2026\nDURATA: 2 ore\nPUNTO DI RITROVO: b&b El Molin\, via Avisio 36 – Cavalese (TN)\nPREZZO: Per condurre un lama o un alpaca\, dovrete acquistare il biglietto “1 animale”\, che è valido per un adulto (over 15) oppure per un accompagnatore adulto e un bambino fino a 15 anni (30 euro senza guest card\, 25 euro con guest card). Le persone in aggiunta che seguono senza animale (adulti o bambini aggiuntivi) pagano il biglietto “persona aggiuntiva” (7 euro senza guest card\, 5 euro con guest card)\nPRENOTAZIONE: online QUI\n\n\n\n\n\n\n\n\n\n\nInfo: Apt Val di Fiemme e Cembra\, tel. 0462 341419 – e-mail: booking@visitfiemme.it \nConosci i lama ed alpaca del B&b El Molin: El Molin: a Cavalese come in Perù!
URL:https://www.iltrentinodeibambini.it/eventi/passeggiata-con-i-lama-e-alpaca/2026-02-21/
LOCATION:b&b El Molin\, Via Avisio\, 36\, Cavalese\, Italia
CATEGORIES:Escursioni,Visite guidate
END:VEVENT
BEGIN:VEVENT
DTSTART;TZID=Europe/Rome:20260221T150000
DTEND;TZID=Europe/Rome:20260221T163000
DTSTAMP:20260423T010628
CREATED:20250702T075043Z
LAST-MODIFIED:20250928T191544Z
UID:10021338-1771686000-1771691400@www.iltrentinodeibambini.it
SUMMARY:Programma il tuo robot
DESCRIPTION:Laboratorio di robotica per ragazze e ragazzi da 9 a 15 anni \nQUANDO: ogni terzo sabato del mese (no agosto;  a novembre 2025 il quarto sabato del mese)\nORARIO: ore 15.00-16.30\nDOVE: Rovereto\, Museo di Scienze e Archeologia\nCOSTO: 7 € a persona\n\nPosti limitati\, prenotazione obbligatoria entro il giorno precedente alle ore 17.00. \nPrenota QUI \nPer informazioni:\nFondazione Museo Civico di Rovereto\nTel. 0464 452800\nmuseo@fondazionemcr.it \nClicca Fondazione Museo Civico Rovereto per scoprire da vicino il museo.
URL:https://www.iltrentinodeibambini.it/eventi/programma-il-tuo-robot-7/2026-02-21/
LOCATION:Museo di Scienze e Archeologia e Planetario\, Borgo Santa Caterina\, 41\, Rovereto\, 38068\, Italia
CATEGORIES:Al Museo,Laboratori
END:VEVENT
BEGIN:VEVENT
DTSTART;TZID=Europe/Rome:20260221T153000
DTEND;TZID=Europe/Rome:20260221T170000
DTSTAMP:20260423T010628
CREATED:20260213T073204Z
LAST-MODIFIED:20260213T073204Z
UID:10022929-1771687800-1771693200@www.iltrentinodeibambini.it
SUMMARY:Attrezzi in stop motion
DESCRIPTION:Un laboratorio per animare gli attrezzi un tempo usati per il lavoro e oggi protagonisti degli sport invernali e in particolare delle Olimpiadi\, attraverso la realizzazione di un mini film. \n\nQuando: sabato 21 febbraio 2026 alle ore 15.30\nDove: spazio ex Niccolini in Piazza Cesare Battisti – Trento\nCosto: partecipazione libera e gratuita\nTarget: per tutti\nInfo: prenotazione consigliata QUI\n\nScopri tutti gli appuntamenti per bambini di Gimme Five in occasione dei Giochi Olimpici e Paralimpici Invernali di Milano Cortina 2026 QUI.
URL:https://www.iltrentinodeibambini.it/eventi/attrezzi-in-stop-motion/
LOCATION:Piazza Cesare Battisti\, Tione
CATEGORIES:Eventi speciali,Laboratori
GEO:46.0313416;10.7227283
END:VEVENT
BEGIN:VEVENT
DTSTART;TZID=Europe/Rome:20260221T153000
DTEND;TZID=Europe/Rome:20260221T183000
DTSTAMP:20260423T010628
CREATED:20260205T100627Z
LAST-MODIFIED:20260205T100627Z
UID:10022912-1771687800-1771698600@www.iltrentinodeibambini.it
SUMMARY:Enrosadiratime in Primiero - speciale famiglie
DESCRIPTION:Se non avete mai visto un tramonto sulle Dolomiti\, noto come Enrosadira\, o se volete rivivere questa splendida esperienza\, Enrosadiratime è l’occasione giusta! \nNon un semplice tramonto\, ma uno dei più fotografati delle Dolomiti. Una facile e avventurosa passeggiata guidata in compagnia del Parco di Paneveggio Pale di San Martino alla scoperta della Foresta dei Violini nella sua veste bianca fino a Malga Venegia dove gustare una sana e ricca merenda. \n\nQuando: sabato 21 febbraio 2026 alle ore 15.45\nDove: ritrovo presso il parcheggio in località Pian dei Casoni – Val Venegia\nCosto: 28 euro adulti | 12 euro bambini dai 4 ai 12 anni\nInfo: l’attività ha una durata totale di 3 ore | tel. 0439.62407\nPrenotazione obbligatoria QUI\n\nScoprite tutto su Enrosadiratime QUI.
URL:https://www.iltrentinodeibambini.it/eventi/enrosadiratime-in-primiero-2-2-2-2-2-2/
LOCATION:Val Venegia
CATEGORIES:Eventi speciali,Visite guidate
END:VEVENT
BEGIN:VEVENT
DTSTART;TZID=Europe/Rome:20260221T163000
DTEND;TZID=Europe/Rome:20260221T173000
DTSTAMP:20260423T010628
CREATED:20250923T154751Z
LAST-MODIFIED:20250923T154751Z
UID:10021270-1771691400-1771695000@www.iltrentinodeibambini.it
SUMMARY:Fiabe africane
DESCRIPTION:SPETTACOLO TEATRALE PER BAMBINI E FAMIGLIE | Una storia che parla di schiavitù e di libertà\, di diversità e di uguaglianza\, di paura e di coraggio. La scenografia evoca immagini tipiche dell’iconografia africana\, i copricapo e le maschere trasformano gli attori in bue\, re\, regina\, principessa\, guardie. \n\nQuando: sabato 21 febbraio 2026 alle ore 16.30\nDove: Teatro San Marco – Trento\nCosto: adulti 6 euro | bambini fino ai 12 anni 4 euro | terzo figlio gratuito\nInfo: consigliato dai 3 anni | acquistate il biglietto QUI\n\nScoprite tutti gli spettacoli della rassegna “La famiglia va a teatro” QUI.
URL:https://www.iltrentinodeibambini.it/eventi/fiabe-africane/
LOCATION:Teatro San Marco\, Via San Bernardino \, 8 \, Tento 
CATEGORIES:A teatro,Spettacoli
GEO:46.0641308;11.1292454
X-APPLE-STRUCTURED-LOCATION;VALUE=URI;X-ADDRESS=Teatro San Marco Via San Bernardino  8  Tento;X-APPLE-RADIUS=500;X-TITLE=Via San Bernardino \, 8:geo:11.1292454,46.0641308
END:VEVENT
BEGIN:VEVENT
DTSTART;TZID=Europe/Rome:20260221T173000
DTEND;TZID=Europe/Rome:20260221T183000
DTSTAMP:20260423T010628
CREATED:20251021T071400Z
LAST-MODIFIED:20251021T071400Z
UID:10021567-1771695000-1771698600@www.iltrentinodeibambini.it
SUMMARY:Clown in libertà
DESCRIPTION:Tre buffi personaggi che sembrano scappati da un circo in cerca di un pubblico da conquistare. Con acrobazie imprevedibili\, giocoleria acrobatica\, duelli comici e dispetti a raffica\, cercheranno in ogni modo di guadagnarsi applausi e risate. Anche a costo di rubarsi la scena l’un l’altro! Tutti con una missione: farvi ridere\, stupire e… cantare con loro! \n\nQuando: sabato 21 febbraio 2026 alle ore 17.30\nDove: Sala Filarmonica – Trento\nCosto: ridotto (da 0 a 6 anni): 1 euro | intero (da 7 a 99 anni): 5 euro\nInfo: acquisto biglietto online QUI\n\nScoprite tutti gli spettacoli musicali per bambini e famiglie della MiniFilarmonica QUI.
URL:https://www.iltrentinodeibambini.it/eventi/clown-in-liberta/
LOCATION:Sala Filarmonica Trento\, Via Verdi\, 30\, Trento
CATEGORIES:Spettacoli
END:VEVENT
BEGIN:VEVENT
DTSTART;TZID=Europe/Rome:20260221T180000
DTEND;TZID=Europe/Rome:20260221T223000
DTSTAMP:20260423T010628
CREATED:20260221T163426Z
LAST-MODIFIED:20260221T163426Z
UID:10022972-1771696800-1771713000@www.iltrentinodeibambini.it
SUMMARY:Le stelle del sabato sera
DESCRIPTION:Osserva la volta celeste con occhi diversi grazie ai telescopi dell’Osservatorio astronomico  del Monte Zugna\, a 1620 metri di altitudine. Gli esperti della Fondazione Museo Civico di Rovereto ti guideranno nell’osservazione e potrai approfondire temi spaziali grazie a lezioni tematiche. Età minima per la partecipazione: 6 anni \nIn collaborazione con Apt Rovereto Vallagarina Monte Baldo. \n\nQUANDO:  Sabato 21 febbraio 2026 ore 18.00 | secondo turno ore 20.30 ; Sabato 14 marzo 2026 alle 19.00 | secondo turno ore 21.30\nCOSTO: 7 euro a persona\nISCRIZIONI: entro le ore 17.00 del giorno precedente l’attività. Clicca QUI\nADATTO A: 6+\n\nIn caso di cielo coperto\, verrà proposta in osservatorio attività di approfondimento a tema. Si raccomanda abbigliamento adatto all’attività in montagna. \nInfo\nApT Rovereto Vallagarina e Monte Baldo\ntel. 0464 430363\ne-mail: info@visitrovereto.it\nsito: www.visitrovereto.it \nConosci il Museo di Scienze e Archeologia di Rovereto? Scopri di più QUI
URL:https://www.iltrentinodeibambini.it/eventi/le-stelle-del-sabato-sera/2026-02-21/
LOCATION:Osservatorio Astronomico Monte Zugna\, Rovereto
CATEGORIES:Al Museo,Eventi speciali,Visite guidate
GEO:45.89096;11.0401399
END:VEVENT
BEGIN:VEVENT
DTSTART;TZID=Europe/Rome:20260221T210000
DTEND;TZID=Europe/Rome:20260221T223000
DTSTAMP:20260423T010628
CREATED:20260105T142409Z
LAST-MODIFIED:20260105T142409Z
UID:10022689-1771707600-1771713000@www.iltrentinodeibambini.it
SUMMARY:Emozioni sul Ghiaccio
DESCRIPTION:“Emozioni sul Ghiaccio“ è uno spettacolo unico e coinvolgente\, che unisce la magia del pattinaggio artistico alla musica dal vivo. Sul ghiaccio dello Stadio di Pinzolo\, le atlete della società Sporting Ghiaccio Pinzolo Artistico e Ritmico A.s.d. daranno vita a splendide coreografie eseguite sulle musiche dal vivo della band EXTRAS ed accompagnate dalla straordinaria voce di Elena Giardina. \nLo spettacolo si svolgerà il 21 febbraio 2026 alle ore 21.00. Vendita biglietti (10 euro adulti\, gratuito per i minori di 16 anni) disponibile presso lo stadio o online qui. \n\nTel. 0465 501612 – www.pinzoloice.it
URL:https://www.iltrentinodeibambini.it/eventi/emozioni-sul-ghiaccio/
LOCATION:stadio del ghiaccio di Pinzolo\, via allo Stadio\, 21\, Pinzolo\, 38086\, Italia
CATEGORIES:Eventi speciali,Spettacoli
GEO:46.1556265;10.7601526
X-APPLE-STRUCTURED-LOCATION;VALUE=URI;X-ADDRESS=stadio del ghiaccio di Pinzolo via allo Stadio 21 Pinzolo 38086 Italia;X-APPLE-RADIUS=500;X-TITLE=via allo Stadio\, 21:geo:10.7601526,46.1556265
END:VEVENT
END:VCALENDAR