BEGIN:VCALENDAR
VERSION:2.0
PRODID:-//Il Trentino dei Bambini - ECPv6.13.2//NONSGML v1.0//EN
CALSCALE:GREGORIAN
METHOD:PUBLISH
X-ORIGINAL-URL:https://www.iltrentinodeibambini.it
X-WR-CALDESC:Eventi per Il Trentino dei Bambini
REFRESH-INTERVAL;VALUE=DURATION:PT1H
X-Robots-Tag:noindex
X-PUBLISHED-TTL:PT1H
BEGIN:VTIMEZONE
TZID:Europe/Rome
BEGIN:DAYLIGHT
TZOFFSETFROM:+0100
TZOFFSETTO:+0200
TZNAME:CEST
DTSTART:20250330T010000
END:DAYLIGHT
BEGIN:STANDARD
TZOFFSETFROM:+0200
TZOFFSETTO:+0100
TZNAME:CET
DTSTART:20251026T010000
END:STANDARD
BEGIN:DAYLIGHT
TZOFFSETFROM:+0100
TZOFFSETTO:+0200
TZNAME:CEST
DTSTART:20260329T010000
END:DAYLIGHT
BEGIN:STANDARD
TZOFFSETFROM:+0200
TZOFFSETTO:+0100
TZNAME:CET
DTSTART:20261025T010000
END:STANDARD
END:VTIMEZONE
BEGIN:VEVENT
DTSTART;VALUE=DATE:20251207
DTEND;VALUE=DATE:20260308
DTSTAMP:20260422T234446
CREATED:20251108T175307Z
LAST-MODIFIED:20251108T175307Z
UID:10021785-1765065600-1772927999@www.iltrentinodeibambini.it
SUMMARY:Presepi nel Bosco
DESCRIPTION:Dal 7 dicembre 2025 al 7 marzo 2026 sarà possibile passeggiare nel bosco tra tanti presepi e decorazioni natalizie. È la 13a edizione di Presepi nel Bosco\, a Ziano\, in Val di Fiemme. La partenza è dalla piazza della Frazione Zanolin. Un percorso semplice adatto anche ai bambini. Lunghezza 1\,3 chilometri\, tempo di percorrenza: 1 ora. No passeggino\, ingresso libero. \nPer maggiori info Presepi nel bosco a Ziano
URL:https://www.iltrentinodeibambini.it/eventi/presepi-nel-bosco/
LOCATION:Ziano\, Italia
CATEGORIES:Escursioni
END:VEVENT
BEGIN:VEVENT
DTSTART;TZID=Europe/Rome:20260307T140000
DTEND;TZID=Europe/Rome:20260307T190000
DTSTAMP:20260422T234446
CREATED:20260306T075226Z
LAST-MODIFIED:20260306T075226Z
UID:10023033-1772892000-1772910000@www.iltrentinodeibambini.it
SUMMARY:Sport e scienza in gioco
DESCRIPTION:Un pomeriggio per famiglie all’insegna dello sport\, tra attività\, sfide\, curiosità scientifiche e spettacolo. Programma completo QUI. \n\nQuando: sabato 7 marzo 2026 dalle 14 alle 19\nDove: Muse – Trento\nCosto: compreso nel biglietto d’ingresso\nInfo: acquisto biglietto online QUI\n\nScoprite tutti i Muse Party e gli eventi per bambini e famiglie QUI.
URL:https://www.iltrentinodeibambini.it/eventi/sport-e-scienza-in-gioco/
LOCATION:MUSE\, Italia
CATEGORIES:Al Museo,Eventi speciali
GEO:46.0700915;11.1197626
END:VEVENT
BEGIN:VEVENT
DTSTART;TZID=Europe/Rome:20260307T143000
DTEND;TZID=Europe/Rome:20260307T163000
DTSTAMP:20260422T234446
CREATED:20260219T185809Z
LAST-MODIFIED:20260219T185905Z
UID:10022958-1772893800-1772901000@www.iltrentinodeibambini.it
SUMMARY:Passeggiata con i lama e alpaca
DESCRIPTION:La passeggiata con lama e alpaca di circa un’ora e mezza è adatta ad adulti e bambini (dai 6 anni in su)\, ed è preceduta da una breve presentazione degli animali\, con alcuni consigli per il buon svolgimento della passeggiata. Al termine\, verrà consegnata una brochure con informazioni curiose su questi animali. Bambini e ragazzi invece ottengono il diploma di “Buon conduttore di lama e alpaca” ed una sorpresa. \n\n\n\n\n\n\n\n\n\n\n\n\n\nQUANDO: tutti i sabati alle ore 14.30 fino al 28 marzo 2026\nDURATA: 2 ore\nPUNTO DI RITROVO: b&b El Molin\, via Avisio 36 – Cavalese (TN)\nPREZZO: Per condurre un lama o un alpaca\, dovrete acquistare il biglietto “1 animale”\, che è valido per un adulto (over 15) oppure per un accompagnatore adulto e un bambino fino a 15 anni (30 euro senza guest card\, 25 euro con guest card). Le persone in aggiunta che seguono senza animale (adulti o bambini aggiuntivi) pagano il biglietto “persona aggiuntiva” (7 euro senza guest card\, 5 euro con guest card)\nPRENOTAZIONE: online QUI\n\n\n\n\n\n\n\n\n\n\nInfo: Apt Val di Fiemme e Cembra\, tel. 0462 341419 – e-mail: booking@visitfiemme.it \nConosci i lama ed alpaca del B&b El Molin: El Molin: a Cavalese come in Perù!
URL:https://www.iltrentinodeibambini.it/eventi/passeggiata-con-i-lama-e-alpaca/2026-03-07/
LOCATION:b&b El Molin\, Via Avisio\, 36\, Cavalese\, Italia
CATEGORIES:Escursioni,Visite guidate
END:VEVENT
BEGIN:VEVENT
DTSTART;TZID=Europe/Rome:20260307T150000
DTEND;TZID=Europe/Rome:20260307T163000
DTSTAMP:20260422T234446
CREATED:20250702T073802Z
LAST-MODIFIED:20250928T191346Z
UID:10021333-1772895600-1772901000@www.iltrentinodeibambini.it
SUMMARY:Robotici in erba
DESCRIPTION:Laboratorio di robotica per bambine e bambini da 6 a 8 anni \nQUANDO:  4 ottobre\, 8 novembre\, 6 dicembre 2005 e ogni primo sabato del mese (no agosto)\nORARIO: 15.00- 16.30\nDOVE: Rovereto\, Museo di Scienze e Archeologia\nCOSTO: 7 € a persona\n\nPosti limitati\, prenotazione obbligatoria entro il giorno precedente alle ore 17.00. \nPrenota QUI \nPer informazioni:\nFondazione Museo Civico di Rovereto\nTel. 0464 452800\nmuseo@fondazionemcr.it
URL:https://www.iltrentinodeibambini.it/eventi/robotici-in-erba-6/2026-03-07/
LOCATION:Museo di Scienze e Archeologia e Planetario\, Borgo Santa Caterina\, 41\, Rovereto\, 38068\, Italia
CATEGORIES:Al Museo,Laboratori
END:VEVENT
BEGIN:VEVENT
DTSTART;TZID=Europe/Rome:20260307T150000
DTEND;TZID=Europe/Rome:20260307T173000
DTSTAMP:20260422T234446
CREATED:20260106T111019Z
LAST-MODIFIED:20260106T111019Z
UID:10022777-1772895600-1772904600@www.iltrentinodeibambini.it
SUMMARY:Centro genitori bambini in biblioteca
DESCRIPTION:Uno spazio dedicato a genitori e bambini fino a 6 anni dove possono condividere momenti di gioco\, musica\, lettura e coccole. \n\nQuando: il venerdì\, ogni 2 settimane\, dalle ore 15.00\nDove: biblioteca comunale – sede di Meano\nCosto: partecipazione gratuita\nInfo: tel. 0461.889559\n\nScoprite tutti gli appuntamenti per bambini e ragazzi nelle biblioteche del comune di Trento QUI.
URL:https://www.iltrentinodeibambini.it/eventi/centro-genitori-bambini-in-biblioteca-2-2/2026-03-07/
LOCATION:Biblioteca di Meano\, Via delle Sugarine\, 26\, Meano 
CATEGORIES:Eventi speciali,In biblioteca
GEO:46.1262652;11.1167911
X-APPLE-STRUCTURED-LOCATION;VALUE=URI;X-ADDRESS=Biblioteca di Meano Via delle Sugarine 26 Meano;X-APPLE-RADIUS=500;X-TITLE=Via delle Sugarine\, 26:geo:11.1167911,46.1262652
END:VEVENT
BEGIN:VEVENT
DTSTART;TZID=Europe/Rome:20260307T153000
DTEND;TZID=Europe/Rome:20260307T170000
DTSTAMP:20260422T234446
CREATED:20260213T074240Z
LAST-MODIFIED:20260213T074240Z
UID:10022931-1772897400-1772902800@www.iltrentinodeibambini.it
SUMMARY:Nevario. Le forme della Neve.
DESCRIPTION:Nevario racconta la neve con le conoscenze nivologiche e con quelle dell’arte\, con la scienza\, il cinema e la poesia… Presentazione del libro e laboratorio a cura delle autrici. \n\nQuando: sabato 7 marzo 2026 alle ore 15.30\nDove: spazio ex Niccolini in Piazza Cesare Battisti – Trento\nCosto: partecipazione libera e gratuita\nTarget: 6+\nInfo: prenotazione consigliata QUI\n\nScopri tutti gli appuntamenti per bambini di Gimme Five in occasione dei Giochi Olimpici e Paralimpici Invernali di Milano Cortina 2026 QUI.
URL:https://www.iltrentinodeibambini.it/eventi/nevario-le-forme-della-neve/
LOCATION:Piazza Cesare Battisti\, Tione
CATEGORIES:Eventi speciali,Laboratori
GEO:46.0313416;10.7227283
END:VEVENT
END:VCALENDAR