BEGIN:VCALENDAR
VERSION:2.0
PRODID:-//Il Trentino dei Bambini - ECPv6.13.2//NONSGML v1.0//EN
CALSCALE:GREGORIAN
METHOD:PUBLISH
X-ORIGINAL-URL:https://www.iltrentinodeibambini.it
X-WR-CALDESC:Eventi per Il Trentino dei Bambini
REFRESH-INTERVAL;VALUE=DURATION:PT1H
X-Robots-Tag:noindex
X-PUBLISHED-TTL:PT1H
BEGIN:VTIMEZONE
TZID:Europe/Rome
BEGIN:DAYLIGHT
TZOFFSETFROM:+0100
TZOFFSETTO:+0200
TZNAME:CEST
DTSTART:20260329T010000
END:DAYLIGHT
BEGIN:STANDARD
TZOFFSETFROM:+0200
TZOFFSETTO:+0100
TZNAME:CET
DTSTART:20261025T010000
END:STANDARD
END:VTIMEZONE
BEGIN:VEVENT
DTSTART;TZID=Europe/Rome:20260308T090000
DTEND;TZID=Europe/Rome:20260308T170000
DTSTAMP:20260422T234446
CREATED:20240315T084604Z
LAST-MODIFIED:20260305T140002Z
UID:10008203-1772960400-1772989200@www.iltrentinodeibambini.it
SUMMARY:CraspaMagna Dolomitica
DESCRIPTION:Un’escursione naturalistica con le racchette da neve alla scoperta della valle del Vanoi  e degustazione a tappe lungo un semplice percorso ad anello. 8 tappe per una passeggiata che è anche un viaggio nei sapori e nelle tradizioni della cucina trentina di montagna. Tutte le info su CraspaMagna Dolomitica. \n\nQuando: domenica 8 marzo 2026 dalle ore 9.00\nDove: località Zortea – Vanoi\nCosto: adulti 26 euro entro il 7 marzo | 30 euro il giorno della manifestazione | gratuito fino a 8 anni\nInfo: iscrizione obbligatoria online QUI
URL:https://www.iltrentinodeibambini.it/eventi/craspamagna-dolomitica/
LOCATION:Valle del Vanoi\, Valle del Vanoi\, 38050\, Italia
CATEGORIES:Escursioni,Eventi speciali
GEO:46.1455924;11.5264615
END:VEVENT
BEGIN:VEVENT
DTSTART;TZID=Europe/Rome:20260308T100000
DTEND;TZID=Europe/Rome:20260308T123000
DTSTAMP:20260422T234446
CREATED:20260219T191038Z
LAST-MODIFIED:20260219T191038Z
UID:10022964-1772964000-1772973000@www.iltrentinodeibambini.it
SUMMARY:Paneveggio\, sul Sentiero Marciò
DESCRIPTION:Il sentiero Marciò muta al cambiare delle stagioni. Nella sua veste bianca racconta storie di abeti e musica\, ma anche di ponti fiabeschi\, biodiversità\, vita che in inverno non va in letargo. L’attività verrà cancellata in caso di forte maltempo. Adatta a partire dai 6 anni. \n\n\nUna passeggiata naturalistica nel Parco Naturale di Paneveggio Pale di San Martino\, per esplorare la magia della foresta invernale e scoprire gli alberi della musica della Val di Fiemme. Durante l’escursione\, tappa sul ponte sospeso che si affaccia sulla spettacolare forra del Torrente Travignolo\, un luogo in cui lasciarsi sovrastare dalla bellezza dell’ambiente naturale che ci circonda. Qui la neve ha il potere di trasformare il paesaggio e di raccontare storie silenziose per chi sa guardare: emergono le tracce degli animali\, racconti di vita selvatica.  \n\n\n\n\n\n\n\nAl termine dell’attività si consiglia la visita del Centro Visitatori di Paneveggio con l’allestimento “SUONA FORESTA” (gratuito con Fiemme Cembra Guest Card e con Trentino Guest Card) \n\n\n\n\n\n\n\n\n\n\n\n\nIndossare vestiti comodi e tecnici\, guanti\, sciarpa\, berretto\, scarponcini da montagna.\nSi consiglia di portare maglietta di ricambio\, acqua e snack.\nPresenza di tratti con ghiaccio: è consigliato l’utilizzo dei ramponcini.\n\n\n\n\n\n\n\n\n\n\n\n\n\n\nQUANDO: tutte le domeniche alle ore 10.00 fino al 5 aprile 2026\nDURATA: 2\,5 ore\nPUNTO DI RITROVO: Centro visitatori del Parco Naturale Paneveggio –  Paneveggio\, TN\nPREZZO:\nPRENOTAZIONE: online QUI\n\n\n\n\n\n\n\n\n\n\nInfo: Apt Val di Fiemme e Cembra\, tel. 0462 341419 – e-mail: booking@visitfiemme.it \nScopri qui A Paneveggio con i cervi
URL:https://www.iltrentinodeibambini.it/eventi/paneveggio-sul-sentiero-marcio/2026-03-08/
LOCATION:Centro Visitatori Paneveggio – Predazzo\, SS50\, 11\, Predazzo\, Trentino\, 38037\, Italia
CATEGORIES:Escursioni,Visite guidate
END:VEVENT
BEGIN:VEVENT
DTSTART;TZID=Europe/Rome:20260308T150000
DTEND;TZID=Europe/Rome:20260308T153000
DTSTAMP:20260422T234446
CREATED:20250928T182105Z
LAST-MODIFIED:20250928T182105Z
UID:10021306-1772982000-1772983800@www.iltrentinodeibambini.it
SUMMARY:Il cielo in una stanza 3.0
DESCRIPTION:Gli esperti del Planetario della Fondazione  Museo Civico di Rovereto vi accompagneranno in un viaggio nel Cosmo\, partendo dalla Terra per esplorare il Sistema Solare\, con approfondimenti sulle missioni spaziali\, fino ad arrivare lontano verso nebulose e altri oggetti celesti\, in un susseguirsi di immagini e video spettacolari e coinvolgenti. \nAl raggiungimento del numero massimo di posti disponibili sarà attivato un secondo turno alle ore 16.30. \nTutte le domeniche alle ore 15.00 e\, se esaurito\, anche alle 16.30\nPosti limitati\, prenotazione obbligatoria entro le 17.00 del giorno precedente l’inizio dell’attività.\nLa tariffa di partecipazione è di euro 7 a persona. Biglietto QUI \nChi partecipa allo spettacolo al Planetario ha diritto a un biglietto di ingresso ridotto al museo (euro 7 + euro 5)\, acquistabile QUI \nInfo: 0464 452800 – museo@fondazionemcr.it \nConosci il Museo di Scienze e Archeologia di Rovereto? Scopri di più QUI
URL:https://www.iltrentinodeibambini.it/eventi/il-cielo-in-una-stanza-3-0-3/2026-03-08/
LOCATION:Museo di Scienze e Archeologia e Planetario\, Borgo Santa Caterina\, 41\, Rovereto\, 38068\, Italia
CATEGORIES:Al Museo,Spettacoli
END:VEVENT
BEGIN:VEVENT
DTSTART;TZID=Europe/Rome:20260308T150000
DTEND;TZID=Europe/Rome:20260308T163000
DTSTAMP:20260422T234446
CREATED:20260302T171142Z
LAST-MODIFIED:20260302T171142Z
UID:10023015-1772982000-1772987400@www.iltrentinodeibambini.it
SUMMARY:LITTLE MART - L'uovo di ceramica
DESCRIPTION:Il tema degli incontri Little Mart? Le mostre e le collezioni del museo o\, più in generale\, temi e tecniche legati all’arte contemporanea. Vere e proprie palestre della creatività con laboratori che coinvolgono bambini e adulti proponendo una partecipazione attiva. \nATTIVITA‘: L’uovo di ceramica| Nell’arte e nel design l’uovo è simbolo di nascita\, vita ed energia. Questo laboratorio propone la decorazione su un piccolo uovo di ceramica biscuit\, sperimentando speciali matite e colori per ingobbio. L’uovo verrà poi invetriato e cotto per essere consegnato ai partecipanti in seguito\, in tempo per la Pasqua. Dai 5 ai 12 anni.\nDOVE: MART Museo di Arte Moderna e Contemporanea Rovereto\, C.so Bettini 43\, Rovereto\nQUANDO: Domenica 8 marzo 2026\, ore 15.00 – 16.30\nCOSTO: 5 euro a bambino. Accompagnatore gratuito\nADATTO A: bambini 5-12 anni\nPRENOTAZIONI:  consigliate\, dal lunedì al venerdì scrivendo a education@mart.trento.it o telefonando allo 0464 454135-108. Il sabato e la domenica presso la biglietteria del Mart (0464 454240). \nConosci già il MART? Scoprilo meglio\, leggi Al MART coi bambini \nLittle Mart vi aspetta tutte le domeniche pomeriggio
URL:https://www.iltrentinodeibambini.it/eventi/little-mart-luovo-di-ceramica/
LOCATION:MART – Museo ArteModerna e Contemporanea Rovereto\, Corso Bettini 43\, Rovereto\, TN\, 38068\, Italia
CATEGORIES:Al Museo,Laboratori
END:VEVENT
BEGIN:VEVENT
DTSTART;TZID=Europe/Rome:20260308T150000
DTEND;TZID=Europe/Rome:20260308T170000
DTSTAMP:20260422T234446
CREATED:20260101T105343Z
LAST-MODIFIED:20260101T105343Z
UID:10022669-1772982000-1772989200@www.iltrentinodeibambini.it
SUMMARY:Inverno brulicante
DESCRIPTION:L’osservazione dei libri brulicanti richiama l’esperienza di fronte ai dipinti in mostra\, ricchi di personaggi e dettagli\, dove ogni figura racconta una storia. Come piccoli detective dell’immagine\, bambine e bambini sono invitati a immaginare relazioni e narrazioni nascoste. Da queste suggestioni nasce un’attività creativa: la realizzazione di un paesaggio invernale su un libro a soffietto\, unico e personale\, che riflette il loro sguardo sull’arte e sull’inverno. \n\nQuando: domenica 18 gennaio\, 15 febbraio e 8 marzo 2026 ore 15.00\nDove: Castello del Buonconsiglio – Trento\nCosto: 8 euro a nucleo familiare\nInfo: tel. 0461-492811 | prenotazione consigliata QUI\n\nScoprite tutte le attività per bambini e famiglie al Castello del Buonconsiglio QUI.
URL:https://www.iltrentinodeibambini.it/eventi/inverno-brulicante/2026-03-08/
LOCATION:Castello del Buonconsiglio\, Trento 
CATEGORIES:Al Museo,Laboratori
GEO:46.0700915;11.1197626
END:VEVENT
BEGIN:VEVENT
DTSTART;TZID=Europe/Rome:20260308T153000
DTEND;TZID=Europe/Rome:20260308T170000
DTSTAMP:20260422T234446
CREATED:20260213T074606Z
LAST-MODIFIED:20260213T074606Z
UID:10022932-1772983800-1772989200@www.iltrentinodeibambini.it
SUMMARY:Cuccioli oggi\, soccorritori domani
DESCRIPTION:Attraverso giochi\, dimostrazioni e racconti\, scopriremo come nasce e come si addestra una unità cinofila da soccorso. \n\nQuando: domenica 8 marzo 2026 alle ore 15.30\nDove: Piazza Cesare Battisti – Trento\nCosto: partecipazione libera e gratuita\nTarget: per tutti\n\nScopri tutti gli appuntamenti per bambini di Gimme Five in occasione dei Giochi Olimpici e Paralimpici Invernali di Milano Cortina 2026 QUI.
URL:https://www.iltrentinodeibambini.it/eventi/cuccioli-oggi-soccorritori-domani/
LOCATION:Piazza Cesare Battisti\, Tione
GEO:46.0313416;10.7227283
END:VEVENT
BEGIN:VEVENT
DTSTART;TZID=Europe/Rome:20260308T153000
DTEND;TZID=Europe/Rome:20260308T183000
DTSTAMP:20260422T234446
CREATED:20260205T101038Z
LAST-MODIFIED:20260205T101038Z
UID:10022914-1772983800-1772994600@www.iltrentinodeibambini.it
SUMMARY:Enrosadiratime in Primiero
DESCRIPTION:Se non avete mai visto un tramonto sulle Dolomiti\, noto come Enrosadira\, o se volete rivivere questa splendida esperienza\, Enrosadiratime è l’occasione giusta! \nUna facile passeggiata alla portata di tutti in compagnia delle guide del Parco di Paneveggio Pale di San Martino ai piedi delle Pale ammirando la conca del Pradidali fino ad arrivare a Malga Canali quando tutto si tinga di rosa. Al rientro una sana e golosa merenda al Cant del Gal\, per godere dell’ora blu dalla panoramica veranda in legno. \n\nQuando: domenica 8 marzo 2026 alle ore 15.45\nDove: ritrovo presso il ristorante Cant del Gal – Val Canali\nCosto: 28 euro adulti | 12 euro bambini dai 4 ai 12 anni\nInfo: l’attività ha una durata totale di 3 ore | tel. 0439.62407\nPrenotazione obbligatoria QUI\n\nScoprite tutto su Enrosadiratime QUI.
URL:https://www.iltrentinodeibambini.it/eventi/enrosadiratime-in-primiero-2-2-2-2-2-3/
LOCATION:val canali
CATEGORIES:Eventi speciali,Visite guidate
END:VEVENT
BEGIN:VEVENT
DTSTART;TZID=Europe/Rome:20260308T160000
DTEND;TZID=Europe/Rome:20260308T170000
DTSTAMP:20260422T234446
CREATED:20250921T115503Z
LAST-MODIFIED:20250921T115503Z
UID:10021235-1772985600-1772989200@www.iltrentinodeibambini.it
SUMMARY:Pierino e il lupo
DESCRIPTION:Spettacolo musicale per bambini e famiglie. Una divertente e coinvolgente rivisitazione della celebre favola musicale. Tre attori pasticcioni provano a raccontare la fiaba… ma senza averla studiata! Tra gag comiche\, improvvisazioni e l’aiuto del pubblico\, i bambini diventano parte attiva del racconto. \n\nQuando: domenica 8 marzo 2026 alle ore 16.00\nDove: Auditorium Santa Chiara di Trento\nCosto: adulti 8 euro | bambini 5 euro\nInfo: target 4+\n\nScopri tutti gli spettacoli per piccoli della Fondazione Haydn QUI.
URL:https://www.iltrentinodeibambini.it/eventi/pierino-e-il-lupo-2-2/
LOCATION:Centro Servizi Culturali Santa Chiara\, Via S. Croce\, 67\, Trento\, 38122\, Italia
CATEGORIES:A teatro,Spettacoli
GEO:46.0634466;11.1245205
X-APPLE-STRUCTURED-LOCATION;VALUE=URI;X-ADDRESS=Centro Servizi Culturali Santa Chiara Via S. Croce 67 Trento 38122 Italia;X-APPLE-RADIUS=500;X-TITLE=Via S. Croce\, 67:geo:11.1245205,46.0634466
END:VEVENT
BEGIN:VEVENT
DTSTART;TZID=Europe/Rome:20260308T160000
DTEND;TZID=Europe/Rome:20260308T173000
DTSTAMP:20260422T234446
CREATED:20250911T083035Z
LAST-MODIFIED:20250911T083035Z
UID:10021165-1772985600-1772991000@www.iltrentinodeibambini.it
SUMMARY:Esercizi di fantastica
DESCRIPTION:SPETTACOLO TEATRALE PER BAMBINI E RAGAZZI | Tre personaggi grigi\, annoiati\, scialbi e con gli occhi sempre attaccati agli schermi. Ma ecco arrivare un elemento inaspettato! Una farfalla sposterà il loro sguardo altrove e la casa diventerà teatro di nuove avventure e di trasformazioni. Un crescendo di emozioni e peripezie in cui i tre personaggi riscopriranno finalmente il potere della fantasia. \n\nQuando: domenica 8 marzo 2026 alle ore 16.00\nDove: Teatro comunale di Pergine\nCosto: intero 7 euro | ridotto (>65\, <26) 6 euro | card Amici dei Teatri\, convenzionate\, Euregio FamilyPass 5 euro | acquistate il biglietto QUI\nInfo: età consigliata a partire dai 4 anni\n\nLo spettacolo è preceduto\, alle ore 15.00\, da un laboratorio gratuito su prenotazione (inviando una mail a biglietteria@teatrodipergine.it). \nScoprite tutti gli spettacoli della rassegna Teatro Ragazzi QUI.
URL:https://www.iltrentinodeibambini.it/eventi/esercizi-di-fantastica/
LOCATION:Teatro comunale di Pergine\, Piazza Garibaldi 5G\,  \, Pergine Valsugana\, 38057
CATEGORIES:A teatro
GEO:46.06217;11.23885
X-APPLE-STRUCTURED-LOCATION;VALUE=URI;X-ADDRESS=Teatro comunale di Pergine Piazza Garibaldi 5G   Pergine Valsugana 38057;X-APPLE-RADIUS=500;X-TITLE=Piazza Garibaldi 5G\,:geo:11.23885,46.06217
END:VEVENT
BEGIN:VEVENT
DTSTART;TZID=Europe/Rome:20260308T163000
DTEND;TZID=Europe/Rome:20260308T173000
DTSTAMP:20260422T234446
CREATED:20251028T114836Z
LAST-MODIFIED:20251028T114836Z
UID:10021633-1772987400-1772991000@www.iltrentinodeibambini.it
SUMMARY:Voglio la luna
DESCRIPTION:SPETTACOLO TEATRALE PER FAMIGLIE. Fabio è nella sua cameretta\, alle prese con i suoi giochi ma gli sembra che le cose non vadano mai come lui vorrebbe. Finché una notte\, la Luna gli fa visita e giocano insieme. Fabio decide che vuole averla a tutti i costi e parte per una fantastica avventura alla fine della quale riesce a catturare la luna e a portarla in camera sua. Ma non sa che nel mondo\, senza più la luna nel cielo\, i problemi sono appena cominciati. Comprenderà allora che non sempre si può volere tutto per sé ciò che appartiene anche agli altri… e con un gesto magico e poetico deciderà di condividere lo splendore della luna. \n\nQuando: domenica 8 marzo 2026 alle ore 16.30\nDove: Auditorium Melotti – Rovereto\nCosto: adulti 6 euro | bambini (3-14 anni) o possessori di Euregio Family Pass 4 euro\nInfo: età consigliata: 3+ | durata: 55 minuti | acquista il biglietto online QUI\n\nScoprite tutti gli spettacoli per bambini e famiglie della rassegna “Scappo a teatro” QUI.
URL:https://www.iltrentinodeibambini.it/eventi/voglio-la-luna/
LOCATION:Auditorium Melotti\, Corso Angelo Bettini\, 43\, Rovereto TN\, 38068\, Italia
CATEGORIES:A teatro,Spettacoli
GEO:45.8939925;11.0446588
X-APPLE-STRUCTURED-LOCATION;VALUE=URI;X-ADDRESS=Auditorium Melotti Corso Angelo Bettini 43 Rovereto TN 38068 Italia;X-APPLE-RADIUS=500;X-TITLE=Corso Angelo Bettini\, 43:geo:11.0446588,45.8939925
END:VEVENT
END:VCALENDAR