BEGIN:VCALENDAR
VERSION:2.0
PRODID:-//Il Trentino dei Bambini - ECPv6.13.2//NONSGML v1.0//EN
CALSCALE:GREGORIAN
METHOD:PUBLISH
X-WR-CALNAME:Il Trentino dei Bambini
X-ORIGINAL-URL:https://www.iltrentinodeibambini.it
X-WR-CALDESC:Eventi per Il Trentino dei Bambini
REFRESH-INTERVAL;VALUE=DURATION:PT1H
X-Robots-Tag:noindex
X-PUBLISHED-TTL:PT1H
BEGIN:VTIMEZONE
TZID:Europe/Rome
BEGIN:DAYLIGHT
TZOFFSETFROM:+0100
TZOFFSETTO:+0200
TZNAME:CEST
DTSTART:20260329T010000
END:DAYLIGHT
BEGIN:STANDARD
TZOFFSETFROM:+0200
TZOFFSETTO:+0100
TZNAME:CET
DTSTART:20261025T010000
END:STANDARD
END:VTIMEZONE
BEGIN:VEVENT
DTSTART;TZID=Europe/Rome:20260313T090000
DTEND;TZID=Europe/Rome:20260313T113000
DTSTAMP:20260422T234333
CREATED:20260106T110321Z
LAST-MODIFIED:20260106T110321Z
UID:10022738-1773392400-1773401400@www.iltrentinodeibambini.it
SUMMARY:Centro genitori bambini in biblioteca
DESCRIPTION:Uno spazio dedicato a genitori e bambini da o a 3 anni dove possono condividere momenti di gioco\, musica\, lettura e coccole. \n\nQuando: tutti i giovedì e i venerdì dalle 9.00 alle 11.45\nDove: biblioteca Ragazzi – palazzina Liberty\nCosto: partecipazione gratuita\nInfo: tel. 0461.889559 | biblioteca.ragazzi@comune.trento.it\n\nScoprite tutti gli appuntamenti per bambini e ragazzi nelle biblioteche del comune di Trento QUI.
URL:https://www.iltrentinodeibambini.it/eventi/centro-genitori-bambini-in-biblioteca-3-2/2026-03-13/
LOCATION:palazzina Liberty\, Piazza Dante\, Trento
CATEGORIES:Eventi speciali,In biblioteca
END:VEVENT
BEGIN:VEVENT
DTSTART;TZID=Europe/Rome:20260313T100000
DTEND;TZID=Europe/Rome:20260313T123000
DTSTAMP:20260422T234333
CREATED:20251105T122540Z
LAST-MODIFIED:20251105T123036Z
UID:10021737-1773396000-1773405000@www.iltrentinodeibambini.it
SUMMARY:Ciaspolata panoramica al Ciampac
DESCRIPTION:Ogni mercoledì e venerdì le Guide Alpine vi accompagneranno attraverso una panoramica escursione con le ciaspole nella bellissima conca del Ciampac alla scoperta dei segreti dei boschi innevati! \n\nQuando: ogni mercoledì e venerdì mattina dal 17 dicembre al 1 aprile 2026\nDove: al Ciampac – Alba di Canazei\, ritrovo presso la stazione a valle della cabinovia\nOrario: ore 10.00. Qualora venisse raggiunto il numero massimo di iscritti alla mattina\, verranno aperte le iscrizioni per la ciaspolata del pomeriggio.\nDurata dell’attività: 2 ore circa\nCosto: € 55\,00 a persona (il costo include: impianto di risalita\, Guida Alpina). Noleggio attrezzatura (ciaspole e bastoncini) gratuito.\nAdatto a: maggiori di anni 12\nÈ richiesta la prenotazione: CLICCA QUI\n\nScopri il Ciampac per i bambini in inverno\, clicca su Fassa: al Ciampac in inverno
URL:https://www.iltrentinodeibambini.it/eventi/ciaspolata-panoramica-al-ciampac/2026-03-13/
LOCATION:Stazione a valle funivia Ciampac\, Alba di Canazei\, TN\, 38032\, Italia
CATEGORIES:Escursioni
END:VEVENT
BEGIN:VEVENT
DTSTART;TZID=Europe/Rome:20260313T100000
DTEND;TZID=Europe/Rome:20260313T123000
DTSTAMP:20260422T234333
CREATED:20260219T184401Z
LAST-MODIFIED:20260219T184401Z
UID:10022952-1773396000-1773405000@www.iltrentinodeibambini.it
SUMMARY:Ritorno alle radici
DESCRIPTION:Passeggiata nel bosco alla scoperta dei magici profumi degli alberi\, con raccolta di rami per l’accensione del fuoco. Nel bosco gli odori delle piante\, del muschio e delle foglie bagnate si mescolano e si amplificano. Lungo il sentiero di Guagiola\, località sopra Tesero\, cerchiamo rami secchi da utilizzare per accendere un fuoco facendo attenzione a non danneggiare la vegetazione circostante. A fine passeggiata accenderemo un piccolo fuoco\, mentre il profumo del legno bruciato si mescola con l’aria fresca del bosco. È il momento di sorseggiare una tisana calda\, in un tempo sospeso di connessione con la natura\, ma anche con te stesso. \n\n\n\n\n\n\n\n\n\n\n\n\n\n\nEtà minima 6 anni\nAdatta a tutti\, richiesto un minimo di allenamento fisico\nIndossare vestiti comodi e tecnici\, guanti\, sciarpa\, berretto\, scarponcini da montagna.\nPortare maglietta di ricambio\, acqua e snack.\n\n\n\n\n\n\n\n\n\n\n\n\n\n\n\n\n\nQUANDO: tutti i venerdì alle ore 10.00 fino al 3 aprile 2026\nDURATA: 2\,5 ore\nPUNTO DI RITROVO: spiazzo lungo la strada sotto l’albergo Pozzole (Stava – TN)\nPREZZO: adulti 10 euro\, bambini 6-18 anni 5 euro. Gratuita con Fiemme Guest Card\nPRENOTAZIONE: online QUI\n\n\n\n\n\n\n\n\n\n\nInfo: Apt Val di Fiemme e Cembra\, tel. 0462 341419 – e-mail: booking@visitfiemme.it
URL:https://www.iltrentinodeibambini.it/eventi/ritorno-alle-radici/2026-03-13/
LOCATION:Stava\, Tesero\, TN\, Italia
CATEGORIES:Escursioni,Visite guidate
END:VEVENT
BEGIN:VEVENT
DTSTART;TZID=Europe/Rome:20260313T143000
DTEND;TZID=Europe/Rome:20260313T170000
DTSTAMP:20260422T234333
CREATED:20260106T110538Z
LAST-MODIFIED:20260106T110538Z
UID:10022761-1773412200-1773421200@www.iltrentinodeibambini.it
SUMMARY:Spazio giochi da tavolo
DESCRIPTION:Uno spazio dedicato a chi ha voglia di cimentarsi con i giochi da tavolo\, senza limiti d’età. \n\nQuando: tutti i venerdì dalle ore 14.30\nDove: biblioteca comunale – sede di Povo\nCosto: partecipazione libera e gratuita\nInfo: tel. 0461-889918 | e-mail biblioteca.povo@comune.trento.it\n\nScoprite tutti gli eventi per bambini e ragazzi nelle biblioteche comunali di Trento QUI.
URL:https://www.iltrentinodeibambini.it/eventi/spazio-giochi-da-tavolo-4-2/2026-03-13/
LOCATION:biblioteca di Povo\, Via Don Tommaso Dallafior
CATEGORIES:Eventi speciali,In biblioteca
END:VEVENT
BEGIN:VEVENT
DTSTART;TZID=Europe/Rome:20260313T163000
DTEND;TZID=Europe/Rome:20260313T173000
DTSTAMP:20260422T234333
CREATED:20260302T123139Z
LAST-MODIFIED:20260302T123139Z
UID:10023014-1773419400-1773423000@www.iltrentinodeibambini.it
SUMMARY:Storie di primavera
DESCRIPTION:Lettura ad alta voce di albi illustrati per bambini e bambine dai 3 anni. \n\nQuando: venerdì 13 marzo 2026 alle ore 16.30\nDove: biblioteca comunale – sede di Montevaccino\nCosto: partecipazione gratuita\nInfo: bibliotecacastellodicarta@montevaccino.it\n\nScoprite tutti gli appuntamenti per bambini e ragazzi nelle biblioteche del comune di Trento QUI.
URL:https://www.iltrentinodeibambini.it/eventi/storie-di-primavera/
LOCATION:Montevaccino\, Trentino\, 38121\, Italia
CATEGORIES:In biblioteca
GEO:46.1174495;11.1312937
END:VEVENT
BEGIN:VEVENT
DTSTART;TZID=Europe/Rome:20260313T170000
DTEND;TZID=Europe/Rome:20260313T180000
DTSTAMP:20260422T234333
CREATED:20250821T143946Z
LAST-MODIFIED:20250821T143946Z
UID:10020995-1773421200-1773424800@www.iltrentinodeibambini.it
SUMMARY:Divoratori di pagine
DESCRIPTION:Gruppo di lettura per ragazzi e ragazze di età tra gli 11 e i 14 anni. Ciascun partecipante porta in gruppo la propria esperienza di lettura e ha la possibilità di confrontarsi con gli altri membri del gruppo.  È un’occasione per mettersi in gioco\, scambiarsi i consigli di lettura e conoscere delle novità editoriali presenti nel catalogo. Appuntamento mensile. \n\nQuando: venerdì 16 gennaio\, 13 febbraio\, 13 marzo\, 17 aprile\, 15 maggio e 5 giugno 2026 alle ore 17.00\nDove: Biblioteca dei ragazzi – Palazzina Liberty\nCosto: attività gratuita\nInfo: tel. 0461.889559 | e-mail: biblioteca.ragazzi@comune.trento.it\n\nScoprite tutti gli appuntamenti nelle biblioteche comunali dedicati a bambini e ragazzi QUI
URL:https://www.iltrentinodeibambini.it/eventi/divoratori-di-pagine/2026-03-13/
LOCATION:palazzina Liberty\, Piazza Dante\, Trento
CATEGORIES:In biblioteca
END:VEVENT
BEGIN:VEVENT
DTSTART;TZID=Europe/Rome:20260313T170000
DTEND;TZID=Europe/Rome:20260313T183000
DTSTAMP:20260422T234333
CREATED:20260121T085122Z
LAST-MODIFIED:20260121T085122Z
UID:10022836-1773421200-1773426600@www.iltrentinodeibambini.it
SUMMARY:Viaggio alla scoperta delle Dolomiti
DESCRIPTION:Visita guidata per conoscere cosa rende queste montagne semplicemente… uniche! \n\nQuando: 6\, 13\, 20 e 27 febbraio | 6\, 13\, 20 e 27 marzo 3 aprile e 1 maggio 2026 alle ore 17.00\nDove: Museo Geologico delle Dolomiti\nCosto: 3 euro oltre il biglietto d’ingresso\nInfo: target 10+ | attività su prenotazione QUI \n\nScoprite tutti gli appuntamenti per bambini e famiglie al Museo Geologico delle Dolomiti QUI.
URL:https://www.iltrentinodeibambini.it/eventi/viaggio-alla-scoperta-delle-dolomiti-2/2026-03-13/
LOCATION:Museo Geologico delle Dolomiti\, Piazza SS. Filippo e Giacomo 1\, Predazzo 
CATEGORIES:Al Museo,Visite guidate
GEO:46.3128605;11.602666
X-APPLE-STRUCTURED-LOCATION;VALUE=URI;X-ADDRESS=Museo Geologico delle Dolomiti Piazza SS. Filippo e Giacomo 1 Predazzo;X-APPLE-RADIUS=500;X-TITLE=Piazza SS. Filippo e Giacomo 1:geo:11.602666,46.3128605
END:VEVENT
BEGIN:VEVENT
DTSTART;TZID=Europe/Rome:20260313T190000
DTEND;TZID=Europe/Rome:20260313T200000
DTSTAMP:20260422T234333
CREATED:20260303T211202Z
LAST-MODIFIED:20260303T211216Z
UID:10023022-1773428400-1773432000@www.iltrentinodeibambini.it
SUMMARY:Luci nella notte
DESCRIPTION:LUCI NELLA NOTTE | venerdì 13 marzo 2026 ore 19.00- 20.00 e venerdì 8 maggio 2026 dalle 20.00 alle 21.00 | Una speciale guida in orario serale per scoprire cosa accade al Museo di notte\, quando le porte si chiudono e le luci si spengono | In italiano | biglietto intero 12 euro\, 6-16 anni 8 euro \nSi può prenotarsi direttamente online cliccando QUI e selezionando l’attività prescelta. \nMuseo Scienze Naturali Alto Adige\ntel. 0471 412 964\ne-mail: info@museonatura.it\nsito: www.museonatura.it
URL:https://www.iltrentinodeibambini.it/eventi/luci-nella-notte/2026-03-13/
LOCATION:Museo di Scienze Naturali Alto Adige\, Via Bottai 1\, Bolzano\, 39100\, Italia
CATEGORIES:Al Museo,Eventi speciali,Visite guidate
GEO:46.5009592;11.3569493
X-APPLE-STRUCTURED-LOCATION;VALUE=URI;X-ADDRESS=Museo di Scienze Naturali Alto Adige Via Bottai 1 Bolzano 39100 Italia;X-APPLE-RADIUS=500;X-TITLE=Via Bottai 1:geo:11.3569493,46.5009592
END:VEVENT
END:VCALENDAR