BEGIN:VCALENDAR
VERSION:2.0
PRODID:-//Il Trentino dei Bambini - ECPv6.13.2//NONSGML v1.0//EN
CALSCALE:GREGORIAN
METHOD:PUBLISH
X-WR-CALNAME:Il Trentino dei Bambini
X-ORIGINAL-URL:https://www.iltrentinodeibambini.it
X-WR-CALDESC:Eventi per Il Trentino dei Bambini
REFRESH-INTERVAL;VALUE=DURATION:PT1H
X-Robots-Tag:noindex
X-PUBLISHED-TTL:PT1H
BEGIN:VTIMEZONE
TZID:Europe/Rome
BEGIN:DAYLIGHT
TZOFFSETFROM:+0100
TZOFFSETTO:+0200
TZNAME:CEST
DTSTART:20260329T010000
END:DAYLIGHT
BEGIN:STANDARD
TZOFFSETFROM:+0200
TZOFFSETTO:+0100
TZNAME:CET
DTSTART:20261025T010000
END:STANDARD
END:VTIMEZONE
BEGIN:VEVENT
DTSTART;TZID=Europe/Rome:20260326T090000
DTEND;TZID=Europe/Rome:20260326T113000
DTSTAMP:20260422T234331
CREATED:20260106T110321Z
LAST-MODIFIED:20260106T110321Z
UID:10022741-1774515600-1774524600@www.iltrentinodeibambini.it
SUMMARY:Centro genitori bambini in biblioteca
DESCRIPTION:Uno spazio dedicato a genitori e bambini da o a 3 anni dove possono condividere momenti di gioco\, musica\, lettura e coccole. \n\nQuando: tutti i giovedì e i venerdì dalle 9.00 alle 11.45\nDove: biblioteca Ragazzi – palazzina Liberty\nCosto: partecipazione gratuita\nInfo: tel. 0461.889559 | biblioteca.ragazzi@comune.trento.it\n\nScoprite tutti gli appuntamenti per bambini e ragazzi nelle biblioteche del comune di Trento QUI.
URL:https://www.iltrentinodeibambini.it/eventi/centro-genitori-bambini-in-biblioteca-3-2/2026-03-26/
LOCATION:palazzina Liberty\, Piazza Dante\, Trento
CATEGORIES:Eventi speciali,In biblioteca
END:VEVENT
BEGIN:VEVENT
DTSTART;TZID=Europe/Rome:20260326T170000
DTEND;TZID=Europe/Rome:20260326T180000
DTSTAMP:20260422T234331
CREATED:20260302T121204Z
LAST-MODIFIED:20260302T121204Z
UID:10023007-1774544400-1774548000@www.iltrentinodeibambini.it
SUMMARY:Storie di pimavera
DESCRIPTION:Lettura ad alta voce di albi illustrati per bambini e bambine dai 3 anni. \n\nQuando: martedì 10 e giovedì 26 marzo 2026 alle ore 17.00\nDove: biblioteca comunale – sede di Clarina\nCosto: partecipazione gratuita\nInfo: 0461.889879  | biblioteca.clarina@comune.trento.it\n\nScoprite tutti gli appuntamenti per bambini e ragazzi nelle biblioteche del comune di Trento QUI.
URL:https://www.iltrentinodeibambini.it/eventi/storie-di-pimavera/2026-03-26/
LOCATION:Biblioteca Clarina\, Clarina Trento 
GEO:46.0498013;11.1269022
END:VEVENT
END:VCALENDAR