BEGIN:VCALENDAR
VERSION:2.0
PRODID:-//Il Trentino dei Bambini - ECPv6.13.2//NONSGML v1.0//EN
CALSCALE:GREGORIAN
METHOD:PUBLISH
X-ORIGINAL-URL:https://www.iltrentinodeibambini.it
X-WR-CALDESC:Eventi per Il Trentino dei Bambini
REFRESH-INTERVAL;VALUE=DURATION:PT1H
X-Robots-Tag:noindex
X-PUBLISHED-TTL:PT1H
BEGIN:VTIMEZONE
TZID:Europe/Rome
BEGIN:DAYLIGHT
TZOFFSETFROM:+0100
TZOFFSETTO:+0200
TZNAME:CEST
DTSTART:20260329T010000
END:DAYLIGHT
BEGIN:STANDARD
TZOFFSETFROM:+0200
TZOFFSETTO:+0100
TZNAME:CET
DTSTART:20261025T010000
END:STANDARD
END:VTIMEZONE
BEGIN:VEVENT
DTSTART;VALUE=DATE:20260328
DTEND;VALUE=DATE:20260406
DTSTAMP:20260422T222013
CREATED:20260303T210713Z
LAST-MODIFIED:20260303T210713Z
UID:10023021-1774656000-1775433599@www.iltrentinodeibambini.it
SUMMARY:Caccia alle uova
DESCRIPTION:Dal 28 marzo al 5 aprile 2026 \nAnche quest’anno un morbido coniglietto pasquale ha nascosto tante uova colorate nelle sale del museo: riuscirete a trovarle durante la vostra visita? Ogni uovo riporta un indizio utile per ricomporre una parola misteriosa che vi permetterà di partecipare all’estrazione di bellissimi premi! La caccia alle uova unisce gioco e didattica: non serve prenotarsi ed è compresa nel biglietto di ingresso del museo! \nDOVE: Museo di Scienze Naturali di Bolzano\nQUANDO: dal 28 marzo al 5 aprile 2026\nORARIO: orario di apertura del Museo\nPRENOTAZIONE: non necessaria \nInfo: Tel. 0471 412964 \nConosci il Museo di Scienze Naturali di Bolzano? Clicca Bolzano: Museo di Scienze Naturali\noppure apri questa pagina per scoprire tutti gli eventi per famiglie: Bolzano: attività family al Museo di Scienze Naturali
URL:https://www.iltrentinodeibambini.it/eventi/caccia-alle-uova/
LOCATION:Museo di Scienze Naturali dell’Alto Adige\, Via dei Bottai\, 1\, Bolzano\, 39100
CATEGORIES:Al Museo,Eventi speciali
GEO:46.501143;11.3568627
X-APPLE-STRUCTURED-LOCATION;VALUE=URI;X-ADDRESS=Museo di Scienze Naturali dell’Alto Adige Via dei Bottai 1 Bolzano 39100;X-APPLE-RADIUS=500;X-TITLE=Via dei Bottai\, 1:geo:11.3568627,46.501143
END:VEVENT
BEGIN:VEVENT
DTSTART;TZID=Europe/Rome:20260401T100000
DTEND;TZID=Europe/Rome:20260401T123000
DTSTAMP:20260422T222013
CREATED:20251105T122540Z
LAST-MODIFIED:20251105T123036Z
UID:10021742-1775037600-1775046600@www.iltrentinodeibambini.it
SUMMARY:Ciaspolata panoramica al Ciampac
DESCRIPTION:Ogni mercoledì e venerdì le Guide Alpine vi accompagneranno attraverso una panoramica escursione con le ciaspole nella bellissima conca del Ciampac alla scoperta dei segreti dei boschi innevati! \n\nQuando: ogni mercoledì e venerdì mattina dal 17 dicembre al 1 aprile 2026\nDove: al Ciampac – Alba di Canazei\, ritrovo presso la stazione a valle della cabinovia\nOrario: ore 10.00. Qualora venisse raggiunto il numero massimo di iscritti alla mattina\, verranno aperte le iscrizioni per la ciaspolata del pomeriggio.\nDurata dell’attività: 2 ore circa\nCosto: € 55\,00 a persona (il costo include: impianto di risalita\, Guida Alpina). Noleggio attrezzatura (ciaspole e bastoncini) gratuito.\nAdatto a: maggiori di anni 12\nÈ richiesta la prenotazione: CLICCA QUI\n\nScopri il Ciampac per i bambini in inverno\, clicca su Fassa: al Ciampac in inverno
URL:https://www.iltrentinodeibambini.it/eventi/ciaspolata-panoramica-al-ciampac/2026-04-01/
LOCATION:Stazione a valle funivia Ciampac\, Alba di Canazei\, TN\, 38032\, Italia
CATEGORIES:Escursioni
END:VEVENT
BEGIN:VEVENT
DTSTART;TZID=Europe/Rome:20260401T140000
DTEND;TZID=Europe/Rome:20260401T170000
DTSTAMP:20260422T222014
CREATED:20260204T201403Z
LAST-MODIFIED:20260204T201403Z
UID:10022907-1775052000-1775062800@www.iltrentinodeibambini.it
SUMMARY:Merenda regale in Val Breguzzo
DESCRIPTION:In compagnia di un Accompagnatore di Media Montagna\, raggiungerai il Rifugio Trivena in Val Breguzzo\, camminando tra boschi innevati e splendidi panorami.\nAd accoglierti ci sarà il calore di una bevanda fumante\, ma il vero cuore dell’esperienza inizia ora: ti metterai ai fornelli per imparare a preparare il Kaiserschmarren!\nInfine una buona merenda prima del rientro in autonomia\, nella luce dorata del tramonto. \nTutti i mercoledì fino al 1 aprile alle ore 14.00: ritrovo in Località Dispensa in Val Breguzzo e  partenza con un accompagnatore di media montagna verso il Rifugio Trivena.\nA seguire: accoglienza al rifugio\, laboratorio di cucina e merenda.\nInfine: rientro autonomo a valle. \nPRENOTA QUI LA TUA ESPERIENZA \nTARIFFA:  €50\,00 a persona. €35\,00 per i bambini tra 9 e i 12 anni; €25\,00 per bambini tra i 6 e gli 8 anni\, gratuito per bambini da 0 a 5 anni. Include: risalita accompagnata\, laboratorio di cucina\, merenda. Sconto per chi soggiorna nelle strutture convenzionate \nACCESSIBILITA’: \nL’evento presenta condizioni non idonee per permettere l’accesso a persone con difficoltà fisiche. \nINFORMAZIONI UTILI:\nLa conferma definitiva dell’esperienza verrà comunicata dagli organizzatori in base alle condizioni meteorologiche e alla sicurezza del percorso\, secondo quanto previsto dall’ordinanza comunale sul rischio valanghe.\nAttrezzatura necessaria: racchette da neve e bastoncini (possibilità di noleggio da parte del rifugio\, €10 al paio).\nPunto di ritrovo: località Dispensa in Val di Breguzzo\, qualora le condizioni della strada lo permettessero partenza da Località Ponte Pianone. Gli organizzatori comunicheranno il punto preciso il giorno precedente.\nLivello di difficoltà: Medio-facile. Adatto per escursionisti di livello base\, anche famiglie con bambini\, in grado di camminare un paio di ore su terreno innevato e in leggera salita.\nPrenotazione obbligatoria entro le ore 17.00 del giorno precedente o al raggiungimento del numero massimo di iscritti.\nL’iniziativa avrà luogo con un numero minimo di 4 partecipanti. \nInfo e contatti: Rifugio Trivena\, tel. 0465 901019; info@trivena.com \nScopri qui il Rifugio Trivena
URL:https://www.iltrentinodeibambini.it/eventi/merenda-regale-val-breguzzo/2026-04-01/
LOCATION:Val Breguzzo\, TN\, Italia
CATEGORIES:Escursioni,Laboratori,Spazi d'incontro,Visite guidate
END:VEVENT
BEGIN:VEVENT
DTSTART;TZID=Europe/Rome:20260401T163000
DTEND;TZID=Europe/Rome:20260401T180000
DTSTAMP:20260422T222014
CREATED:20260202T133733Z
LAST-MODIFIED:20260202T133733Z
UID:10022874-1775061000-1775066400@www.iltrentinodeibambini.it
SUMMARY:Club dei giovani lettori
DESCRIPTION:Ti piace leggere? Hai tra i 10 e i 12 anni? Allora non puoi mancare! \n\nQuando: ogni primo mercoledì del mese dal 4 febbraio al 3 giugno 2026 alle ore 16.45\nDove: biblioteca comunale – sede di Ravina\nCosto: partecipazione gratuita\nInfo: tel. 0461.889786 | biblioteca.ravina@comune.trento.it\n\nLe date possono subire delle modifiche tenetevi aggiornati consultando l’agenda sul sito della biblioteca e la pagina Facebook. Per scoprire tutti gli eventi per bambini e ragazzi nelle biblioteche comunali cliccate QUI.
URL:https://www.iltrentinodeibambini.it/eventi/club-dei-giovani-lettori/2026-04-01/
LOCATION:Biblioteca di Ravina\, Ravina di Trento 
CATEGORIES:In biblioteca
GEO:46.0378903;11.1074085
END:VEVENT
BEGIN:VEVENT
DTSTART;TZID=Europe/Rome:20260401T170000
DTEND;TZID=Europe/Rome:20260401T180000
DTSTAMP:20260422T222014
CREATED:20260106T105848Z
LAST-MODIFIED:20260106T105848Z
UID:10022709-1775062800-1775066400@www.iltrentinodeibambini.it
SUMMARY:Corso di scacchi
DESCRIPTION:Corso base di scacchi per bambini e bambine a partire dai 6 anni\, adolescenti e adulti. Maggiori dettagli QUI. \n\nQuando: tutti i mercoledì alle ore 17.00\nDove: biblioteca comunale di Meano\nCosto: partecipazione gratuita\nInfo: prenotazione consigliata allo 0461.889758 o via e-mail biblioteca.meano@comune.trento.it\n\nScoprite tutti gli appuntamenti per bambini e ragazzi nelle biblioteche comunali di Trento QUI.
URL:https://www.iltrentinodeibambini.it/eventi/corso-di-scacchi-3-2/2026-04-01/
LOCATION:Biblioteca di Meano\, Via delle Sugarine\, 26\, Meano 
CATEGORIES:In biblioteca
GEO:46.1262652;11.1167911
X-APPLE-STRUCTURED-LOCATION;VALUE=URI;X-ADDRESS=Biblioteca di Meano Via delle Sugarine 26 Meano;X-APPLE-RADIUS=500;X-TITLE=Via delle Sugarine\, 26:geo:11.1167911,46.1262652
END:VEVENT
BEGIN:VEVENT
DTSTART;TZID=Europe/Rome:20260401T213000
DTEND;TZID=Europe/Rome:20260401T230000
DTSTAMP:20260422T222014
CREATED:20260205T074533Z
LAST-MODIFIED:20260205T074533Z
UID:10022910-1775079000-1775084400@www.iltrentinodeibambini.it
SUMMARY:Carezza snow night
DESCRIPTION:Uno show entusiasmante – ad accesso libero e gratuito – dove si susseguono acrobazie dei maestri di sci e snowboard\, rappresentazioni con abiti d’epoca\, simulazioni di soccorso e sempre nuove sorprese. Grandi e piccoli rimarranno a bocca aperta! \n\nQuando: mercoledì 4 marzo e mercoledì 1 aprile 2026 alle ore 21.30\nDove: sulla pista Prà di Tori a Passo Costalunga\n\nMaggiori info su Carezza snow night QUI.
URL:https://www.iltrentinodeibambini.it/eventi/carezza-snow-night/2026-04-01/
LOCATION:passo costalunga\, Italia
CATEGORIES:Eventi speciali
END:VEVENT
END:VCALENDAR