BEGIN:VCALENDAR
VERSION:2.0
PRODID:-//Il Trentino dei Bambini - ECPv6.13.2//NONSGML v1.0//EN
CALSCALE:GREGORIAN
METHOD:PUBLISH
X-ORIGINAL-URL:https://www.iltrentinodeibambini.it
X-WR-CALDESC:Eventi per Il Trentino dei Bambini
REFRESH-INTERVAL;VALUE=DURATION:PT1H
X-Robots-Tag:noindex
X-PUBLISHED-TTL:PT1H
BEGIN:VTIMEZONE
TZID:Europe/Rome
BEGIN:DAYLIGHT
TZOFFSETFROM:+0100
TZOFFSETTO:+0200
TZNAME:CEST
DTSTART:20260329T010000
END:DAYLIGHT
BEGIN:STANDARD
TZOFFSETFROM:+0200
TZOFFSETTO:+0100
TZNAME:CET
DTSTART:20261025T010000
END:STANDARD
END:VTIMEZONE
BEGIN:VEVENT
DTSTART;VALUE=DATE:20260328
DTEND;VALUE=DATE:20260406
DTSTAMP:20260422T222013
CREATED:20260303T210713Z
LAST-MODIFIED:20260303T210713Z
UID:10023021-1774656000-1775433599@www.iltrentinodeibambini.it
SUMMARY:Caccia alle uova
DESCRIPTION:Dal 28 marzo al 5 aprile 2026 \nAnche quest’anno un morbido coniglietto pasquale ha nascosto tante uova colorate nelle sale del museo: riuscirete a trovarle durante la vostra visita? Ogni uovo riporta un indizio utile per ricomporre una parola misteriosa che vi permetterà di partecipare all’estrazione di bellissimi premi! La caccia alle uova unisce gioco e didattica: non serve prenotarsi ed è compresa nel biglietto di ingresso del museo! \nDOVE: Museo di Scienze Naturali di Bolzano\nQUANDO: dal 28 marzo al 5 aprile 2026\nORARIO: orario di apertura del Museo\nPRENOTAZIONE: non necessaria \nInfo: Tel. 0471 412964 \nConosci il Museo di Scienze Naturali di Bolzano? Clicca Bolzano: Museo di Scienze Naturali\noppure apri questa pagina per scoprire tutti gli eventi per famiglie: Bolzano: attività family al Museo di Scienze Naturali
URL:https://www.iltrentinodeibambini.it/eventi/caccia-alle-uova/
LOCATION:Museo di Scienze Naturali dell’Alto Adige\, Via dei Bottai\, 1\, Bolzano\, 39100
CATEGORIES:Al Museo,Eventi speciali
GEO:46.501143;11.3568627
X-APPLE-STRUCTURED-LOCATION;VALUE=URI;X-ADDRESS=Museo di Scienze Naturali dell’Alto Adige Via dei Bottai 1 Bolzano 39100;X-APPLE-RADIUS=500;X-TITLE=Via dei Bottai\, 1:geo:11.3568627,46.501143
END:VEVENT
BEGIN:VEVENT
DTSTART;TZID=Europe/Rome:20260402T090000
DTEND;TZID=Europe/Rome:20260402T113000
DTSTAMP:20260422T222013
CREATED:20260106T110321Z
LAST-MODIFIED:20260106T110321Z
UID:10022743-1775120400-1775129400@www.iltrentinodeibambini.it
SUMMARY:Centro genitori bambini in biblioteca
DESCRIPTION:Uno spazio dedicato a genitori e bambini da o a 3 anni dove possono condividere momenti di gioco\, musica\, lettura e coccole. \n\nQuando: tutti i giovedì e i venerdì dalle 9.00 alle 11.45\nDove: biblioteca Ragazzi – palazzina Liberty\nCosto: partecipazione gratuita\nInfo: tel. 0461.889559 | biblioteca.ragazzi@comune.trento.it\n\nScoprite tutti gli appuntamenti per bambini e ragazzi nelle biblioteche del comune di Trento QUI.
URL:https://www.iltrentinodeibambini.it/eventi/centro-genitori-bambini-in-biblioteca-3-2/2026-04-02/
LOCATION:palazzina Liberty\, Piazza Dante\, Trento
CATEGORIES:Eventi speciali,In biblioteca
END:VEVENT
BEGIN:VEVENT
DTSTART;TZID=Europe/Rome:20260402T143000
DTEND;TZID=Europe/Rome:20260402T160000
DTSTAMP:20260422T222013
CREATED:20260330T154958Z
LAST-MODIFIED:20260330T160708Z
UID:10023089-1775140200-1775145600@www.iltrentinodeibambini.it
SUMMARY:Laboratorio d'Arte
DESCRIPTION:Realizzeremo una decorazione primaverile da appendere\, sperimentando materiali e colori in modo creativo e divertente. \nQuando:  2/04/2026  Orario: 14:30 – 16:00 \nDove : presso Trentum scuola \nEstate con Trentum Scuola \n \nQuota: 15€ a laboratorio \n\n Prenotazioni: 353 448 4938 \n\nIscrivendosi al Camp Primaverile 2026  i laboratori sono già inclusi!\nDate un’occhiata qui per tutti i dettagli: https://www.trentum.info/le-colonie/ \n\n\n 
URL:https://www.iltrentinodeibambini.it/eventi/laboratorio-darte/
LOCATION:Trentum Scuola\, Via San Severino 39/3\, Trento\, 38123\, Italia
CATEGORIES:Laboratori
END:VEVENT
BEGIN:VEVENT
DTSTART;TZID=Europe/Rome:20260402T160000
DTEND;TZID=Europe/Rome:20260402T170000
DTSTAMP:20260422T222013
CREATED:20260327T071607Z
LAST-MODIFIED:20260327T071607Z
UID:10023071-1775145600-1775149200@www.iltrentinodeibambini.it
SUMMARY:La marcia degli alberi
DESCRIPTION:Lettura e laboratorio teatrale per bambin* da 5 a 10 anni in compagnia dell’autrice dell’albo “quando la foresta camminò” che vi trasformerà in foresta. \n\nQuando: giovedì 2 aprile 2026 alle ore 16.00\nDove: libreria Utopia in via Calepina\, 73 – Trento\nCosto: partecipazione gratuita\nInfo: iscrizioni al numero 377.5747471
URL:https://www.iltrentinodeibambini.it/eventi/la-marcia-degli-alberi/
LOCATION:libreria Utopia\, via Calepina\, 73\, Trento
CATEGORIES:Eventi speciali,Laboratori
END:VEVENT
BEGIN:VEVENT
DTSTART;TZID=Europe/Rome:20260402T160000
DTEND;TZID=Europe/Rome:20260402T173000
DTSTAMP:20260422T222013
CREATED:20260316T154200Z
LAST-MODIFIED:20260316T155659Z
UID:10023047-1775145600-1775151000@www.iltrentinodeibambini.it
SUMMARY:A tutta cupola KIDS
DESCRIPTION:Grazie al nuovo proiettore digitale\, il Planetario del Museo di Scienze e Archeologia diventa un piccolo cinema immersivo con proiezioni fulldome\, a tutta cupola\, per avere un’esperienza ancora più coinvolgente. I filmati\, con titoli che variano settimanalmente\, hanno una durata compresa tra i 20 ed i 30 minuti. \n\nProssimi appuntamenti 2026: \n\nsabato 28 marzo: La Regata spaziale\ngiovedì 2 aprile (speciale Pasqua) – Persi in Mezzo al Mare e La Forgia di Artemide\nvenerdì 3 aprile (speciale Pasqua) – Persi in Mezzo al Mare e La Forgia di Artemide\nlunedì 6 aprile (speciale Pasqua) – Persi in Mezzo al Mare e La Forgia di Artemide\nmartedì 7 aprile (speciale Pasqua) – Persi in Mezzo al Mare e La Forgia di Artemide\nmercoledì 8 aprile (speciale Pasqua) – Persi in Mezzo al Mare e La Forgia di Artemide\nsabato 11 aprile – Persi in Mezzo al Mare e La Forgia di Artemide\nsabato 25 aprile – Persi in Mezzo al Mare e La Forgia di Artemide\nsabato 9 maggio – Persi in Mezzo al Mare e La Forgia di Artemide\nsabato 23 maggio – Persi in Mezzo al Mare e La Forgia di Artemide\n\nORARIO:  alle ore 16.00 e alle 17.00 \nDOVE: Planetario del Museo di Scienze e Archeologia di Rovereto\nCOSTO: 3 euro a persona. Per gli appuntamenti KIDS viene richiesta la presenza di un adulto accompagnatore.\nPRENOTAZIONE:  Posti limitati\, prenotazione obbligatoria entro le 17.00 del giorno precedente l’inizio dell’attività.  FILMATI A TUTTA CUPOLA KIDS (consigliati per bambini e bambine dai 6 agli 11 anni): prenota QUI \n\nInfo: 0464 452800 – museo@fondazionemcr.it \nClicca per conoscere meglio il Super Planetario Digitale a Rovereto \nConosci il Museo di Scienze e Archeologia di Rovereto? Scopri di più in Fondazione Museo Civico Rovereto
URL:https://www.iltrentinodeibambini.it/eventi/a-tutta-cupola-kids-2/2026-04-02/
LOCATION:Museo di Scienze e Archeologia e Planetario\, Borgo Santa Caterina\, 41\, Rovereto\, 38068\, Italia
CATEGORIES:Al Museo,Eventi speciali,Spettacoli
END:VEVENT
BEGIN:VEVENT
DTSTART;TZID=Europe/Rome:20260402T163000
DTEND;TZID=Europe/Rome:20260402T173000
DTSTAMP:20260422T222013
CREATED:20260302T121502Z
LAST-MODIFIED:20260331T064644Z
UID:10023008-1775147400-1775151000@www.iltrentinodeibambini.it
SUMMARY:Storie in fiore
DESCRIPTION:Letture ad alta voce in biblioteca per bambine e bambini da 3 a 6 anni. \n\nQuando: giovedì 2 e 16 aprile 2026 alle 16.30\nDove: biblioteca comunale – sede di Povo\nCosto: partecipazione gratuita\nInfo: tel. 0461.889918 | biblioteca.povo@comune.trento.it\n\nTutti gli appuntamenti per bambini e ragazzi nelle biblioteche del comune di Trento QUI.
URL:https://www.iltrentinodeibambini.it/eventi/storie-in-fiore/2026-04-02/
LOCATION:biblioteca di Povo\, Via Don Tommaso Dallafior
CATEGORIES:In biblioteca
END:VEVENT
BEGIN:VEVENT
DTSTART;TZID=Europe/Rome:20260402T163000
DTEND;TZID=Europe/Rome:20260402T180000
DTSTAMP:20260422T222013
CREATED:20260315T143847Z
LAST-MODIFIED:20260315T143847Z
UID:10023040-1775147400-1775152800@www.iltrentinodeibambini.it
SUMMARY:letture e laboratori in biblioteca a Storo
DESCRIPTION:La biblioteca di Storo in collaborazione con la lettrice Elisa Bort organizza pomeriggi per bambini con letture e laboratori \nDate:  \n\nVENERDì 13 MARZO\, ore 16.50: letture e laboratori a tema “Il mio papà è un eroe”.\nGIOVEDì 2 APRILE\, ore 16.50: letture e laboratori a tema “Quanti conigli”\nVENERDì 8 MAGGIO\, ore 16.50: letture e laboratori a tema “Ti voglio bene mamma!”\n\nIngresso libero\, ma su prenotazione (storo@biblio.tn.it\, oppure chiamando 0465.686910). Attività indicata per bambini dai 4 agli 8 anni. \n 
URL:https://www.iltrentinodeibambini.it/eventi/letture-e-laboratori-in-biblioteca-a-storo/2026-04-02/
LOCATION:Biblioteca di Storo\, Via della Conciliazione 5\, Storo\, TN\, 38089\, Italia
CATEGORIES:In biblioteca,Laboratori
END:VEVENT
END:VCALENDAR